BEGIN:VCALENDAR
VERSION:2.0
PRODID:-//Kurzzeitladen - ECPv6.15.17.1//NONSGML v1.0//EN
CALSCALE:GREGORIAN
METHOD:PUBLISH
X-WR-CALNAME:Kurzzeitladen
X-ORIGINAL-URL:https://kurzzeitladen.de
X-WR-CALDESC:Veranstaltungen für Kurzzeitladen
REFRESH-INTERVAL;VALUE=DURATION:PT1H
X-Robots-Tag:noindex
X-PUBLISHED-TTL:PT1H
BEGIN:VTIMEZONE
TZID:Europe/Berlin
BEGIN:DAYLIGHT
TZOFFSETFROM:+0100
TZOFFSETTO:+0200
TZNAME:CEST
DTSTART:20240331T010000
END:DAYLIGHT
BEGIN:STANDARD
TZOFFSETFROM:+0200
TZOFFSETTO:+0100
TZNAME:CET
DTSTART:20241027T010000
END:STANDARD
BEGIN:DAYLIGHT
TZOFFSETFROM:+0100
TZOFFSETTO:+0200
TZNAME:CEST
DTSTART:20250330T010000
END:DAYLIGHT
BEGIN:STANDARD
TZOFFSETFROM:+0200
TZOFFSETTO:+0100
TZNAME:CET
DTSTART:20251026T010000
END:STANDARD
BEGIN:DAYLIGHT
TZOFFSETFROM:+0100
TZOFFSETTO:+0200
TZNAME:CEST
DTSTART:20260329T010000
END:DAYLIGHT
BEGIN:STANDARD
TZOFFSETFROM:+0200
TZOFFSETTO:+0100
TZNAME:CET
DTSTART:20261025T010000
END:STANDARD
END:VTIMEZONE
BEGIN:VEVENT
DTSTART;TZID=Europe/Berlin:20251210T170000
DTEND;TZID=Europe/Berlin:20251210T190000
DTSTAMP:20260421T190541
CREATED:20250826T165833Z
LAST-MODIFIED:20251110T142626Z
UID:10003473-1765386000-1765393200@kurzzeitladen.de
SUMMARY:Maker Advent: Kreiere dein eigenes Badesalz oder Körperöl
DESCRIPTION:Zwischen Weihnachtsstress und Jahresendtrubel tut ein bisschen Wellness richtig gut. In diesem Workshop mit Aromatherapeutin Ramona Hegewald kann man sich kleine Auszeiten in Fläschchen und Gläser abfüllen. Darf es ein duftendes Badesalz oder ein wohltuendes Körperöl sein?\nSoll es nach Rose\, Lavendel oder Thymian riechen? Mit hochwertigen ätherischen Ölen wird gemischt\, gerührt und ausprobiert\, bis der ganz persönliche Lieblingsduft gefunden ist. Alles\, was dafür gebraucht wird\, steht bereit. Am Ende hält man ein gutes Stück Entspannung in den Händen\, das die Sinne belebt und nachhaltig wirkt. \nDatum: 10.12.2025\nUhrzeit: 17-19 Uhr\nOrt: Kurzzeitladen Aktiv\, Bahnhofstr. 4\, 09221 Neukirchen Erz.\nAnfahrt: erreichbar mit ÖPNV und Pkw \nAnmeldung: info@kurzzeitladen.de / 0170 8916322\nPreis: 35 Euro (inkl. Material und Getränke)\nGruppengröße: 10 Personen (mind. 4 Personen)\nGeeignet für: alle ab 10 Jahren
URL:https://kurzzeitladen.de/event/maker-advent-kreiere-dein-eigenes-badesalz-oder-koerperoel/
LOCATION:Kurzzeitladen Aktiv\, Bahnhofstraße 4\, Neukirchen / Erzgebirge\, Sachsen\, 09221\, Deutschland
CATEGORIES:Kurzzeitladen Aktiv Neukirchen
END:VEVENT
END:VCALENDAR