BEGIN:VCALENDAR
VERSION:2.0
PRODID:-//Kurzzeitladen - ECPv6.15.17.1//NONSGML v1.0//EN
CALSCALE:GREGORIAN
METHOD:PUBLISH
X-WR-CALNAME:Kurzzeitladen
X-ORIGINAL-URL:https://kurzzeitladen.de
X-WR-CALDESC:Veranstaltungen für Kurzzeitladen
REFRESH-INTERVAL;VALUE=DURATION:PT1H
X-Robots-Tag:noindex
X-PUBLISHED-TTL:PT1H
BEGIN:VTIMEZONE
TZID:Europe/Berlin
BEGIN:DAYLIGHT
TZOFFSETFROM:+0100
TZOFFSETTO:+0200
TZNAME:CEST
DTSTART:20240331T010000
END:DAYLIGHT
BEGIN:STANDARD
TZOFFSETFROM:+0200
TZOFFSETTO:+0100
TZNAME:CET
DTSTART:20241027T010000
END:STANDARD
BEGIN:DAYLIGHT
TZOFFSETFROM:+0100
TZOFFSETTO:+0200
TZNAME:CEST
DTSTART:20250330T010000
END:DAYLIGHT
BEGIN:STANDARD
TZOFFSETFROM:+0200
TZOFFSETTO:+0100
TZNAME:CET
DTSTART:20251026T010000
END:STANDARD
BEGIN:DAYLIGHT
TZOFFSETFROM:+0100
TZOFFSETTO:+0200
TZNAME:CEST
DTSTART:20260329T010000
END:DAYLIGHT
BEGIN:STANDARD
TZOFFSETFROM:+0200
TZOFFSETTO:+0100
TZNAME:CET
DTSTART:20261025T010000
END:STANDARD
END:VTIMEZONE
BEGIN:VEVENT
DTSTART;TZID=Europe/Berlin:20251220T090000
DTEND;TZID=Europe/Berlin:20251220T120000
DTSTAMP:20260421T174603
CREATED:20251205T110236Z
LAST-MODIFIED:20251205T110514Z
UID:10005667-1766221200-1766232000@kurzzeitladen.de
SUMMARY:Weihnachtsaktion im Kurzzeiladen Neukirchen
DESCRIPTION:Mitmachangebote zur Weihnachtsaktion:\nMo. 15.12. von 10-17 Uhr: LASERGRAVUR\nPersonalisiere deine Geschenke aus Holz \nDi. 16.12. von 10-17 Uhr: MINI-LEINWÄNDE BEMALEN \nMi. 17.12. von 10- 17 Uhr: WEIHNACHTLICHE FENSTERANHÄNGER BASTELN \nDo. 18.12. ab 14:30 Uhr: PERLENKETTEN FÄDELN\nIm kreativen Workshops mit Letter Joana dürfen Kinder und auch Erwachsene selbst aktiv werden: ihr gestaltet eure eigenen personalisierten Anhänger!\nEntdecket eure kreative Seite und erlebt\, wie aus einfachen Materialien etwas ganz Persönliches entsteht. Als besonderes Highlight darf natürlich ein kleiner Charm-Hingucker nicht fehlen – das i-Tüpfelchen jedes Designs! ✨ \nFr. 19.12. von 10- 17 Uhr: KLEINE WEIHNACHTSDEKO AUS BETON BEMALEN \nSa. 20.12. von 9- 12 Uhr: MINI-LEINWÄNDE BEMALEN
URL:https://kurzzeitladen.de/event/weihnachtsaktion/2025-12-20/
LOCATION:Kurzzeitladen Neukirchen\, Hauptstraße 87-89\, Neukirchen / Erzgebirge\, Sachsen\, 09221\, Deutschland
CATEGORIES:Kurzzeitladen Neukirchen
END:VEVENT
BEGIN:VEVENT
DTSTART;TZID=Europe/Berlin:20251220T090000
DTEND;TZID=Europe/Berlin:20251220T120000
DTSTAMP:20260421T174603
CREATED:20251205T155932Z
LAST-MODIFIED:20251205T155932Z
UID:10005943-1766221200-1766232000@kurzzeitladen.de
SUMMARY:Kurzzeitladen Zwönitz geöffnet
DESCRIPTION:
URL:https://kurzzeitladen.de/event/kurzzeitladen-zwoenitz-geoeffnet-4/2025-12-20/
LOCATION:Kurzzeitladen Zwönitz\, Lange Gasse 14\, Zwönitz\, Sachsen\, 09297\, Deutschland
CATEGORIES:Kurzzeitladen Zwönitz
END:VEVENT
END:VCALENDAR