BEGIN:VCALENDAR
VERSION:2.0
PRODID:-//Kurzzeitladen - ECPv6.15.17.1//NONSGML v1.0//EN
CALSCALE:GREGORIAN
METHOD:PUBLISH
X-ORIGINAL-URL:https://kurzzeitladen.de
X-WR-CALDESC:Veranstaltungen für Kurzzeitladen
REFRESH-INTERVAL;VALUE=DURATION:PT1H
X-Robots-Tag:noindex
X-PUBLISHED-TTL:PT1H
BEGIN:VTIMEZONE
TZID:Europe/Berlin
BEGIN:DAYLIGHT
TZOFFSETFROM:+0100
TZOFFSETTO:+0200
TZNAME:CEST
DTSTART:20250330T010000
END:DAYLIGHT
BEGIN:STANDARD
TZOFFSETFROM:+0200
TZOFFSETTO:+0100
TZNAME:CET
DTSTART:20251026T010000
END:STANDARD
BEGIN:DAYLIGHT
TZOFFSETFROM:+0100
TZOFFSETTO:+0200
TZNAME:CEST
DTSTART:20260329T010000
END:DAYLIGHT
BEGIN:STANDARD
TZOFFSETFROM:+0200
TZOFFSETTO:+0100
TZNAME:CET
DTSTART:20261025T010000
END:STANDARD
BEGIN:DAYLIGHT
TZOFFSETFROM:+0100
TZOFFSETTO:+0200
TZNAME:CEST
DTSTART:20270328T010000
END:DAYLIGHT
BEGIN:STANDARD
TZOFFSETFROM:+0200
TZOFFSETTO:+0100
TZNAME:CET
DTSTART:20271031T010000
END:STANDARD
END:VTIMEZONE
BEGIN:VEVENT
DTSTART;TZID=Europe/Berlin:20260211T170000
DTEND;TZID=Europe/Berlin:20260211T183000
DTSTAMP:20260421T022854
CREATED:20250827T132706Z
LAST-MODIFIED:20260113T183049Z
UID:10003475-1770829200-1770834600@kurzzeitladen.de
SUMMARY:Kreativ-HUTZN: Duftkerzen Workshop
DESCRIPTION:Duftkerzen Workshop: 11.2.2026 um 17:00 – ca. 18:30 Uhr\n\n\n\n\n\n\nab 10 Jahren \n\n\nmax. 8 Teilnehmer \n\n\n26\,- Euro inkl. eigener Kerze und Getränke \n\n\n15\,- Euro für jede weitere Kerze \n\n\nOrt: Kurzzeitladen Aktiv\, Bahnhofstr. 4\, 09221 Neukirchen Erz. \n\n\nAnmeldung über: https://buergerbeteiligung.sachsen.de/portal/leader-portal/beteiligung/themen/1058923 \n\n\n\n\n\n\nTauche ein in die kreative Welt der Duftkerzen!Hier lernst du vom Team der Manufaktur Löwe\, wie du deine eigenen Duftkerzen aus hochwertigem Wachs gießt\, mit Duftölen veredelst und individuell dekorierst. \nIm Preis inbegriffen ist eine Kerze inklusive aller Materialien sowie Getränke. Jede weitere Kerze kostet 15 €. \nWeitere Infos: Der Zugang sowie das WC sind nicht barrierefrei. Die Veranstaltung ist ein Angebot von Kurzzeitladen Aktiv + Manufaktur Löwe und findet in Neukirchen\, Bahnhofstr. 4 statt. Maximal 8 Personen können teilnehmen. Für alle ab 10 Jahren. Die Veranstaltung kostet 26 € pro Person. Das Geld bitte in bar mitbringen. Bezahlt wird vor Ort.
URL:https://kurzzeitladen.de/event/kreativ-hutzn-duftkerzen-workshop/
LOCATION:Kurzzeitladen Aktiv\, Bahnhofstraße 4\, Neukirchen / Erzgebirge\, Sachsen\, 09221\, Deutschland
CATEGORIES:Kurzzeitladen Aktiv Neukirchen
END:VEVENT
END:VCALENDAR