BEGIN:VCALENDAR
VERSION:2.0
PRODID:-//Kurzzeitladen - ECPv6.15.17.1//NONSGML v1.0//EN
CALSCALE:GREGORIAN
METHOD:PUBLISH
X-ORIGINAL-URL:https://kurzzeitladen.de
X-WR-CALDESC:Veranstaltungen für Kurzzeitladen
REFRESH-INTERVAL;VALUE=DURATION:PT1H
X-Robots-Tag:noindex
X-PUBLISHED-TTL:PT1H
BEGIN:VTIMEZONE
TZID:Europe/Berlin
BEGIN:DAYLIGHT
TZOFFSETFROM:+0100
TZOFFSETTO:+0200
TZNAME:CEST
DTSTART:20250330T010000
END:DAYLIGHT
BEGIN:STANDARD
TZOFFSETFROM:+0200
TZOFFSETTO:+0100
TZNAME:CET
DTSTART:20251026T010000
END:STANDARD
BEGIN:DAYLIGHT
TZOFFSETFROM:+0100
TZOFFSETTO:+0200
TZNAME:CEST
DTSTART:20260329T010000
END:DAYLIGHT
BEGIN:STANDARD
TZOFFSETFROM:+0200
TZOFFSETTO:+0100
TZNAME:CET
DTSTART:20261025T010000
END:STANDARD
BEGIN:DAYLIGHT
TZOFFSETFROM:+0100
TZOFFSETTO:+0200
TZNAME:CEST
DTSTART:20270328T010000
END:DAYLIGHT
BEGIN:STANDARD
TZOFFSETFROM:+0200
TZOFFSETTO:+0100
TZNAME:CET
DTSTART:20271031T010000
END:STANDARD
END:VTIMEZONE
BEGIN:VEVENT
DTSTART;TZID=Europe/Berlin:20260303T093000
DTEND;TZID=Europe/Berlin:20260303T170000
DTSTAMP:20260423T123959
CREATED:20260228T100228Z
LAST-MODIFIED:20260228T101256Z
UID:10002547-1772530200-1772557200@kurzzeitladen.de
SUMMARY:Verkaufsaktion Kurzzeitladen Zwönitz
DESCRIPTION:
URL:https://kurzzeitladen.de/event/verkaufsaktion-kurzzeitladen-zwoenitz-5/2026-03-03/
LOCATION:Kurzzeitladen Zwönitz\, Lange Gasse 14\, Zwönitz\, Sachsen\, 09297\, Deutschland
CATEGORIES:Kurzzeitladen Zwönitz
END:VEVENT
BEGIN:VEVENT
DTSTART;TZID=Europe/Berlin:20260303T180000
DTEND;TZID=Europe/Berlin:20260303T200000
DTSTAMP:20260423T123959
CREATED:20260113T183550Z
LAST-MODIFIED:20260113T183550Z
UID:10006032-1772560800-1772568000@kurzzeitladen.de
SUMMARY:Kreativ-HUTZN: Parfum kreieren (Zusatztermin!)
DESCRIPTION:Zusatztermin wegen hoher Nachfrage:\n\n\nParfüm kreieren: 03.02.2026 um 18:00 – 20:00 Uhr \n\n\nab 10 Jahren \n\n\nmax. 10 Teilnehmer \n\n\n35\,- Euro inkl. Material und Getränke \n\n\nOrt: Kurzzeitladen Aktiv\, Bahnhofstr. 4\, 09221 Neukirchen Erz. \n\n\nAnmeldung über: https://buergerbeteiligung.sachsen.de/portal/leader-portal/beteiligung/themen/1060599 \n\n\n\n\nProbiere dich aus und finde deinen persönlichen Lieblingsduft! \nIn diesem Workshop lernst du wie du dein eigenes Parfüm kreierst (Flakon) oder einen Roll-On für die kalte Jahreszeit herstellst. \nAlle Materialien werden durch Aromatherapeutin Ramona Hegewald zur Verfügung gestellt.Im Preis inklusive: Getränke\, ein eigenes Parfüm (Flakon) oder einen Roll-On. \nWeitere Infos: Der Zugang sowie das WC sind nicht barrierefrei. Die Veranstaltung ist ein Angebot von Kurzzeitladen Aktiv + Ramona Hegewald und findet in Neukirchen\, Bahnhofstr. 4 statt. Maximal 10 Personen können teilnehmen. Für alle ab 10 Jahren. Die Veranstaltung kostet 35 € pro Person. Das Geld bitte in bar mitbringen. Bezahlt wird vor Ort.
URL:https://kurzzeitladen.de/event/kreativ-hutzn-parfum-kreieren-zusatztermin/
LOCATION:Kurzzeitladen Aktiv\, Bahnhofstraße 4\, Neukirchen / Erzgebirge\, Sachsen\, 09221\, Deutschland
CATEGORIES:Kurzzeitladen Aktiv Neukirchen
END:VEVENT
END:VCALENDAR