BEGIN:VCALENDAR
VERSION:2.0
PRODID:-//Kurzzeitladen - ECPv6.15.17.1//NONSGML v1.0//EN
CALSCALE:GREGORIAN
METHOD:PUBLISH
X-WR-CALNAME:Kurzzeitladen
X-ORIGINAL-URL:https://kurzzeitladen.de
X-WR-CALDESC:Veranstaltungen für Kurzzeitladen
REFRESH-INTERVAL;VALUE=DURATION:PT1H
X-Robots-Tag:noindex
X-PUBLISHED-TTL:PT1H
BEGIN:VTIMEZONE
TZID:Europe/Berlin
BEGIN:DAYLIGHT
TZOFFSETFROM:+0100
TZOFFSETTO:+0200
TZNAME:CEST
DTSTART:20250330T010000
END:DAYLIGHT
BEGIN:STANDARD
TZOFFSETFROM:+0200
TZOFFSETTO:+0100
TZNAME:CET
DTSTART:20251026T010000
END:STANDARD
BEGIN:DAYLIGHT
TZOFFSETFROM:+0100
TZOFFSETTO:+0200
TZNAME:CEST
DTSTART:20260329T010000
END:DAYLIGHT
BEGIN:STANDARD
TZOFFSETFROM:+0200
TZOFFSETTO:+0100
TZNAME:CET
DTSTART:20261025T010000
END:STANDARD
BEGIN:DAYLIGHT
TZOFFSETFROM:+0100
TZOFFSETTO:+0200
TZNAME:CEST
DTSTART:20270328T010000
END:DAYLIGHT
BEGIN:STANDARD
TZOFFSETFROM:+0200
TZOFFSETTO:+0100
TZNAME:CET
DTSTART:20271031T010000
END:STANDARD
END:VTIMEZONE
BEGIN:VEVENT
DTSTART;TZID=Europe/Berlin:20260319T093000
DTEND;TZID=Europe/Berlin:20260319T170000
DTSTAMP:20260421T022019
CREATED:20260228T100427Z
LAST-MODIFIED:20260228T101111Z
UID:10006645-1773912600-1773939600@kurzzeitladen.de
SUMMARY:Verkaufsaktion Kurzzeitladen Zwönitz
DESCRIPTION:
URL:https://kurzzeitladen.de/event/verkaufsaktion-kurzzeitladen-zwoenitz-6/2026-03-19/
LOCATION:Kurzzeitladen Zwönitz\, Lange Gasse 14\, Zwönitz\, Sachsen\, 09297\, Deutschland
CATEGORIES:Kurzzeitladen Zwönitz
END:VEVENT
BEGIN:VEVENT
DTSTART;TZID=Europe/Berlin:20260319T100000
DTEND;TZID=Europe/Berlin:20260319T180000
DTSTAMP:20260421T022019
CREATED:20260310T132530Z
LAST-MODIFIED:20260312T144949Z
UID:10007168-1773914400-1773943200@kurzzeitladen.de
SUMMARY:Verkaufsaktion Italienische Mode
DESCRIPTION:Hier kommt der Frühling 🌸 Italienische Mode ganz nach deinem Geschmack ☀️ \nVom 16.3.-28.3.2026 findet der Aktionsverkauf für italienische Damenmode im Kurzzeitladen Neukirchen Erz. statt. \nAuf der Hauptstraße 87-89 bietet dir Fashion-Kontor Chemnitz für 2 Wochen eine wunderschöne Auswahl an italienischer Frühjahrsmode in den Größen 36-54 an. \nUm das Outfit komplett zu machen\, gibt es passende Accessoires wie Schuhe 👠\, Taschen 👜\, Gürtel\, Modeschmuck 📿 und Tücher. \nNutze die Gelegenheit und schau vorbei. Mach deinen Einkauf zum Erlebnis und unterstütze den Einzelhandel bei dir vor Ort 🧡 \nGeöffnet von:Montag bis Freitag 10-18 UhrSamstag 9-13 Uhr
URL:https://kurzzeitladen.de/event/verkaufsaktion-italienische-mode/2026-03-19/
LOCATION:Kurzzeitladen Neukirchen\, Hauptstraße 87-89\, Neukirchen / Erzgebirge\, Sachsen\, 09221\, Deutschland
CATEGORIES:Kurzzeitladen Neukirchen
END:VEVENT
END:VCALENDAR