BEGIN:VCALENDAR
VERSION:2.0
PRODID:-//Kurzzeitladen - ECPv6.15.17.1//NONSGML v1.0//EN
CALSCALE:GREGORIAN
METHOD:PUBLISH
X-ORIGINAL-URL:https://kurzzeitladen.de
X-WR-CALDESC:Veranstaltungen für Kurzzeitladen
REFRESH-INTERVAL;VALUE=DURATION:PT1H
X-Robots-Tag:noindex
X-PUBLISHED-TTL:PT1H
BEGIN:VTIMEZONE
TZID:Europe/Berlin
BEGIN:DAYLIGHT
TZOFFSETFROM:+0100
TZOFFSETTO:+0200
TZNAME:CEST
DTSTART:20250330T010000
END:DAYLIGHT
BEGIN:STANDARD
TZOFFSETFROM:+0200
TZOFFSETTO:+0100
TZNAME:CET
DTSTART:20251026T010000
END:STANDARD
BEGIN:DAYLIGHT
TZOFFSETFROM:+0100
TZOFFSETTO:+0200
TZNAME:CEST
DTSTART:20260329T010000
END:DAYLIGHT
BEGIN:STANDARD
TZOFFSETFROM:+0200
TZOFFSETTO:+0100
TZNAME:CET
DTSTART:20261025T010000
END:STANDARD
BEGIN:DAYLIGHT
TZOFFSETFROM:+0100
TZOFFSETTO:+0200
TZNAME:CEST
DTSTART:20270328T010000
END:DAYLIGHT
BEGIN:STANDARD
TZOFFSETFROM:+0200
TZOFFSETTO:+0100
TZNAME:CET
DTSTART:20271031T010000
END:STANDARD
END:VTIMEZONE
BEGIN:VEVENT
DTSTART;TZID=Europe/Berlin:20260401T143000
DTEND;TZID=Europe/Berlin:20260401T160000
DTSTAMP:20260420T201346
CREATED:20260227T154821Z
LAST-MODIFIED:20260227T155036Z
UID:10006123-1775053800-1775059200@kurzzeitladen.de
SUMMARY:Perlenkunst Workshop
DESCRIPTION:Beim Workshop “Perlenkunst” mit Letter Joana im Kurzzeitladen Aktiv in Neukirchen Erz. gestaltet ihr gemeinsam mit viel Liebe zum Detail personalisierte Anhänger – kleine Kunstwerke\, die nicht nur schön aussehen\, sondern auch spielerisch die Feinmotorik\, Buchstabenkenntnis und Farbwahrnehmung fördern. \nIn den kreativen Workshops dürfen Kinder (und auch Erwachsene) selbst aktiv werden: Ihr gestaltet eure eigenen Anhänger\, entdecken ihre kreative Seite und erleben\, wie aus einfachen Materialien etwas ganz Persönliches entsteht. Als besonderes Highlight darf natürlich ein kleiner Charm-Hingucker nicht fehlen – das i-Tüpfelchen jedes Designs! 🤍 \nFür wen ist der Kurs geeignet?Für Kinder von 5-12 Jahren gemeinsam mit einer Begleitperson\, Jugendliche\, Erwachsene\, Senioren\, Menschen mit Behinderung & Kreative Köpfe \nWas ist im Kurs inklusive?-> 2 personalisierte Anhänger-> Snack und Getränke-> gemeinsame Zeit & kennenlernen von netten Kreativen Menschen \nWie viel kostet der Kurs?20\,00 € pro Kind (5-12 Jahre) inklusive einer Begleitperson \nWann findet der Workshop statt?-> Mi. 18.03.2026 von 16:00-18:00 Uhr-> Fr. 20.03.2026 von 16:00-18:00 Uhr-> Mi. 01.04.2026 von 14:30-16:00 Uhr-> Sa. 11.04.2026 von 14:30-16:00 Uhr \nAnmeldung unter:https://gokonfetti.com/de-de/e/perlenkunst-workshop-bei-chemnitz-kreativ-ab-5-jahre-xnqoe4/
URL:https://kurzzeitladen.de/event/perlenkunst-workshop/2026-04-01/
LOCATION:Kurzzeitladen Aktiv\, Bahnhofstraße 4\, Neukirchen / Erzgebirge\, Sachsen\, 09221\, Deutschland
CATEGORIES:Kurzzeitladen Aktiv Neukirchen
END:VEVENT
END:VCALENDAR