BEGIN:VCALENDAR
VERSION:2.0
PRODID:-//Kurzzeitladen - ECPv6.15.17.1//NONSGML v1.0//EN
CALSCALE:GREGORIAN
METHOD:PUBLISH
X-WR-CALNAME:Kurzzeitladen
X-ORIGINAL-URL:https://kurzzeitladen.de
X-WR-CALDESC:Veranstaltungen für Kurzzeitladen
REFRESH-INTERVAL;VALUE=DURATION:PT1H
X-Robots-Tag:noindex
X-PUBLISHED-TTL:PT1H
BEGIN:VTIMEZONE
TZID:Europe/Berlin
BEGIN:DAYLIGHT
TZOFFSETFROM:+0100
TZOFFSETTO:+0200
TZNAME:CEST
DTSTART:20250330T010000
END:DAYLIGHT
BEGIN:STANDARD
TZOFFSETFROM:+0200
TZOFFSETTO:+0100
TZNAME:CET
DTSTART:20251026T010000
END:STANDARD
BEGIN:DAYLIGHT
TZOFFSETFROM:+0100
TZOFFSETTO:+0200
TZNAME:CEST
DTSTART:20260329T010000
END:DAYLIGHT
BEGIN:STANDARD
TZOFFSETFROM:+0200
TZOFFSETTO:+0100
TZNAME:CET
DTSTART:20261025T010000
END:STANDARD
BEGIN:DAYLIGHT
TZOFFSETFROM:+0100
TZOFFSETTO:+0200
TZNAME:CEST
DTSTART:20270328T010000
END:DAYLIGHT
BEGIN:STANDARD
TZOFFSETFROM:+0200
TZOFFSETTO:+0100
TZNAME:CET
DTSTART:20271031T010000
END:STANDARD
END:VTIMEZONE
BEGIN:VEVENT
DTSTART;TZID=Europe/Berlin:20260417T093000
DTEND;TZID=Europe/Berlin:20260417T170000
DTSTAMP:20260420T233008
CREATED:20260228T100613Z
LAST-MODIFIED:20260228T101020Z
UID:10006389-1776418200-1776445200@kurzzeitladen.de
SUMMARY:Verkaufsaktion Kurzzeitladen Zwönitz
DESCRIPTION:
URL:https://kurzzeitladen.de/event/verkaufsaktion-kurzzeitladen-zwoenitz-7/2026-04-17/
LOCATION:Kurzzeitladen Zwönitz\, Lange Gasse 14\, Zwönitz\, Sachsen\, 09297\, Deutschland
CATEGORIES:Kurzzeitladen Zwönitz
END:VEVENT
BEGIN:VEVENT
DTSTART;TZID=Europe/Berlin:20260417T180000
DTEND;TZID=Europe/Berlin:20260417T200000
DTSTAMP:20260420T233008
CREATED:20260312T150050Z
LAST-MODIFIED:20260312T150050Z
UID:10007187-1776448800-1776456000@kurzzeitladen.de
SUMMARY:Workshop: Parfum kreieren
DESCRIPTION:Parfum kreieren Workshop17. April | 18:00 Uhr – 20:00 Uhr \nOrt: Kurzzeitladen Aktiv\, Bahnhofstr. 4\, 09221 Neukirchen Erz. \nAnmeldung bei Ramona Hegewald unter:Tel.: 0174 9010 502E-Mail: hybericum@web.de \nProbiere dich aus und finde deinen persönlichen Lieblingsduft!In diesem Workshop lernst du wie du dein eigenes Parfüm kreierst oder einen Roll-On für mehr Entspanntheit im Alltagstrubel herstellst. \nAlle Materialien werden durch Aromatherapeutin Ramona Hegewald zur Verfügung gestellt.Im Preis inklusive: Getränke\, ein eigenes Parfüm oder einen Roll-On. \nWeitere Infos: Der Zugang sowie das WC sind nicht barrierefrei. Die Veranstaltung ist ein Angebot von Ramona Hegewald + Kurzzeitladen Aktiv und findet in Neukirchen Erz.\, Bahnhofstr. 4 statt. Maximal 10 Personen können teilnehmen. Für alle ab 10 Jahren. Die Veranstaltung kostet 35 € pro Person.
URL:https://kurzzeitladen.de/event/workshop-parfum-kreieren/
LOCATION:Kurzzeitladen Aktiv\, Bahnhofstraße 4\, Neukirchen / Erzgebirge\, Sachsen\, 09221\, Deutschland
CATEGORIES:Kurzzeitladen Aktiv Neukirchen
END:VEVENT
END:VCALENDAR