BEGIN:VCALENDAR
VERSION:2.0
PRODID:-//Kurzzeitladen - ECPv6.15.17.1//NONSGML v1.0//EN
CALSCALE:GREGORIAN
METHOD:PUBLISH
X-ORIGINAL-URL:https://kurzzeitladen.de
X-WR-CALDESC:Veranstaltungen für Kurzzeitladen
REFRESH-INTERVAL;VALUE=DURATION:PT1H
X-Robots-Tag:noindex
X-PUBLISHED-TTL:PT1H
BEGIN:VTIMEZONE
TZID:Europe/Berlin
BEGIN:DAYLIGHT
TZOFFSETFROM:+0100
TZOFFSETTO:+0200
TZNAME:CEST
DTSTART:20250330T010000
END:DAYLIGHT
BEGIN:STANDARD
TZOFFSETFROM:+0200
TZOFFSETTO:+0100
TZNAME:CET
DTSTART:20251026T010000
END:STANDARD
BEGIN:DAYLIGHT
TZOFFSETFROM:+0100
TZOFFSETTO:+0200
TZNAME:CEST
DTSTART:20260329T010000
END:DAYLIGHT
BEGIN:STANDARD
TZOFFSETFROM:+0200
TZOFFSETTO:+0100
TZNAME:CET
DTSTART:20261025T010000
END:STANDARD
BEGIN:DAYLIGHT
TZOFFSETFROM:+0100
TZOFFSETTO:+0200
TZNAME:CEST
DTSTART:20270328T010000
END:DAYLIGHT
BEGIN:STANDARD
TZOFFSETFROM:+0200
TZOFFSETTO:+0100
TZNAME:CET
DTSTART:20271031T010000
END:STANDARD
END:VTIMEZONE
BEGIN:VEVENT
DTSTART;TZID=Europe/Berlin:20260302T180000
DTEND;TZID=Europe/Berlin:20260302T200000
DTSTAMP:20260420T201528
CREATED:20250827T132834Z
LAST-MODIFIED:20260227T154420Z
UID:10003476-1772474400-1772481600@kurzzeitladen.de
SUMMARY:Kreativ-HUTZN: Parfum kreieren
DESCRIPTION:Parfüm kreieren: 23.2.2026 um 18:00 – 20:00 Uhr \n\n\nab 10 Jahren \n\n\nmax. 10 Teilnehmer \n\n\n35\,- Euro inkl. Material und Getränke \n\n\nOrt: Kurzzeitladen Aktiv\, Bahnhofstr. 4\, 09221 Neukirchen Erz. \n\n\nAnmeldung über: https://buergerbeteiligung.sachsen.de/portal/leader-portal/beteiligung/themen/1059144 \n\n\n\n\nProbiere dich aus und finde deinen persönlichen Lieblingsduft! \nIn diesem Workshop lernst du wie du dein eigenes Parfüm kreierst oder einen Roll-On für die kalte Jahreszeit herstellst. \nAlle Materialien werden durch Aromatherapeutin Ramona Hegewald zur Verfügung gestellt.Im Preis inklusive: Getränke\, ein eigenes Parfüm oder einen Roll-On. \nWeitere Infos: Der Zugang sowie das WC sind nicht barrierefrei. Die Veranstaltung ist ein Angebot von Kurzzeitladen Aktiv + Ramona Hegewald und findet in Neukirchen\, Bahnhofstr. 4 statt. Maximal 10 Personen können teilnehmen. Für alle ab 10 Jahren. Die Veranstaltung kostet 35 € pro Person. Das Geld bitte in bar mitbringen. Bezahlt wird vor Ort.
URL:https://kurzzeitladen.de/event/kreativ-hutzn-parfum-kreieren/
LOCATION:Kurzzeitladen Aktiv\, Bahnhofstraße 4\, Neukirchen / Erzgebirge\, Sachsen\, 09221\, Deutschland
CATEGORIES:Kurzzeitladen Aktiv Neukirchen
END:VEVENT
BEGIN:VEVENT
DTSTART;TZID=Europe/Berlin:20260303T093000
DTEND;TZID=Europe/Berlin:20260303T170000
DTSTAMP:20260420T201528
CREATED:20260228T100228Z
LAST-MODIFIED:20260228T101256Z
UID:10002547-1772530200-1772557200@kurzzeitladen.de
SUMMARY:Verkaufsaktion Kurzzeitladen Zwönitz
DESCRIPTION:
URL:https://kurzzeitladen.de/event/verkaufsaktion-kurzzeitladen-zwoenitz-5/2026-03-03/
LOCATION:Kurzzeitladen Zwönitz\, Lange Gasse 14\, Zwönitz\, Sachsen\, 09297\, Deutschland
CATEGORIES:Kurzzeitladen Zwönitz
END:VEVENT
BEGIN:VEVENT
DTSTART;TZID=Europe/Berlin:20260303T180000
DTEND;TZID=Europe/Berlin:20260303T200000
DTSTAMP:20260420T201528
CREATED:20260113T183550Z
LAST-MODIFIED:20260113T183550Z
UID:10006032-1772560800-1772568000@kurzzeitladen.de
SUMMARY:Kreativ-HUTZN: Parfum kreieren (Zusatztermin!)
DESCRIPTION:Zusatztermin wegen hoher Nachfrage:\n\n\nParfüm kreieren: 03.02.2026 um 18:00 – 20:00 Uhr \n\n\nab 10 Jahren \n\n\nmax. 10 Teilnehmer \n\n\n35\,- Euro inkl. Material und Getränke \n\n\nOrt: Kurzzeitladen Aktiv\, Bahnhofstr. 4\, 09221 Neukirchen Erz. \n\n\nAnmeldung über: https://buergerbeteiligung.sachsen.de/portal/leader-portal/beteiligung/themen/1060599 \n\n\n\n\nProbiere dich aus und finde deinen persönlichen Lieblingsduft! \nIn diesem Workshop lernst du wie du dein eigenes Parfüm kreierst (Flakon) oder einen Roll-On für die kalte Jahreszeit herstellst. \nAlle Materialien werden durch Aromatherapeutin Ramona Hegewald zur Verfügung gestellt.Im Preis inklusive: Getränke\, ein eigenes Parfüm (Flakon) oder einen Roll-On. \nWeitere Infos: Der Zugang sowie das WC sind nicht barrierefrei. Die Veranstaltung ist ein Angebot von Kurzzeitladen Aktiv + Ramona Hegewald und findet in Neukirchen\, Bahnhofstr. 4 statt. Maximal 10 Personen können teilnehmen. Für alle ab 10 Jahren. Die Veranstaltung kostet 35 € pro Person. Das Geld bitte in bar mitbringen. Bezahlt wird vor Ort.
URL:https://kurzzeitladen.de/event/kreativ-hutzn-parfum-kreieren-zusatztermin/
LOCATION:Kurzzeitladen Aktiv\, Bahnhofstraße 4\, Neukirchen / Erzgebirge\, Sachsen\, 09221\, Deutschland
CATEGORIES:Kurzzeitladen Aktiv Neukirchen
END:VEVENT
BEGIN:VEVENT
DTSTART;TZID=Europe/Berlin:20260305T093000
DTEND;TZID=Europe/Berlin:20260305T170000
DTSTAMP:20260420T201528
CREATED:20260228T100427Z
LAST-MODIFIED:20260228T101111Z
UID:10002546-1772703000-1772730000@kurzzeitladen.de
SUMMARY:Verkaufsaktion Kurzzeitladen Zwönitz
DESCRIPTION:
URL:https://kurzzeitladen.de/event/verkaufsaktion-kurzzeitladen-zwoenitz-6/2026-03-05/
LOCATION:Kurzzeitladen Zwönitz\, Lange Gasse 14\, Zwönitz\, Sachsen\, 09297\, Deutschland
CATEGORIES:Kurzzeitladen Zwönitz
END:VEVENT
BEGIN:VEVENT
DTSTART;TZID=Europe/Berlin:20260306T093000
DTEND;TZID=Europe/Berlin:20260306T170000
DTSTAMP:20260420T201528
CREATED:20260228T100613Z
LAST-MODIFIED:20260228T101020Z
UID:10002545-1772789400-1772816400@kurzzeitladen.de
SUMMARY:Verkaufsaktion Kurzzeitladen Zwönitz
DESCRIPTION:
URL:https://kurzzeitladen.de/event/verkaufsaktion-kurzzeitladen-zwoenitz-7/2026-03-06/
LOCATION:Kurzzeitladen Zwönitz\, Lange Gasse 14\, Zwönitz\, Sachsen\, 09297\, Deutschland
CATEGORIES:Kurzzeitladen Zwönitz
END:VEVENT
BEGIN:VEVENT
DTSTART;TZID=Europe/Berlin:20260307T090000
DTEND;TZID=Europe/Berlin:20260307T120000
DTSTAMP:20260420T201528
CREATED:20260228T100830Z
LAST-MODIFIED:20260228T100921Z
UID:10002762-1772874000-1772884800@kurzzeitladen.de
SUMMARY:Verkaufsaktion Kurzzeitladen Zwönitz
DESCRIPTION:
URL:https://kurzzeitladen.de/event/verkaufsaktion-kurzzeitladen-zwoenitz-3-2/2026-03-07/
LOCATION:Kurzzeitladen Zwönitz\, Lange Gasse 14\, Zwönitz\, Sachsen\, 09297\, Deutschland
CATEGORIES:Kurzzeitladen Zwönitz
END:VEVENT
BEGIN:VEVENT
DTSTART;TZID=Europe/Berlin:20260310T093000
DTEND;TZID=Europe/Berlin:20260310T170000
DTSTAMP:20260420T201528
CREATED:20260228T100228Z
LAST-MODIFIED:20260228T101256Z
UID:10006904-1773135000-1773162000@kurzzeitladen.de
SUMMARY:Verkaufsaktion Kurzzeitladen Zwönitz
DESCRIPTION:
URL:https://kurzzeitladen.de/event/verkaufsaktion-kurzzeitladen-zwoenitz-5/2026-03-10/
LOCATION:Kurzzeitladen Zwönitz\, Lange Gasse 14\, Zwönitz\, Sachsen\, 09297\, Deutschland
CATEGORIES:Kurzzeitladen Zwönitz
END:VEVENT
BEGIN:VEVENT
DTSTART;TZID=Europe/Berlin:20260311T180000
DTEND;TZID=Europe/Berlin:20260311T200000
DTSTAMP:20260420T201528
CREATED:20260113T182554Z
LAST-MODIFIED:20260227T153802Z
UID:10006030-1773252000-1773259200@kurzzeitladen.de
SUMMARY:Kreativ-Malabend mit Elisabeth Kunz - Die Magie des Waldes
DESCRIPTION:18:00 – 20:00 Uhr\nErw. 10 €\nKi. 7€\nmax. 10 Personen \nWo: Kurzzeitladen Aktiv\nBahnhofstraße 4\n09221 Neukirchen \nWas: mit Farben spielen\nAquarellieren\nKartengestalltung\nSkizzieren\nUrban sketching \nWomit: Stifte\, Leim\, Schere\nPapier\, Pinsel\,Farben\nStempel\, Tinte\,\nTusche \n… stelle ich für meine malbegeisterten Teilnehmer gern zur Verfügung. \nKaffee und Tee sind im Preis inbegriffen. \nAnmeldung erforderlich bei:\nElisabeth Kunz\n▶ Tel. 01734758075\n▶ Über Instagram und Facebook: Elli_Kunz_Kunst
URL:https://kurzzeitladen.de/event/kreativ-malabend-mit-elisabeth-kunz-die-magie-des-waldes/
LOCATION:Kurzzeitladen Aktiv\, Bahnhofstraße 4\, Neukirchen / Erzgebirge\, Sachsen\, 09221\, Deutschland
CATEGORIES:Kurzzeitladen Aktiv Neukirchen
END:VEVENT
BEGIN:VEVENT
DTSTART;TZID=Europe/Berlin:20260312T093000
DTEND;TZID=Europe/Berlin:20260312T170000
DTSTAMP:20260420T201528
CREATED:20260228T100427Z
LAST-MODIFIED:20260228T101111Z
UID:10006644-1773307800-1773334800@kurzzeitladen.de
SUMMARY:Verkaufsaktion Kurzzeitladen Zwönitz
DESCRIPTION:
URL:https://kurzzeitladen.de/event/verkaufsaktion-kurzzeitladen-zwoenitz-6/2026-03-12/
LOCATION:Kurzzeitladen Zwönitz\, Lange Gasse 14\, Zwönitz\, Sachsen\, 09297\, Deutschland
CATEGORIES:Kurzzeitladen Zwönitz
END:VEVENT
BEGIN:VEVENT
DTSTART;TZID=Europe/Berlin:20260313T093000
DTEND;TZID=Europe/Berlin:20260313T170000
DTSTAMP:20260420T201528
CREATED:20260228T100613Z
LAST-MODIFIED:20260228T101020Z
UID:10006384-1773394200-1773421200@kurzzeitladen.de
SUMMARY:Verkaufsaktion Kurzzeitladen Zwönitz
DESCRIPTION:
URL:https://kurzzeitladen.de/event/verkaufsaktion-kurzzeitladen-zwoenitz-7/2026-03-13/
LOCATION:Kurzzeitladen Zwönitz\, Lange Gasse 14\, Zwönitz\, Sachsen\, 09297\, Deutschland
CATEGORIES:Kurzzeitladen Zwönitz
END:VEVENT
BEGIN:VEVENT
DTSTART;TZID=Europe/Berlin:20260314T090000
DTEND;TZID=Europe/Berlin:20260314T120000
DTSTAMP:20260420T201528
CREATED:20260228T100830Z
LAST-MODIFIED:20260228T100921Z
UID:10006125-1773478800-1773489600@kurzzeitladen.de
SUMMARY:Verkaufsaktion Kurzzeitladen Zwönitz
DESCRIPTION:
URL:https://kurzzeitladen.de/event/verkaufsaktion-kurzzeitladen-zwoenitz-3-2/2026-03-14/
LOCATION:Kurzzeitladen Zwönitz\, Lange Gasse 14\, Zwönitz\, Sachsen\, 09297\, Deutschland
CATEGORIES:Kurzzeitladen Zwönitz
END:VEVENT
BEGIN:VEVENT
DTSTART;TZID=Europe/Berlin:20260316T100000
DTEND;TZID=Europe/Berlin:20260316T180000
DTSTAMP:20260420T201528
CREATED:20260310T132530Z
LAST-MODIFIED:20260312T144949Z
UID:10007165-1773655200-1773684000@kurzzeitladen.de
SUMMARY:Verkaufsaktion Italienische Mode
DESCRIPTION:Hier kommt der Frühling 🌸 Italienische Mode ganz nach deinem Geschmack ☀️ \nVom 16.3.-28.3.2026 findet der Aktionsverkauf für italienische Damenmode im Kurzzeitladen Neukirchen Erz. statt. \nAuf der Hauptstraße 87-89 bietet dir Fashion-Kontor Chemnitz für 2 Wochen eine wunderschöne Auswahl an italienischer Frühjahrsmode in den Größen 36-54 an. \nUm das Outfit komplett zu machen\, gibt es passende Accessoires wie Schuhe 👠\, Taschen 👜\, Gürtel\, Modeschmuck 📿 und Tücher. \nNutze die Gelegenheit und schau vorbei. Mach deinen Einkauf zum Erlebnis und unterstütze den Einzelhandel bei dir vor Ort 🧡 \nGeöffnet von:Montag bis Freitag 10-18 UhrSamstag 9-13 Uhr
URL:https://kurzzeitladen.de/event/verkaufsaktion-italienische-mode/2026-03-16/
LOCATION:Kurzzeitladen Neukirchen\, Hauptstraße 87-89\, Neukirchen / Erzgebirge\, Sachsen\, 09221\, Deutschland
CATEGORIES:Kurzzeitladen Neukirchen
END:VEVENT
BEGIN:VEVENT
DTSTART;TZID=Europe/Berlin:20260317T093000
DTEND;TZID=Europe/Berlin:20260317T170000
DTSTAMP:20260420T201528
CREATED:20260228T100228Z
LAST-MODIFIED:20260228T101256Z
UID:10006905-1773739800-1773766800@kurzzeitladen.de
SUMMARY:Verkaufsaktion Kurzzeitladen Zwönitz
DESCRIPTION:
URL:https://kurzzeitladen.de/event/verkaufsaktion-kurzzeitladen-zwoenitz-5/2026-03-17/
LOCATION:Kurzzeitladen Zwönitz\, Lange Gasse 14\, Zwönitz\, Sachsen\, 09297\, Deutschland
CATEGORIES:Kurzzeitladen Zwönitz
END:VEVENT
BEGIN:VEVENT
DTSTART;TZID=Europe/Berlin:20260317T100000
DTEND;TZID=Europe/Berlin:20260317T180000
DTSTAMP:20260420T201528
CREATED:20260310T132530Z
LAST-MODIFIED:20260312T144949Z
UID:10007166-1773741600-1773770400@kurzzeitladen.de
SUMMARY:Verkaufsaktion Italienische Mode
DESCRIPTION:Hier kommt der Frühling 🌸 Italienische Mode ganz nach deinem Geschmack ☀️ \nVom 16.3.-28.3.2026 findet der Aktionsverkauf für italienische Damenmode im Kurzzeitladen Neukirchen Erz. statt. \nAuf der Hauptstraße 87-89 bietet dir Fashion-Kontor Chemnitz für 2 Wochen eine wunderschöne Auswahl an italienischer Frühjahrsmode in den Größen 36-54 an. \nUm das Outfit komplett zu machen\, gibt es passende Accessoires wie Schuhe 👠\, Taschen 👜\, Gürtel\, Modeschmuck 📿 und Tücher. \nNutze die Gelegenheit und schau vorbei. Mach deinen Einkauf zum Erlebnis und unterstütze den Einzelhandel bei dir vor Ort 🧡 \nGeöffnet von:Montag bis Freitag 10-18 UhrSamstag 9-13 Uhr
URL:https://kurzzeitladen.de/event/verkaufsaktion-italienische-mode/2026-03-17/
LOCATION:Kurzzeitladen Neukirchen\, Hauptstraße 87-89\, Neukirchen / Erzgebirge\, Sachsen\, 09221\, Deutschland
CATEGORIES:Kurzzeitladen Neukirchen
END:VEVENT
BEGIN:VEVENT
DTSTART;TZID=Europe/Berlin:20260318T100000
DTEND;TZID=Europe/Berlin:20260318T180000
DTSTAMP:20260420T201528
CREATED:20260310T132530Z
LAST-MODIFIED:20260312T144949Z
UID:10007167-1773828000-1773856800@kurzzeitladen.de
SUMMARY:Verkaufsaktion Italienische Mode
DESCRIPTION:Hier kommt der Frühling 🌸 Italienische Mode ganz nach deinem Geschmack ☀️ \nVom 16.3.-28.3.2026 findet der Aktionsverkauf für italienische Damenmode im Kurzzeitladen Neukirchen Erz. statt. \nAuf der Hauptstraße 87-89 bietet dir Fashion-Kontor Chemnitz für 2 Wochen eine wunderschöne Auswahl an italienischer Frühjahrsmode in den Größen 36-54 an. \nUm das Outfit komplett zu machen\, gibt es passende Accessoires wie Schuhe 👠\, Taschen 👜\, Gürtel\, Modeschmuck 📿 und Tücher. \nNutze die Gelegenheit und schau vorbei. Mach deinen Einkauf zum Erlebnis und unterstütze den Einzelhandel bei dir vor Ort 🧡 \nGeöffnet von:Montag bis Freitag 10-18 UhrSamstag 9-13 Uhr
URL:https://kurzzeitladen.de/event/verkaufsaktion-italienische-mode/2026-03-18/
LOCATION:Kurzzeitladen Neukirchen\, Hauptstraße 87-89\, Neukirchen / Erzgebirge\, Sachsen\, 09221\, Deutschland
CATEGORIES:Kurzzeitladen Neukirchen
END:VEVENT
BEGIN:VEVENT
DTSTART;TZID=Europe/Berlin:20260318T160000
DTEND;TZID=Europe/Berlin:20260318T180000
DTSTAMP:20260420T201528
CREATED:20260227T154821Z
LAST-MODIFIED:20260227T155036Z
UID:10006121-1773849600-1773856800@kurzzeitladen.de
SUMMARY:Perlenkunst Workshop
DESCRIPTION:Beim Workshop “Perlenkunst” mit Letter Joana im Kurzzeitladen Aktiv in Neukirchen Erz. gestaltet ihr gemeinsam mit viel Liebe zum Detail personalisierte Anhänger – kleine Kunstwerke\, die nicht nur schön aussehen\, sondern auch spielerisch die Feinmotorik\, Buchstabenkenntnis und Farbwahrnehmung fördern. \nIn den kreativen Workshops dürfen Kinder (und auch Erwachsene) selbst aktiv werden: Ihr gestaltet eure eigenen Anhänger\, entdecken ihre kreative Seite und erleben\, wie aus einfachen Materialien etwas ganz Persönliches entsteht. Als besonderes Highlight darf natürlich ein kleiner Charm-Hingucker nicht fehlen – das i-Tüpfelchen jedes Designs! 🤍 \nFür wen ist der Kurs geeignet?Für Kinder von 5-12 Jahren gemeinsam mit einer Begleitperson\, Jugendliche\, Erwachsene\, Senioren\, Menschen mit Behinderung & Kreative Köpfe \nWas ist im Kurs inklusive?-> 2 personalisierte Anhänger-> Snack und Getränke-> gemeinsame Zeit & kennenlernen von netten Kreativen Menschen \nWie viel kostet der Kurs?20\,00 € pro Kind (5-12 Jahre) inklusive einer Begleitperson \nWann findet der Workshop statt?-> Mi. 18.03.2026 von 16:00-18:00 Uhr-> Fr. 20.03.2026 von 16:00-18:00 Uhr-> Mi. 01.04.2026 von 14:30-16:00 Uhr-> Sa. 11.04.2026 von 14:30-16:00 Uhr \nAnmeldung unter:https://gokonfetti.com/de-de/e/perlenkunst-workshop-bei-chemnitz-kreativ-ab-5-jahre-xnqoe4/
URL:https://kurzzeitladen.de/event/perlenkunst-workshop/2026-03-18/
LOCATION:Kurzzeitladen Aktiv\, Bahnhofstraße 4\, Neukirchen / Erzgebirge\, Sachsen\, 09221\, Deutschland
CATEGORIES:Kurzzeitladen Aktiv Neukirchen
END:VEVENT
BEGIN:VEVENT
DTSTART;TZID=Europe/Berlin:20260319T093000
DTEND;TZID=Europe/Berlin:20260319T170000
DTSTAMP:20260420T201528
CREATED:20260228T100427Z
LAST-MODIFIED:20260228T101111Z
UID:10006645-1773912600-1773939600@kurzzeitladen.de
SUMMARY:Verkaufsaktion Kurzzeitladen Zwönitz
DESCRIPTION:
URL:https://kurzzeitladen.de/event/verkaufsaktion-kurzzeitladen-zwoenitz-6/2026-03-19/
LOCATION:Kurzzeitladen Zwönitz\, Lange Gasse 14\, Zwönitz\, Sachsen\, 09297\, Deutschland
CATEGORIES:Kurzzeitladen Zwönitz
END:VEVENT
BEGIN:VEVENT
DTSTART;TZID=Europe/Berlin:20260319T100000
DTEND;TZID=Europe/Berlin:20260319T180000
DTSTAMP:20260420T201528
CREATED:20260310T132530Z
LAST-MODIFIED:20260312T144949Z
UID:10007168-1773914400-1773943200@kurzzeitladen.de
SUMMARY:Verkaufsaktion Italienische Mode
DESCRIPTION:Hier kommt der Frühling 🌸 Italienische Mode ganz nach deinem Geschmack ☀️ \nVom 16.3.-28.3.2026 findet der Aktionsverkauf für italienische Damenmode im Kurzzeitladen Neukirchen Erz. statt. \nAuf der Hauptstraße 87-89 bietet dir Fashion-Kontor Chemnitz für 2 Wochen eine wunderschöne Auswahl an italienischer Frühjahrsmode in den Größen 36-54 an. \nUm das Outfit komplett zu machen\, gibt es passende Accessoires wie Schuhe 👠\, Taschen 👜\, Gürtel\, Modeschmuck 📿 und Tücher. \nNutze die Gelegenheit und schau vorbei. Mach deinen Einkauf zum Erlebnis und unterstütze den Einzelhandel bei dir vor Ort 🧡 \nGeöffnet von:Montag bis Freitag 10-18 UhrSamstag 9-13 Uhr
URL:https://kurzzeitladen.de/event/verkaufsaktion-italienische-mode/2026-03-19/
LOCATION:Kurzzeitladen Neukirchen\, Hauptstraße 87-89\, Neukirchen / Erzgebirge\, Sachsen\, 09221\, Deutschland
CATEGORIES:Kurzzeitladen Neukirchen
END:VEVENT
BEGIN:VEVENT
DTSTART;TZID=Europe/Berlin:20260320T093000
DTEND;TZID=Europe/Berlin:20260320T170000
DTSTAMP:20260420T201528
CREATED:20260228T100613Z
LAST-MODIFIED:20260228T101020Z
UID:10006385-1773999000-1774026000@kurzzeitladen.de
SUMMARY:Verkaufsaktion Kurzzeitladen Zwönitz
DESCRIPTION:
URL:https://kurzzeitladen.de/event/verkaufsaktion-kurzzeitladen-zwoenitz-7/2026-03-20/
LOCATION:Kurzzeitladen Zwönitz\, Lange Gasse 14\, Zwönitz\, Sachsen\, 09297\, Deutschland
CATEGORIES:Kurzzeitladen Zwönitz
END:VEVENT
BEGIN:VEVENT
DTSTART;TZID=Europe/Berlin:20260320T100000
DTEND;TZID=Europe/Berlin:20260320T180000
DTSTAMP:20260420T201528
CREATED:20260310T132530Z
LAST-MODIFIED:20260312T144949Z
UID:10007169-1774000800-1774029600@kurzzeitladen.de
SUMMARY:Verkaufsaktion Italienische Mode
DESCRIPTION:Hier kommt der Frühling 🌸 Italienische Mode ganz nach deinem Geschmack ☀️ \nVom 16.3.-28.3.2026 findet der Aktionsverkauf für italienische Damenmode im Kurzzeitladen Neukirchen Erz. statt. \nAuf der Hauptstraße 87-89 bietet dir Fashion-Kontor Chemnitz für 2 Wochen eine wunderschöne Auswahl an italienischer Frühjahrsmode in den Größen 36-54 an. \nUm das Outfit komplett zu machen\, gibt es passende Accessoires wie Schuhe 👠\, Taschen 👜\, Gürtel\, Modeschmuck 📿 und Tücher. \nNutze die Gelegenheit und schau vorbei. Mach deinen Einkauf zum Erlebnis und unterstütze den Einzelhandel bei dir vor Ort 🧡 \nGeöffnet von:Montag bis Freitag 10-18 UhrSamstag 9-13 Uhr
URL:https://kurzzeitladen.de/event/verkaufsaktion-italienische-mode/2026-03-20/
LOCATION:Kurzzeitladen Neukirchen\, Hauptstraße 87-89\, Neukirchen / Erzgebirge\, Sachsen\, 09221\, Deutschland
CATEGORIES:Kurzzeitladen Neukirchen
END:VEVENT
BEGIN:VEVENT
DTSTART;TZID=Europe/Berlin:20260320T160000
DTEND;TZID=Europe/Berlin:20260320T180000
DTSTAMP:20260420T201528
CREATED:20260227T154821Z
LAST-MODIFIED:20260227T155036Z
UID:10006122-1774022400-1774029600@kurzzeitladen.de
SUMMARY:Perlenkunst Workshop
DESCRIPTION:Beim Workshop “Perlenkunst” mit Letter Joana im Kurzzeitladen Aktiv in Neukirchen Erz. gestaltet ihr gemeinsam mit viel Liebe zum Detail personalisierte Anhänger – kleine Kunstwerke\, die nicht nur schön aussehen\, sondern auch spielerisch die Feinmotorik\, Buchstabenkenntnis und Farbwahrnehmung fördern. \nIn den kreativen Workshops dürfen Kinder (und auch Erwachsene) selbst aktiv werden: Ihr gestaltet eure eigenen Anhänger\, entdecken ihre kreative Seite und erleben\, wie aus einfachen Materialien etwas ganz Persönliches entsteht. Als besonderes Highlight darf natürlich ein kleiner Charm-Hingucker nicht fehlen – das i-Tüpfelchen jedes Designs! 🤍 \nFür wen ist der Kurs geeignet?Für Kinder von 5-12 Jahren gemeinsam mit einer Begleitperson\, Jugendliche\, Erwachsene\, Senioren\, Menschen mit Behinderung & Kreative Köpfe \nWas ist im Kurs inklusive?-> 2 personalisierte Anhänger-> Snack und Getränke-> gemeinsame Zeit & kennenlernen von netten Kreativen Menschen \nWie viel kostet der Kurs?20\,00 € pro Kind (5-12 Jahre) inklusive einer Begleitperson \nWann findet der Workshop statt?-> Mi. 18.03.2026 von 16:00-18:00 Uhr-> Fr. 20.03.2026 von 16:00-18:00 Uhr-> Mi. 01.04.2026 von 14:30-16:00 Uhr-> Sa. 11.04.2026 von 14:30-16:00 Uhr \nAnmeldung unter:https://gokonfetti.com/de-de/e/perlenkunst-workshop-bei-chemnitz-kreativ-ab-5-jahre-xnqoe4/
URL:https://kurzzeitladen.de/event/perlenkunst-workshop/2026-03-20/
LOCATION:Kurzzeitladen Aktiv\, Bahnhofstraße 4\, Neukirchen / Erzgebirge\, Sachsen\, 09221\, Deutschland
CATEGORIES:Kurzzeitladen Aktiv Neukirchen
END:VEVENT
BEGIN:VEVENT
DTSTART;TZID=Europe/Berlin:20260321T090000
DTEND;TZID=Europe/Berlin:20260321T120000
DTSTAMP:20260420T201528
CREATED:20260228T100830Z
LAST-MODIFIED:20260228T100921Z
UID:10006126-1774083600-1774094400@kurzzeitladen.de
SUMMARY:Verkaufsaktion Kurzzeitladen Zwönitz
DESCRIPTION:
URL:https://kurzzeitladen.de/event/verkaufsaktion-kurzzeitladen-zwoenitz-3-2/2026-03-21/
LOCATION:Kurzzeitladen Zwönitz\, Lange Gasse 14\, Zwönitz\, Sachsen\, 09297\, Deutschland
CATEGORIES:Kurzzeitladen Zwönitz
END:VEVENT
BEGIN:VEVENT
DTSTART;TZID=Europe/Berlin:20260321T090000
DTEND;TZID=Europe/Berlin:20260321T130000
DTSTAMP:20260420T201528
CREATED:20260310T132934Z
LAST-MODIFIED:20260312T144902Z
UID:10007185-1774083600-1774098000@kurzzeitladen.de
SUMMARY:Verkaufsaktion Italienische Mode
DESCRIPTION:Hier kommt der Frühling 🌸 Italienische Mode ganz nach deinem Geschmack ☀️ \nVom 16.3.-28.3.2026 findet der Aktionsverkauf für italienische Damenmode im Kurzzeitladen Neukirchen Erz. statt. \nAuf der Hauptstraße 87-89 bietet dir Fashion-Kontor Chemnitz für 2 Wochen eine wunderschöne Auswahl an italienischer Frühjahrsmode in den Größen 36-54 an. \nUm das Outfit komplett zu machen\, gibt es passende Accessoires wie Schuhe 👠\, Taschen 👜\, Gürtel\, Modeschmuck 📿 und Tücher. \nNutze die Gelegenheit und schau vorbei. Mach deinen Einkauf zum Erlebnis und unterstütze den Einzelhandel bei dir vor Ort 🧡 \nGeöffnet von:Montag bis Freitag 10-18 UhrSamstag 9-13 Uhr
URL:https://kurzzeitladen.de/event/verkaufsaktion-italienische-mode-2/2026-03-21/
LOCATION:Kurzzeitladen Neukirchen\, Hauptstraße 87-89\, Neukirchen / Erzgebirge\, Sachsen\, 09221\, Deutschland
CATEGORIES:Kurzzeitladen Neukirchen
END:VEVENT
BEGIN:VEVENT
DTSTART;TZID=Europe/Berlin:20260323T100000
DTEND;TZID=Europe/Berlin:20260323T180000
DTSTAMP:20260420T201528
CREATED:20260310T132530Z
LAST-MODIFIED:20260312T144949Z
UID:10007170-1774260000-1774288800@kurzzeitladen.de
SUMMARY:Verkaufsaktion Italienische Mode
DESCRIPTION:Hier kommt der Frühling 🌸 Italienische Mode ganz nach deinem Geschmack ☀️ \nVom 16.3.-28.3.2026 findet der Aktionsverkauf für italienische Damenmode im Kurzzeitladen Neukirchen Erz. statt. \nAuf der Hauptstraße 87-89 bietet dir Fashion-Kontor Chemnitz für 2 Wochen eine wunderschöne Auswahl an italienischer Frühjahrsmode in den Größen 36-54 an. \nUm das Outfit komplett zu machen\, gibt es passende Accessoires wie Schuhe 👠\, Taschen 👜\, Gürtel\, Modeschmuck 📿 und Tücher. \nNutze die Gelegenheit und schau vorbei. Mach deinen Einkauf zum Erlebnis und unterstütze den Einzelhandel bei dir vor Ort 🧡 \nGeöffnet von:Montag bis Freitag 10-18 UhrSamstag 9-13 Uhr
URL:https://kurzzeitladen.de/event/verkaufsaktion-italienische-mode/2026-03-23/
LOCATION:Kurzzeitladen Neukirchen\, Hauptstraße 87-89\, Neukirchen / Erzgebirge\, Sachsen\, 09221\, Deutschland
CATEGORIES:Kurzzeitladen Neukirchen
END:VEVENT
BEGIN:VEVENT
DTSTART;TZID=Europe/Berlin:20260324T093000
DTEND;TZID=Europe/Berlin:20260324T170000
DTSTAMP:20260420T201528
CREATED:20260228T100228Z
LAST-MODIFIED:20260228T101256Z
UID:10006906-1774344600-1774371600@kurzzeitladen.de
SUMMARY:Verkaufsaktion Kurzzeitladen Zwönitz
DESCRIPTION:
URL:https://kurzzeitladen.de/event/verkaufsaktion-kurzzeitladen-zwoenitz-5/2026-03-24/
LOCATION:Kurzzeitladen Zwönitz\, Lange Gasse 14\, Zwönitz\, Sachsen\, 09297\, Deutschland
CATEGORIES:Kurzzeitladen Zwönitz
END:VEVENT
BEGIN:VEVENT
DTSTART;TZID=Europe/Berlin:20260324T100000
DTEND;TZID=Europe/Berlin:20260324T180000
DTSTAMP:20260420T201528
CREATED:20260310T132530Z
LAST-MODIFIED:20260312T144949Z
UID:10007171-1774346400-1774375200@kurzzeitladen.de
SUMMARY:Verkaufsaktion Italienische Mode
DESCRIPTION:Hier kommt der Frühling 🌸 Italienische Mode ganz nach deinem Geschmack ☀️ \nVom 16.3.-28.3.2026 findet der Aktionsverkauf für italienische Damenmode im Kurzzeitladen Neukirchen Erz. statt. \nAuf der Hauptstraße 87-89 bietet dir Fashion-Kontor Chemnitz für 2 Wochen eine wunderschöne Auswahl an italienischer Frühjahrsmode in den Größen 36-54 an. \nUm das Outfit komplett zu machen\, gibt es passende Accessoires wie Schuhe 👠\, Taschen 👜\, Gürtel\, Modeschmuck 📿 und Tücher. \nNutze die Gelegenheit und schau vorbei. Mach deinen Einkauf zum Erlebnis und unterstütze den Einzelhandel bei dir vor Ort 🧡 \nGeöffnet von:Montag bis Freitag 10-18 UhrSamstag 9-13 Uhr
URL:https://kurzzeitladen.de/event/verkaufsaktion-italienische-mode/2026-03-24/
LOCATION:Kurzzeitladen Neukirchen\, Hauptstraße 87-89\, Neukirchen / Erzgebirge\, Sachsen\, 09221\, Deutschland
CATEGORIES:Kurzzeitladen Neukirchen
END:VEVENT
BEGIN:VEVENT
DTSTART;TZID=Europe/Berlin:20260325T100000
DTEND;TZID=Europe/Berlin:20260325T180000
DTSTAMP:20260420T201528
CREATED:20260310T132530Z
LAST-MODIFIED:20260312T144949Z
UID:10007172-1774432800-1774461600@kurzzeitladen.de
SUMMARY:Verkaufsaktion Italienische Mode
DESCRIPTION:Hier kommt der Frühling 🌸 Italienische Mode ganz nach deinem Geschmack ☀️ \nVom 16.3.-28.3.2026 findet der Aktionsverkauf für italienische Damenmode im Kurzzeitladen Neukirchen Erz. statt. \nAuf der Hauptstraße 87-89 bietet dir Fashion-Kontor Chemnitz für 2 Wochen eine wunderschöne Auswahl an italienischer Frühjahrsmode in den Größen 36-54 an. \nUm das Outfit komplett zu machen\, gibt es passende Accessoires wie Schuhe 👠\, Taschen 👜\, Gürtel\, Modeschmuck 📿 und Tücher. \nNutze die Gelegenheit und schau vorbei. Mach deinen Einkauf zum Erlebnis und unterstütze den Einzelhandel bei dir vor Ort 🧡 \nGeöffnet von:Montag bis Freitag 10-18 UhrSamstag 9-13 Uhr
URL:https://kurzzeitladen.de/event/verkaufsaktion-italienische-mode/2026-03-25/
LOCATION:Kurzzeitladen Neukirchen\, Hauptstraße 87-89\, Neukirchen / Erzgebirge\, Sachsen\, 09221\, Deutschland
CATEGORIES:Kurzzeitladen Neukirchen
END:VEVENT
BEGIN:VEVENT
DTSTART;TZID=Europe/Berlin:20260325T180000
DTEND;TZID=Europe/Berlin:20260325T200000
DTSTAMP:20260420T201528
CREATED:20260113T182643Z
LAST-MODIFIED:20260227T153711Z
UID:10006031-1774461600-1774468800@kurzzeitladen.de
SUMMARY:Kreativ-Malabend mit Elisabeth Kunz - Der Frühling kommt
DESCRIPTION:18:00 – 20:00 Uhr\nErw. 10 €\nKi. 7€\nmax. 10 Personen \nWo: Kurzzeitladen Aktiv\nBahnhofstraße 4\n09221 Neukirchen \nWas: mit Farben spielen\nAquarellieren\nKartengestalltung\nSkizzieren\nUrban sketching \nWomit: Stifte\, Leim\, Schere\nPapier\, Pinsel\,Farben\nStempel\, Tinte\,\nTusche \n… stelle ich für meine malbegeisterten Teilnehmer gern zur Verfügung. \nKaffee und Tee sind im Preis inbegriffen. \nAnmeldung erforderlich bei:\nElisabeth Kunz\n▶ Tel. 01734758075\n▶ Über Instagram und Facebook: Elli_Kunz_Kunst
URL:https://kurzzeitladen.de/event/kreativ-malabend-mit-elisabeth-kunz-der-fruehling-kommt/
LOCATION:Kurzzeitladen Aktiv\, Bahnhofstraße 4\, Neukirchen / Erzgebirge\, Sachsen\, 09221\, Deutschland
CATEGORIES:Kurzzeitladen Aktiv Neukirchen
END:VEVENT
BEGIN:VEVENT
DTSTART;TZID=Europe/Berlin:20260326T093000
DTEND;TZID=Europe/Berlin:20260326T170000
DTSTAMP:20260420T201528
CREATED:20260228T100427Z
LAST-MODIFIED:20260228T101111Z
UID:10006646-1774517400-1774544400@kurzzeitladen.de
SUMMARY:Verkaufsaktion Kurzzeitladen Zwönitz
DESCRIPTION:
URL:https://kurzzeitladen.de/event/verkaufsaktion-kurzzeitladen-zwoenitz-6/2026-03-26/
LOCATION:Kurzzeitladen Zwönitz\, Lange Gasse 14\, Zwönitz\, Sachsen\, 09297\, Deutschland
CATEGORIES:Kurzzeitladen Zwönitz
END:VEVENT
BEGIN:VEVENT
DTSTART;TZID=Europe/Berlin:20260326T100000
DTEND;TZID=Europe/Berlin:20260326T180000
DTSTAMP:20260420T201528
CREATED:20260310T132530Z
LAST-MODIFIED:20260312T144949Z
UID:10007173-1774519200-1774548000@kurzzeitladen.de
SUMMARY:Verkaufsaktion Italienische Mode
DESCRIPTION:Hier kommt der Frühling 🌸 Italienische Mode ganz nach deinem Geschmack ☀️ \nVom 16.3.-28.3.2026 findet der Aktionsverkauf für italienische Damenmode im Kurzzeitladen Neukirchen Erz. statt. \nAuf der Hauptstraße 87-89 bietet dir Fashion-Kontor Chemnitz für 2 Wochen eine wunderschöne Auswahl an italienischer Frühjahrsmode in den Größen 36-54 an. \nUm das Outfit komplett zu machen\, gibt es passende Accessoires wie Schuhe 👠\, Taschen 👜\, Gürtel\, Modeschmuck 📿 und Tücher. \nNutze die Gelegenheit und schau vorbei. Mach deinen Einkauf zum Erlebnis und unterstütze den Einzelhandel bei dir vor Ort 🧡 \nGeöffnet von:Montag bis Freitag 10-18 UhrSamstag 9-13 Uhr
URL:https://kurzzeitladen.de/event/verkaufsaktion-italienische-mode/2026-03-26/
LOCATION:Kurzzeitladen Neukirchen\, Hauptstraße 87-89\, Neukirchen / Erzgebirge\, Sachsen\, 09221\, Deutschland
CATEGORIES:Kurzzeitladen Neukirchen
END:VEVENT
END:VCALENDAR