BEGIN:VCALENDAR
VERSION:2.0
PRODID:-//Kurzzeitladen - ECPv6.15.17.1//NONSGML v1.0//EN
CALSCALE:GREGORIAN
METHOD:PUBLISH
X-ORIGINAL-URL:https://kurzzeitladen.de
X-WR-CALDESC:Veranstaltungen für Kurzzeitladen
REFRESH-INTERVAL;VALUE=DURATION:PT1H
X-Robots-Tag:noindex
X-PUBLISHED-TTL:PT1H
BEGIN:VTIMEZONE
TZID:Europe/Berlin
BEGIN:DAYLIGHT
TZOFFSETFROM:+0100
TZOFFSETTO:+0200
TZNAME:CEST
DTSTART:20250330T010000
END:DAYLIGHT
BEGIN:STANDARD
TZOFFSETFROM:+0200
TZOFFSETTO:+0100
TZNAME:CET
DTSTART:20251026T010000
END:STANDARD
BEGIN:DAYLIGHT
TZOFFSETFROM:+0100
TZOFFSETTO:+0200
TZNAME:CEST
DTSTART:20260329T010000
END:DAYLIGHT
BEGIN:STANDARD
TZOFFSETFROM:+0200
TZOFFSETTO:+0100
TZNAME:CET
DTSTART:20261025T010000
END:STANDARD
BEGIN:DAYLIGHT
TZOFFSETFROM:+0100
TZOFFSETTO:+0200
TZNAME:CEST
DTSTART:20270328T010000
END:DAYLIGHT
BEGIN:STANDARD
TZOFFSETFROM:+0200
TZOFFSETTO:+0100
TZNAME:CET
DTSTART:20271031T010000
END:STANDARD
END:VTIMEZONE
BEGIN:VEVENT
DTSTART;TZID=Europe/Berlin:20261001T093000
DTEND;TZID=Europe/Berlin:20261001T170000
DTSTAMP:20260421T093905
CREATED:20260228T100427Z
LAST-MODIFIED:20260228T101111Z
UID:10006673-1790847000-1790874000@kurzzeitladen.de
SUMMARY:Verkaufsaktion Kurzzeitladen Zwönitz
DESCRIPTION:
URL:https://kurzzeitladen.de/event/verkaufsaktion-kurzzeitladen-zwoenitz-6/2026-10-01/
LOCATION:Kurzzeitladen Zwönitz\, Lange Gasse 14\, Zwönitz\, Sachsen\, 09297\, Deutschland
CATEGORIES:Kurzzeitladen Zwönitz
END:VEVENT
BEGIN:VEVENT
DTSTART;TZID=Europe/Berlin:20261002T093000
DTEND;TZID=Europe/Berlin:20261002T170000
DTSTAMP:20260421T093905
CREATED:20260228T100613Z
LAST-MODIFIED:20260228T101020Z
UID:10006413-1790933400-1790960400@kurzzeitladen.de
SUMMARY:Verkaufsaktion Kurzzeitladen Zwönitz
DESCRIPTION:
URL:https://kurzzeitladen.de/event/verkaufsaktion-kurzzeitladen-zwoenitz-7/2026-10-02/
LOCATION:Kurzzeitladen Zwönitz\, Lange Gasse 14\, Zwönitz\, Sachsen\, 09297\, Deutschland
CATEGORIES:Kurzzeitladen Zwönitz
END:VEVENT
BEGIN:VEVENT
DTSTART;TZID=Europe/Berlin:20261003T090000
DTEND;TZID=Europe/Berlin:20261003T120000
DTSTAMP:20260421T093905
CREATED:20260228T100830Z
LAST-MODIFIED:20260228T100921Z
UID:10006154-1791018000-1791028800@kurzzeitladen.de
SUMMARY:Verkaufsaktion Kurzzeitladen Zwönitz
DESCRIPTION:
URL:https://kurzzeitladen.de/event/verkaufsaktion-kurzzeitladen-zwoenitz-3-2/2026-10-03/
LOCATION:Kurzzeitladen Zwönitz\, Lange Gasse 14\, Zwönitz\, Sachsen\, 09297\, Deutschland
CATEGORIES:Kurzzeitladen Zwönitz
END:VEVENT
BEGIN:VEVENT
DTSTART;TZID=Europe/Berlin:20261006T093000
DTEND;TZID=Europe/Berlin:20261006T170000
DTSTAMP:20260421T093905
CREATED:20260228T100228Z
LAST-MODIFIED:20260228T101256Z
UID:10006934-1791279000-1791306000@kurzzeitladen.de
SUMMARY:Verkaufsaktion Kurzzeitladen Zwönitz
DESCRIPTION:
URL:https://kurzzeitladen.de/event/verkaufsaktion-kurzzeitladen-zwoenitz-5/2026-10-06/
LOCATION:Kurzzeitladen Zwönitz\, Lange Gasse 14\, Zwönitz\, Sachsen\, 09297\, Deutschland
CATEGORIES:Kurzzeitladen Zwönitz
END:VEVENT
BEGIN:VEVENT
DTSTART;TZID=Europe/Berlin:20261008T093000
DTEND;TZID=Europe/Berlin:20261008T170000
DTSTAMP:20260421T093905
CREATED:20260228T100427Z
LAST-MODIFIED:20260228T101111Z
UID:10006674-1791451800-1791478800@kurzzeitladen.de
SUMMARY:Verkaufsaktion Kurzzeitladen Zwönitz
DESCRIPTION:
URL:https://kurzzeitladen.de/event/verkaufsaktion-kurzzeitladen-zwoenitz-6/2026-10-08/
LOCATION:Kurzzeitladen Zwönitz\, Lange Gasse 14\, Zwönitz\, Sachsen\, 09297\, Deutschland
CATEGORIES:Kurzzeitladen Zwönitz
END:VEVENT
BEGIN:VEVENT
DTSTART;TZID=Europe/Berlin:20261009T093000
DTEND;TZID=Europe/Berlin:20261009T170000
DTSTAMP:20260421T093905
CREATED:20260228T100613Z
LAST-MODIFIED:20260228T101020Z
UID:10006414-1791538200-1791565200@kurzzeitladen.de
SUMMARY:Verkaufsaktion Kurzzeitladen Zwönitz
DESCRIPTION:
URL:https://kurzzeitladen.de/event/verkaufsaktion-kurzzeitladen-zwoenitz-7/2026-10-09/
LOCATION:Kurzzeitladen Zwönitz\, Lange Gasse 14\, Zwönitz\, Sachsen\, 09297\, Deutschland
CATEGORIES:Kurzzeitladen Zwönitz
END:VEVENT
BEGIN:VEVENT
DTSTART;TZID=Europe/Berlin:20261010T090000
DTEND;TZID=Europe/Berlin:20261010T120000
DTSTAMP:20260421T093905
CREATED:20260228T100830Z
LAST-MODIFIED:20260228T100921Z
UID:10006155-1791622800-1791633600@kurzzeitladen.de
SUMMARY:Verkaufsaktion Kurzzeitladen Zwönitz
DESCRIPTION:
URL:https://kurzzeitladen.de/event/verkaufsaktion-kurzzeitladen-zwoenitz-3-2/2026-10-10/
LOCATION:Kurzzeitladen Zwönitz\, Lange Gasse 14\, Zwönitz\, Sachsen\, 09297\, Deutschland
CATEGORIES:Kurzzeitladen Zwönitz
END:VEVENT
BEGIN:VEVENT
DTSTART;TZID=Europe/Berlin:20261013T093000
DTEND;TZID=Europe/Berlin:20261013T170000
DTSTAMP:20260421T093905
CREATED:20260228T100228Z
LAST-MODIFIED:20260228T101256Z
UID:10006935-1791883800-1791910800@kurzzeitladen.de
SUMMARY:Verkaufsaktion Kurzzeitladen Zwönitz
DESCRIPTION:
URL:https://kurzzeitladen.de/event/verkaufsaktion-kurzzeitladen-zwoenitz-5/2026-10-13/
LOCATION:Kurzzeitladen Zwönitz\, Lange Gasse 14\, Zwönitz\, Sachsen\, 09297\, Deutschland
CATEGORIES:Kurzzeitladen Zwönitz
END:VEVENT
BEGIN:VEVENT
DTSTART;TZID=Europe/Berlin:20261015T093000
DTEND;TZID=Europe/Berlin:20261015T170000
DTSTAMP:20260421T093905
CREATED:20260228T100427Z
LAST-MODIFIED:20260228T101111Z
UID:10006675-1792056600-1792083600@kurzzeitladen.de
SUMMARY:Verkaufsaktion Kurzzeitladen Zwönitz
DESCRIPTION:
URL:https://kurzzeitladen.de/event/verkaufsaktion-kurzzeitladen-zwoenitz-6/2026-10-15/
LOCATION:Kurzzeitladen Zwönitz\, Lange Gasse 14\, Zwönitz\, Sachsen\, 09297\, Deutschland
CATEGORIES:Kurzzeitladen Zwönitz
END:VEVENT
BEGIN:VEVENT
DTSTART;TZID=Europe/Berlin:20261016T093000
DTEND;TZID=Europe/Berlin:20261016T170000
DTSTAMP:20260421T093905
CREATED:20260228T100613Z
LAST-MODIFIED:20260228T101020Z
UID:10006415-1792143000-1792170000@kurzzeitladen.de
SUMMARY:Verkaufsaktion Kurzzeitladen Zwönitz
DESCRIPTION:
URL:https://kurzzeitladen.de/event/verkaufsaktion-kurzzeitladen-zwoenitz-7/2026-10-16/
LOCATION:Kurzzeitladen Zwönitz\, Lange Gasse 14\, Zwönitz\, Sachsen\, 09297\, Deutschland
CATEGORIES:Kurzzeitladen Zwönitz
END:VEVENT
BEGIN:VEVENT
DTSTART;TZID=Europe/Berlin:20261017T090000
DTEND;TZID=Europe/Berlin:20261017T120000
DTSTAMP:20260421T093905
CREATED:20260228T100830Z
LAST-MODIFIED:20260228T100921Z
UID:10006156-1792227600-1792238400@kurzzeitladen.de
SUMMARY:Verkaufsaktion Kurzzeitladen Zwönitz
DESCRIPTION:
URL:https://kurzzeitladen.de/event/verkaufsaktion-kurzzeitladen-zwoenitz-3-2/2026-10-17/
LOCATION:Kurzzeitladen Zwönitz\, Lange Gasse 14\, Zwönitz\, Sachsen\, 09297\, Deutschland
CATEGORIES:Kurzzeitladen Zwönitz
END:VEVENT
BEGIN:VEVENT
DTSTART;TZID=Europe/Berlin:20261020T093000
DTEND;TZID=Europe/Berlin:20261020T170000
DTSTAMP:20260421T093905
CREATED:20260228T100228Z
LAST-MODIFIED:20260228T101256Z
UID:10006936-1792488600-1792515600@kurzzeitladen.de
SUMMARY:Verkaufsaktion Kurzzeitladen Zwönitz
DESCRIPTION:
URL:https://kurzzeitladen.de/event/verkaufsaktion-kurzzeitladen-zwoenitz-5/2026-10-20/
LOCATION:Kurzzeitladen Zwönitz\, Lange Gasse 14\, Zwönitz\, Sachsen\, 09297\, Deutschland
CATEGORIES:Kurzzeitladen Zwönitz
END:VEVENT
BEGIN:VEVENT
DTSTART;TZID=Europe/Berlin:20261022T093000
DTEND;TZID=Europe/Berlin:20261022T170000
DTSTAMP:20260421T093905
CREATED:20260228T100427Z
LAST-MODIFIED:20260228T101111Z
UID:10006676-1792661400-1792688400@kurzzeitladen.de
SUMMARY:Verkaufsaktion Kurzzeitladen Zwönitz
DESCRIPTION:
URL:https://kurzzeitladen.de/event/verkaufsaktion-kurzzeitladen-zwoenitz-6/2026-10-22/
LOCATION:Kurzzeitladen Zwönitz\, Lange Gasse 14\, Zwönitz\, Sachsen\, 09297\, Deutschland
CATEGORIES:Kurzzeitladen Zwönitz
END:VEVENT
BEGIN:VEVENT
DTSTART;TZID=Europe/Berlin:20261023T093000
DTEND;TZID=Europe/Berlin:20261023T170000
DTSTAMP:20260421T093905
CREATED:20260228T100613Z
LAST-MODIFIED:20260228T101020Z
UID:10006416-1792747800-1792774800@kurzzeitladen.de
SUMMARY:Verkaufsaktion Kurzzeitladen Zwönitz
DESCRIPTION:
URL:https://kurzzeitladen.de/event/verkaufsaktion-kurzzeitladen-zwoenitz-7/2026-10-23/
LOCATION:Kurzzeitladen Zwönitz\, Lange Gasse 14\, Zwönitz\, Sachsen\, 09297\, Deutschland
CATEGORIES:Kurzzeitladen Zwönitz
END:VEVENT
BEGIN:VEVENT
DTSTART;TZID=Europe/Berlin:20261024T090000
DTEND;TZID=Europe/Berlin:20261024T120000
DTSTAMP:20260421T093905
CREATED:20260228T100830Z
LAST-MODIFIED:20260228T100921Z
UID:10006157-1792832400-1792843200@kurzzeitladen.de
SUMMARY:Verkaufsaktion Kurzzeitladen Zwönitz
DESCRIPTION:
URL:https://kurzzeitladen.de/event/verkaufsaktion-kurzzeitladen-zwoenitz-3-2/2026-10-24/
LOCATION:Kurzzeitladen Zwönitz\, Lange Gasse 14\, Zwönitz\, Sachsen\, 09297\, Deutschland
CATEGORIES:Kurzzeitladen Zwönitz
END:VEVENT
BEGIN:VEVENT
DTSTART;TZID=Europe/Berlin:20261027T093000
DTEND;TZID=Europe/Berlin:20261027T170000
DTSTAMP:20260421T093905
CREATED:20260228T100228Z
LAST-MODIFIED:20260228T101256Z
UID:10006937-1793093400-1793120400@kurzzeitladen.de
SUMMARY:Verkaufsaktion Kurzzeitladen Zwönitz
DESCRIPTION:
URL:https://kurzzeitladen.de/event/verkaufsaktion-kurzzeitladen-zwoenitz-5/2026-10-27/
LOCATION:Kurzzeitladen Zwönitz\, Lange Gasse 14\, Zwönitz\, Sachsen\, 09297\, Deutschland
CATEGORIES:Kurzzeitladen Zwönitz
END:VEVENT
BEGIN:VEVENT
DTSTART;TZID=Europe/Berlin:20261029T093000
DTEND;TZID=Europe/Berlin:20261029T170000
DTSTAMP:20260421T093905
CREATED:20260228T100427Z
LAST-MODIFIED:20260228T101111Z
UID:10006677-1793266200-1793293200@kurzzeitladen.de
SUMMARY:Verkaufsaktion Kurzzeitladen Zwönitz
DESCRIPTION:
URL:https://kurzzeitladen.de/event/verkaufsaktion-kurzzeitladen-zwoenitz-6/2026-10-29/
LOCATION:Kurzzeitladen Zwönitz\, Lange Gasse 14\, Zwönitz\, Sachsen\, 09297\, Deutschland
CATEGORIES:Kurzzeitladen Zwönitz
END:VEVENT
BEGIN:VEVENT
DTSTART;TZID=Europe/Berlin:20261030T093000
DTEND;TZID=Europe/Berlin:20261030T170000
DTSTAMP:20260421T093905
CREATED:20260228T100613Z
LAST-MODIFIED:20260228T101020Z
UID:10006417-1793352600-1793379600@kurzzeitladen.de
SUMMARY:Verkaufsaktion Kurzzeitladen Zwönitz
DESCRIPTION:
URL:https://kurzzeitladen.de/event/verkaufsaktion-kurzzeitladen-zwoenitz-7/2026-10-30/
LOCATION:Kurzzeitladen Zwönitz\, Lange Gasse 14\, Zwönitz\, Sachsen\, 09297\, Deutschland
CATEGORIES:Kurzzeitladen Zwönitz
END:VEVENT
BEGIN:VEVENT
DTSTART;TZID=Europe/Berlin:20261031T090000
DTEND;TZID=Europe/Berlin:20261031T120000
DTSTAMP:20260421T093905
CREATED:20260228T100830Z
LAST-MODIFIED:20260228T100921Z
UID:10006158-1793437200-1793448000@kurzzeitladen.de
SUMMARY:Verkaufsaktion Kurzzeitladen Zwönitz
DESCRIPTION:
URL:https://kurzzeitladen.de/event/verkaufsaktion-kurzzeitladen-zwoenitz-3-2/2026-10-31/
LOCATION:Kurzzeitladen Zwönitz\, Lange Gasse 14\, Zwönitz\, Sachsen\, 09297\, Deutschland
CATEGORIES:Kurzzeitladen Zwönitz
END:VEVENT
END:VCALENDAR