BEGIN:VCALENDAR
VERSION:2.0
PRODID:-//Kurzzeitladen - ECPv6.15.17.1//NONSGML v1.0//EN
CALSCALE:GREGORIAN
METHOD:PUBLISH
X-WR-CALNAME:Kurzzeitladen
X-ORIGINAL-URL:https://kurzzeitladen.de
X-WR-CALDESC:Veranstaltungen für Kurzzeitladen
REFRESH-INTERVAL;VALUE=DURATION:PT1H
X-Robots-Tag:noindex
X-PUBLISHED-TTL:PT1H
BEGIN:VTIMEZONE
TZID:Europe/Berlin
BEGIN:DAYLIGHT
TZOFFSETFROM:+0100
TZOFFSETTO:+0200
TZNAME:CEST
DTSTART:20270328T010000
END:DAYLIGHT
BEGIN:STANDARD
TZOFFSETFROM:+0200
TZOFFSETTO:+0100
TZNAME:CET
DTSTART:20271031T010000
END:STANDARD
BEGIN:DAYLIGHT
TZOFFSETFROM:+0100
TZOFFSETTO:+0200
TZNAME:CEST
DTSTART:20280326T010000
END:DAYLIGHT
BEGIN:STANDARD
TZOFFSETFROM:+0200
TZOFFSETTO:+0100
TZNAME:CET
DTSTART:20281029T010000
END:STANDARD
BEGIN:DAYLIGHT
TZOFFSETFROM:+0100
TZOFFSETTO:+0200
TZNAME:CEST
DTSTART:20290325T010000
END:DAYLIGHT
BEGIN:STANDARD
TZOFFSETFROM:+0200
TZOFFSETTO:+0100
TZNAME:CET
DTSTART:20291028T010000
END:STANDARD
END:VTIMEZONE
BEGIN:VEVENT
DTSTART;TZID=Europe/Berlin:20280502T093000
DTEND;TZID=Europe/Berlin:20280502T170000
DTSTAMP:20260424T133312
CREATED:20260228T100228Z
LAST-MODIFIED:20260228T101256Z
UID:10007016-1840872600-1840899600@kurzzeitladen.de
SUMMARY:Verkaufsaktion Kurzzeitladen Zwönitz
DESCRIPTION:
URL:https://kurzzeitladen.de/event/verkaufsaktion-kurzzeitladen-zwoenitz-5/2028-05-02/
LOCATION:Kurzzeitladen Zwönitz\, Lange Gasse 14\, Zwönitz\, Sachsen\, 09297\, Deutschland
CATEGORIES:Kurzzeitladen Zwönitz
END:VEVENT
BEGIN:VEVENT
DTSTART;TZID=Europe/Berlin:20280504T093000
DTEND;TZID=Europe/Berlin:20280504T170000
DTSTAMP:20260424T133312
CREATED:20260228T100427Z
LAST-MODIFIED:20260228T101111Z
UID:10006756-1841045400-1841072400@kurzzeitladen.de
SUMMARY:Verkaufsaktion Kurzzeitladen Zwönitz
DESCRIPTION:
URL:https://kurzzeitladen.de/event/verkaufsaktion-kurzzeitladen-zwoenitz-6/2028-05-04/
LOCATION:Kurzzeitladen Zwönitz\, Lange Gasse 14\, Zwönitz\, Sachsen\, 09297\, Deutschland
CATEGORIES:Kurzzeitladen Zwönitz
END:VEVENT
BEGIN:VEVENT
DTSTART;TZID=Europe/Berlin:20280505T093000
DTEND;TZID=Europe/Berlin:20280505T170000
DTSTAMP:20260424T133312
CREATED:20260228T100613Z
LAST-MODIFIED:20260228T101020Z
UID:10006496-1841131800-1841158800@kurzzeitladen.de
SUMMARY:Verkaufsaktion Kurzzeitladen Zwönitz
DESCRIPTION:
URL:https://kurzzeitladen.de/event/verkaufsaktion-kurzzeitladen-zwoenitz-7/2028-05-05/
LOCATION:Kurzzeitladen Zwönitz\, Lange Gasse 14\, Zwönitz\, Sachsen\, 09297\, Deutschland
CATEGORIES:Kurzzeitladen Zwönitz
END:VEVENT
BEGIN:VEVENT
DTSTART;TZID=Europe/Berlin:20280506T090000
DTEND;TZID=Europe/Berlin:20280506T120000
DTSTAMP:20260424T133312
CREATED:20260228T100830Z
LAST-MODIFIED:20260228T100921Z
UID:10006237-1841216400-1841227200@kurzzeitladen.de
SUMMARY:Verkaufsaktion Kurzzeitladen Zwönitz
DESCRIPTION:
URL:https://kurzzeitladen.de/event/verkaufsaktion-kurzzeitladen-zwoenitz-3-2/2028-05-06/
LOCATION:Kurzzeitladen Zwönitz\, Lange Gasse 14\, Zwönitz\, Sachsen\, 09297\, Deutschland
CATEGORIES:Kurzzeitladen Zwönitz
END:VEVENT
BEGIN:VEVENT
DTSTART;TZID=Europe/Berlin:20280509T093000
DTEND;TZID=Europe/Berlin:20280509T170000
DTSTAMP:20260424T133312
CREATED:20260228T100228Z
LAST-MODIFIED:20260228T101256Z
UID:10007017-1841477400-1841504400@kurzzeitladen.de
SUMMARY:Verkaufsaktion Kurzzeitladen Zwönitz
DESCRIPTION:
URL:https://kurzzeitladen.de/event/verkaufsaktion-kurzzeitladen-zwoenitz-5/2028-05-09/
LOCATION:Kurzzeitladen Zwönitz\, Lange Gasse 14\, Zwönitz\, Sachsen\, 09297\, Deutschland
CATEGORIES:Kurzzeitladen Zwönitz
END:VEVENT
BEGIN:VEVENT
DTSTART;TZID=Europe/Berlin:20280511T093000
DTEND;TZID=Europe/Berlin:20280511T170000
DTSTAMP:20260424T133312
CREATED:20260228T100427Z
LAST-MODIFIED:20260228T101111Z
UID:10006757-1841650200-1841677200@kurzzeitladen.de
SUMMARY:Verkaufsaktion Kurzzeitladen Zwönitz
DESCRIPTION:
URL:https://kurzzeitladen.de/event/verkaufsaktion-kurzzeitladen-zwoenitz-6/2028-05-11/
LOCATION:Kurzzeitladen Zwönitz\, Lange Gasse 14\, Zwönitz\, Sachsen\, 09297\, Deutschland
CATEGORIES:Kurzzeitladen Zwönitz
END:VEVENT
BEGIN:VEVENT
DTSTART;TZID=Europe/Berlin:20280512T093000
DTEND;TZID=Europe/Berlin:20280512T170000
DTSTAMP:20260424T133312
CREATED:20260228T100613Z
LAST-MODIFIED:20260228T101020Z
UID:10006497-1841736600-1841763600@kurzzeitladen.de
SUMMARY:Verkaufsaktion Kurzzeitladen Zwönitz
DESCRIPTION:
URL:https://kurzzeitladen.de/event/verkaufsaktion-kurzzeitladen-zwoenitz-7/2028-05-12/
LOCATION:Kurzzeitladen Zwönitz\, Lange Gasse 14\, Zwönitz\, Sachsen\, 09297\, Deutschland
CATEGORIES:Kurzzeitladen Zwönitz
END:VEVENT
BEGIN:VEVENT
DTSTART;TZID=Europe/Berlin:20280513T090000
DTEND;TZID=Europe/Berlin:20280513T120000
DTSTAMP:20260424T133312
CREATED:20260228T100830Z
LAST-MODIFIED:20260228T100921Z
UID:10006238-1841821200-1841832000@kurzzeitladen.de
SUMMARY:Verkaufsaktion Kurzzeitladen Zwönitz
DESCRIPTION:
URL:https://kurzzeitladen.de/event/verkaufsaktion-kurzzeitladen-zwoenitz-3-2/2028-05-13/
LOCATION:Kurzzeitladen Zwönitz\, Lange Gasse 14\, Zwönitz\, Sachsen\, 09297\, Deutschland
CATEGORIES:Kurzzeitladen Zwönitz
END:VEVENT
BEGIN:VEVENT
DTSTART;TZID=Europe/Berlin:20280516T093000
DTEND;TZID=Europe/Berlin:20280516T170000
DTSTAMP:20260424T133312
CREATED:20260228T100228Z
LAST-MODIFIED:20260228T101256Z
UID:10007018-1842082200-1842109200@kurzzeitladen.de
SUMMARY:Verkaufsaktion Kurzzeitladen Zwönitz
DESCRIPTION:
URL:https://kurzzeitladen.de/event/verkaufsaktion-kurzzeitladen-zwoenitz-5/2028-05-16/
LOCATION:Kurzzeitladen Zwönitz\, Lange Gasse 14\, Zwönitz\, Sachsen\, 09297\, Deutschland
CATEGORIES:Kurzzeitladen Zwönitz
END:VEVENT
BEGIN:VEVENT
DTSTART;TZID=Europe/Berlin:20280518T093000
DTEND;TZID=Europe/Berlin:20280518T170000
DTSTAMP:20260424T133312
CREATED:20260228T100427Z
LAST-MODIFIED:20260228T101111Z
UID:10006758-1842255000-1842282000@kurzzeitladen.de
SUMMARY:Verkaufsaktion Kurzzeitladen Zwönitz
DESCRIPTION:
URL:https://kurzzeitladen.de/event/verkaufsaktion-kurzzeitladen-zwoenitz-6/2028-05-18/
LOCATION:Kurzzeitladen Zwönitz\, Lange Gasse 14\, Zwönitz\, Sachsen\, 09297\, Deutschland
CATEGORIES:Kurzzeitladen Zwönitz
END:VEVENT
BEGIN:VEVENT
DTSTART;TZID=Europe/Berlin:20280519T093000
DTEND;TZID=Europe/Berlin:20280519T170000
DTSTAMP:20260424T133312
CREATED:20260228T100613Z
LAST-MODIFIED:20260228T101020Z
UID:10006498-1842341400-1842368400@kurzzeitladen.de
SUMMARY:Verkaufsaktion Kurzzeitladen Zwönitz
DESCRIPTION:
URL:https://kurzzeitladen.de/event/verkaufsaktion-kurzzeitladen-zwoenitz-7/2028-05-19/
LOCATION:Kurzzeitladen Zwönitz\, Lange Gasse 14\, Zwönitz\, Sachsen\, 09297\, Deutschland
CATEGORIES:Kurzzeitladen Zwönitz
END:VEVENT
BEGIN:VEVENT
DTSTART;TZID=Europe/Berlin:20280520T090000
DTEND;TZID=Europe/Berlin:20280520T120000
DTSTAMP:20260424T133312
CREATED:20260228T100830Z
LAST-MODIFIED:20260228T100921Z
UID:10006239-1842426000-1842436800@kurzzeitladen.de
SUMMARY:Verkaufsaktion Kurzzeitladen Zwönitz
DESCRIPTION:
URL:https://kurzzeitladen.de/event/verkaufsaktion-kurzzeitladen-zwoenitz-3-2/2028-05-20/
LOCATION:Kurzzeitladen Zwönitz\, Lange Gasse 14\, Zwönitz\, Sachsen\, 09297\, Deutschland
CATEGORIES:Kurzzeitladen Zwönitz
END:VEVENT
BEGIN:VEVENT
DTSTART;TZID=Europe/Berlin:20280523T093000
DTEND;TZID=Europe/Berlin:20280523T170000
DTSTAMP:20260424T133312
CREATED:20260228T100228Z
LAST-MODIFIED:20260228T101256Z
UID:10007019-1842687000-1842714000@kurzzeitladen.de
SUMMARY:Verkaufsaktion Kurzzeitladen Zwönitz
DESCRIPTION:
URL:https://kurzzeitladen.de/event/verkaufsaktion-kurzzeitladen-zwoenitz-5/2028-05-23/
LOCATION:Kurzzeitladen Zwönitz\, Lange Gasse 14\, Zwönitz\, Sachsen\, 09297\, Deutschland
CATEGORIES:Kurzzeitladen Zwönitz
END:VEVENT
BEGIN:VEVENT
DTSTART;TZID=Europe/Berlin:20280525T093000
DTEND;TZID=Europe/Berlin:20280525T170000
DTSTAMP:20260424T133312
CREATED:20260228T100427Z
LAST-MODIFIED:20260228T101111Z
UID:10006759-1842859800-1842886800@kurzzeitladen.de
SUMMARY:Verkaufsaktion Kurzzeitladen Zwönitz
DESCRIPTION:
URL:https://kurzzeitladen.de/event/verkaufsaktion-kurzzeitladen-zwoenitz-6/2028-05-25/
LOCATION:Kurzzeitladen Zwönitz\, Lange Gasse 14\, Zwönitz\, Sachsen\, 09297\, Deutschland
CATEGORIES:Kurzzeitladen Zwönitz
END:VEVENT
BEGIN:VEVENT
DTSTART;TZID=Europe/Berlin:20280526T093000
DTEND;TZID=Europe/Berlin:20280526T170000
DTSTAMP:20260424T133312
CREATED:20260228T100613Z
LAST-MODIFIED:20260228T101020Z
UID:10006499-1842946200-1842973200@kurzzeitladen.de
SUMMARY:Verkaufsaktion Kurzzeitladen Zwönitz
DESCRIPTION:
URL:https://kurzzeitladen.de/event/verkaufsaktion-kurzzeitladen-zwoenitz-7/2028-05-26/
LOCATION:Kurzzeitladen Zwönitz\, Lange Gasse 14\, Zwönitz\, Sachsen\, 09297\, Deutschland
CATEGORIES:Kurzzeitladen Zwönitz
END:VEVENT
BEGIN:VEVENT
DTSTART;TZID=Europe/Berlin:20280527T090000
DTEND;TZID=Europe/Berlin:20280527T120000
DTSTAMP:20260424T133312
CREATED:20260228T100830Z
LAST-MODIFIED:20260228T100921Z
UID:10006240-1843030800-1843041600@kurzzeitladen.de
SUMMARY:Verkaufsaktion Kurzzeitladen Zwönitz
DESCRIPTION:
URL:https://kurzzeitladen.de/event/verkaufsaktion-kurzzeitladen-zwoenitz-3-2/2028-05-27/
LOCATION:Kurzzeitladen Zwönitz\, Lange Gasse 14\, Zwönitz\, Sachsen\, 09297\, Deutschland
CATEGORIES:Kurzzeitladen Zwönitz
END:VEVENT
BEGIN:VEVENT
DTSTART;TZID=Europe/Berlin:20280530T093000
DTEND;TZID=Europe/Berlin:20280530T170000
DTSTAMP:20260424T133312
CREATED:20260228T100228Z
LAST-MODIFIED:20260228T101256Z
UID:10007020-1843291800-1843318800@kurzzeitladen.de
SUMMARY:Verkaufsaktion Kurzzeitladen Zwönitz
DESCRIPTION:
URL:https://kurzzeitladen.de/event/verkaufsaktion-kurzzeitladen-zwoenitz-5/2028-05-30/
LOCATION:Kurzzeitladen Zwönitz\, Lange Gasse 14\, Zwönitz\, Sachsen\, 09297\, Deutschland
CATEGORIES:Kurzzeitladen Zwönitz
END:VEVENT
END:VCALENDAR