BEGIN:VCALENDAR
VERSION:2.0
PRODID:-//Kurzzeitladen - ECPv6.15.17.1//NONSGML v1.0//EN
CALSCALE:GREGORIAN
METHOD:PUBLISH
X-WR-CALNAME:Kurzzeitladen
X-ORIGINAL-URL:https://kurzzeitladen.de
X-WR-CALDESC:Veranstaltungen für Kurzzeitladen
REFRESH-INTERVAL;VALUE=DURATION:PT1H
X-Robots-Tag:noindex
X-PUBLISHED-TTL:PT1H
BEGIN:VTIMEZONE
TZID:Europe/Berlin
BEGIN:DAYLIGHT
TZOFFSETFROM:+0100
TZOFFSETTO:+0200
TZNAME:CEST
DTSTART:20220327T010000
END:DAYLIGHT
BEGIN:STANDARD
TZOFFSETFROM:+0200
TZOFFSETTO:+0100
TZNAME:CET
DTSTART:20221030T010000
END:STANDARD
BEGIN:DAYLIGHT
TZOFFSETFROM:+0100
TZOFFSETTO:+0200
TZNAME:CEST
DTSTART:20230326T010000
END:DAYLIGHT
BEGIN:STANDARD
TZOFFSETFROM:+0200
TZOFFSETTO:+0100
TZNAME:CET
DTSTART:20231029T010000
END:STANDARD
BEGIN:DAYLIGHT
TZOFFSETFROM:+0100
TZOFFSETTO:+0200
TZNAME:CEST
DTSTART:20240331T010000
END:DAYLIGHT
BEGIN:STANDARD
TZOFFSETFROM:+0200
TZOFFSETTO:+0100
TZNAME:CET
DTSTART:20241027T010000
END:STANDARD
END:VTIMEZONE
BEGIN:VEVENT
DTSTART;TZID=Europe/Berlin:20231103T113000
DTEND;TZID=Europe/Berlin:20231103T123000
DTSTAMP:20260423T211511
CREATED:20230418T095825Z
LAST-MODIFIED:20240110T162111Z
UID:10001625-1699011000-1699014600@kurzzeitladen.de
SUMMARY:Yoga für Anfänger und Fortgeschrittene
DESCRIPTION:  \nAnmeldung unter: Claudia Rümmler\, Deine Yoga Zeit – Chemnitz\nTelefon: 0162/4976845\nE-Mail: claruem@gmx.de
URL:https://kurzzeitladen.de/event/yoga-fuer-anfaenger-und-fortgeschrittene-3/2023-11-03/
LOCATION:Kurzzeitladen Aktiv\, Bahnhofstraße 4\, Neukirchen / Erzgebirge\, Sachsen\, 09221\, Deutschland
CATEGORIES:Kurzzeitladen Aktiv Neukirchen
END:VEVENT
BEGIN:VEVENT
DTSTART;TZID=Europe/Berlin:20231027T113000
DTEND;TZID=Europe/Berlin:20231027T123000
DTSTAMP:20260423T211511
CREATED:20230418T095825Z
LAST-MODIFIED:20240110T162111Z
UID:10001624-1698406200-1698409800@kurzzeitladen.de
SUMMARY:Yoga für Anfänger und Fortgeschrittene
DESCRIPTION:  \nAnmeldung unter: Claudia Rümmler\, Deine Yoga Zeit – Chemnitz\nTelefon: 0162/4976845\nE-Mail: claruem@gmx.de
URL:https://kurzzeitladen.de/event/yoga-fuer-anfaenger-und-fortgeschrittene-3/2023-10-27/
LOCATION:Kurzzeitladen Aktiv\, Bahnhofstraße 4\, Neukirchen / Erzgebirge\, Sachsen\, 09221\, Deutschland
CATEGORIES:Kurzzeitladen Aktiv Neukirchen
END:VEVENT
BEGIN:VEVENT
DTSTART;TZID=Europe/Berlin:20231020T190000
DTEND;TZID=Europe/Berlin:20231020T210000
DTSTAMP:20260423T211511
CREATED:20230921T174232Z
LAST-MODIFIED:20230921T175342Z
UID:10001906-1697828400-1697835600@kurzzeitladen.de
SUMMARY:Vortrag Aromatherapie mit Ramona Hegewald
DESCRIPTION:Wie kann ich meinen Darm  mit ätherischen Ölen unterstützen?
URL:https://kurzzeitladen.de/event/vortrag-aromatherapie-mit-ramona-hegewald/
LOCATION:Kurzzeitladen Aktiv\, Bahnhofstraße 4\, Neukirchen / Erzgebirge\, Sachsen\, 09221\, Deutschland
END:VEVENT
BEGIN:VEVENT
DTSTART;TZID=Europe/Berlin:20231020T113000
DTEND;TZID=Europe/Berlin:20231020T123000
DTSTAMP:20260423T211511
CREATED:20230418T095825Z
LAST-MODIFIED:20240110T162111Z
UID:10001623-1697801400-1697805000@kurzzeitladen.de
SUMMARY:Yoga für Anfänger und Fortgeschrittene
DESCRIPTION:  \nAnmeldung unter: Claudia Rümmler\, Deine Yoga Zeit – Chemnitz\nTelefon: 0162/4976845\nE-Mail: claruem@gmx.de
URL:https://kurzzeitladen.de/event/yoga-fuer-anfaenger-und-fortgeschrittene-3/2023-10-20/
LOCATION:Kurzzeitladen Aktiv\, Bahnhofstraße 4\, Neukirchen / Erzgebirge\, Sachsen\, 09221\, Deutschland
CATEGORIES:Kurzzeitladen Aktiv Neukirchen
END:VEVENT
BEGIN:VEVENT
DTSTART;TZID=Europe/Berlin:20231018T180000
DTEND;TZID=Europe/Berlin:20231018T200000
DTSTAMP:20260423T211511
CREATED:20230731T131612Z
LAST-MODIFIED:20230831T125637Z
UID:10001895-1697652000-1697659200@kurzzeitladen.de
SUMMARY:Kreativ-Malabend mit Elisabeth Kunz
DESCRIPTION:Kreativ-Malabend\nmit Elisabeth Kunz \n18:00 – 20:00 Uhr\nErw. 10 €\nKi. 7€\nmax. 10 Personen \nWo: Kurzzeitladen Aktiv\nBahnhofstraße 4\n09221 Neukirchen \nWas: mit Farben spielen\nAquarellieren\nKartengestalltung\nSkizzieren\nUrban sketching \nWomit: Stifte\, Leim\, Schere\nPapier\, Pinsel\,Farben\nStempel\, Tinte\,\nTusche \n… stelle ich für meine malbegeisterten Teilnehmer gern zur Verfügung. \nKaffee und Tee sind im Preis inbegriffen. \nAnmeldung erforderlich bei:\nElisabeth Kunz\n▶ Tel. 01734758075\n▶ Über Instagram und Facebook: Elli_Kunz_Kunst
URL:https://kurzzeitladen.de/event/kreativ-malabend-mit-elisabeth-kunz-4/2023-10-18/
LOCATION:Kurzzeitladen Aktiv\, Bahnhofstraße 4\, Neukirchen / Erzgebirge\, Sachsen\, 09221\, Deutschland
END:VEVENT
BEGIN:VEVENT
DTSTART;TZID=Europe/Berlin:20231014T100000
DTEND;TZID=Europe/Berlin:20231014T120000
DTSTAMP:20260423T211511
CREATED:20230831T124625Z
LAST-MODIFIED:20230921T170605Z
UID:10001893-1697277600-1697284800@kurzzeitladen.de
SUMMARY:Nagelbild-Workshop
DESCRIPTION:Nagelbild Workshop mit Rebecca Bellmann von FingerDinger\nWann?\nSamstag 14.10.23 von 10-12 Uhr \nWo?\nKurzzeitladen Aktiv\nBahnhofstr. 4\, Neukirchen\, Erzgebirge \nBitte anmelden bei Rebecca Bellmann unter:\nfinger-dinger@gmx.de\n+49 179 269 5950
URL:https://kurzzeitladen.de/event/nagelbild-workshop-2/
LOCATION:Kurzzeitladen Aktiv\, Bahnhofstraße 4\, Neukirchen / Erzgebirge\, Sachsen\, 09221\, Deutschland
END:VEVENT
BEGIN:VEVENT
DTSTART;TZID=Europe/Berlin:20231013T113000
DTEND;TZID=Europe/Berlin:20231013T123000
DTSTAMP:20260423T211511
CREATED:20230418T095825Z
LAST-MODIFIED:20240110T162111Z
UID:10001622-1697196600-1697200200@kurzzeitladen.de
SUMMARY:Yoga für Anfänger und Fortgeschrittene
DESCRIPTION:  \nAnmeldung unter: Claudia Rümmler\, Deine Yoga Zeit – Chemnitz\nTelefon: 0162/4976845\nE-Mail: claruem@gmx.de
URL:https://kurzzeitladen.de/event/yoga-fuer-anfaenger-und-fortgeschrittene-3/2023-10-13/
LOCATION:Kurzzeitladen Aktiv\, Bahnhofstraße 4\, Neukirchen / Erzgebirge\, Sachsen\, 09221\, Deutschland
CATEGORIES:Kurzzeitladen Aktiv Neukirchen
END:VEVENT
BEGIN:VEVENT
DTSTART;TZID=Europe/Berlin:20231006T113000
DTEND;TZID=Europe/Berlin:20231006T123000
DTSTAMP:20260423T211511
CREATED:20230418T095825Z
LAST-MODIFIED:20240110T162111Z
UID:10001621-1696591800-1696595400@kurzzeitladen.de
SUMMARY:Yoga für Anfänger und Fortgeschrittene
DESCRIPTION:  \nAnmeldung unter: Claudia Rümmler\, Deine Yoga Zeit – Chemnitz\nTelefon: 0162/4976845\nE-Mail: claruem@gmx.de
URL:https://kurzzeitladen.de/event/yoga-fuer-anfaenger-und-fortgeschrittene-3/2023-10-06/
LOCATION:Kurzzeitladen Aktiv\, Bahnhofstraße 4\, Neukirchen / Erzgebirge\, Sachsen\, 09221\, Deutschland
CATEGORIES:Kurzzeitladen Aktiv Neukirchen
END:VEVENT
BEGIN:VEVENT
DTSTART;TZID=Europe/Berlin:20231004T180000
DTEND;TZID=Europe/Berlin:20231004T200000
DTSTAMP:20260423T211511
CREATED:20230731T131612Z
LAST-MODIFIED:20230831T125637Z
UID:10001894-1696442400-1696449600@kurzzeitladen.de
SUMMARY:Kreativ-Malabend mit Elisabeth Kunz
DESCRIPTION:Kreativ-Malabend\nmit Elisabeth Kunz \n18:00 – 20:00 Uhr\nErw. 10 €\nKi. 7€\nmax. 10 Personen \nWo: Kurzzeitladen Aktiv\nBahnhofstraße 4\n09221 Neukirchen \nWas: mit Farben spielen\nAquarellieren\nKartengestalltung\nSkizzieren\nUrban sketching \nWomit: Stifte\, Leim\, Schere\nPapier\, Pinsel\,Farben\nStempel\, Tinte\,\nTusche \n… stelle ich für meine malbegeisterten Teilnehmer gern zur Verfügung. \nKaffee und Tee sind im Preis inbegriffen. \nAnmeldung erforderlich bei:\nElisabeth Kunz\n▶ Tel. 01734758075\n▶ Über Instagram und Facebook: Elli_Kunz_Kunst
URL:https://kurzzeitladen.de/event/kreativ-malabend-mit-elisabeth-kunz-4/2023-10-04/
LOCATION:Kurzzeitladen Aktiv\, Bahnhofstraße 4\, Neukirchen / Erzgebirge\, Sachsen\, 09221\, Deutschland
END:VEVENT
BEGIN:VEVENT
DTSTART;TZID=Europe/Berlin:20230929T113000
DTEND;TZID=Europe/Berlin:20230929T123000
DTSTAMP:20260423T211511
CREATED:20230418T095825Z
LAST-MODIFIED:20240110T162111Z
UID:10001620-1695987000-1695990600@kurzzeitladen.de
SUMMARY:Yoga für Anfänger und Fortgeschrittene
DESCRIPTION:  \nAnmeldung unter: Claudia Rümmler\, Deine Yoga Zeit – Chemnitz\nTelefon: 0162/4976845\nE-Mail: claruem@gmx.de
URL:https://kurzzeitladen.de/event/yoga-fuer-anfaenger-und-fortgeschrittene-3/2023-09-29/
LOCATION:Kurzzeitladen Aktiv\, Bahnhofstraße 4\, Neukirchen / Erzgebirge\, Sachsen\, 09221\, Deutschland
CATEGORIES:Kurzzeitladen Aktiv Neukirchen
END:VEVENT
BEGIN:VEVENT
DTSTART;TZID=Europe/Berlin:20230922T113000
DTEND;TZID=Europe/Berlin:20230922T123000
DTSTAMP:20260423T211511
CREATED:20230418T095825Z
LAST-MODIFIED:20240110T162111Z
UID:10001619-1695382200-1695385800@kurzzeitladen.de
SUMMARY:Yoga für Anfänger und Fortgeschrittene
DESCRIPTION:  \nAnmeldung unter: Claudia Rümmler\, Deine Yoga Zeit – Chemnitz\nTelefon: 0162/4976845\nE-Mail: claruem@gmx.de
URL:https://kurzzeitladen.de/event/yoga-fuer-anfaenger-und-fortgeschrittene-3/2023-09-22/
LOCATION:Kurzzeitladen Aktiv\, Bahnhofstraße 4\, Neukirchen / Erzgebirge\, Sachsen\, 09221\, Deutschland
CATEGORIES:Kurzzeitladen Aktiv Neukirchen
END:VEVENT
BEGIN:VEVENT
DTSTART;TZID=Europe/Berlin:20230920T180000
DTEND;TZID=Europe/Berlin:20230920T200000
DTSTAMP:20260423T211511
CREATED:20230731T131612Z
LAST-MODIFIED:20230831T125637Z
UID:10001883-1695232800-1695240000@kurzzeitladen.de
SUMMARY:Kreativ-Malabend mit Elisabeth Kunz
DESCRIPTION:Kreativ-Malabend\nmit Elisabeth Kunz \n18:00 – 20:00 Uhr\nErw. 10 €\nKi. 7€\nmax. 10 Personen \nWo: Kurzzeitladen Aktiv\nBahnhofstraße 4\n09221 Neukirchen \nWas: mit Farben spielen\nAquarellieren\nKartengestalltung\nSkizzieren\nUrban sketching \nWomit: Stifte\, Leim\, Schere\nPapier\, Pinsel\,Farben\nStempel\, Tinte\,\nTusche \n… stelle ich für meine malbegeisterten Teilnehmer gern zur Verfügung. \nKaffee und Tee sind im Preis inbegriffen. \nAnmeldung erforderlich bei:\nElisabeth Kunz\n▶ Tel. 01734758075\n▶ Über Instagram und Facebook: Elli_Kunz_Kunst
URL:https://kurzzeitladen.de/event/kreativ-malabend-mit-elisabeth-kunz-4/2023-09-20/
LOCATION:Kurzzeitladen Aktiv\, Bahnhofstraße 4\, Neukirchen / Erzgebirge\, Sachsen\, 09221\, Deutschland
END:VEVENT
BEGIN:VEVENT
DTSTART;TZID=Europe/Berlin:20230915T113000
DTEND;TZID=Europe/Berlin:20230915T123000
DTSTAMP:20260423T211511
CREATED:20230418T095825Z
LAST-MODIFIED:20240110T162111Z
UID:10001618-1694777400-1694781000@kurzzeitladen.de
SUMMARY:Yoga für Anfänger und Fortgeschrittene
DESCRIPTION:  \nAnmeldung unter: Claudia Rümmler\, Deine Yoga Zeit – Chemnitz\nTelefon: 0162/4976845\nE-Mail: claruem@gmx.de
URL:https://kurzzeitladen.de/event/yoga-fuer-anfaenger-und-fortgeschrittene-3/2023-09-15/
LOCATION:Kurzzeitladen Aktiv\, Bahnhofstraße 4\, Neukirchen / Erzgebirge\, Sachsen\, 09221\, Deutschland
CATEGORIES:Kurzzeitladen Aktiv Neukirchen
END:VEVENT
BEGIN:VEVENT
DTSTART;TZID=Europe/Berlin:20230909T090000
DTEND;TZID=Europe/Berlin:20230909T120000
DTSTAMP:20260423T211511
CREATED:20230904T083545Z
LAST-MODIFIED:20230904T083728Z
UID:10001900-1694250000-1694260800@kurzzeitladen.de
SUMMARY:Workshop zum Thema Aromatherapie: gesunde Atmung mit Unterstützung von ätherischen Ölen
DESCRIPTION:Wann?\nSamstag 09.09.23 von 9-12 Uhr \nWo?\nKurzzeitladen Aktiv\nBahnhofstr. 4\, Neukirchen\, Erzgebirge \nBitte anmelden bei Ramona Hegewald unter:\nhybericum@web.de\n+49 174 9010502
URL:https://kurzzeitladen.de/event/workshop-zum-thema-aromatherapie-gesunde-atmung-mit-unterstuetzung-von-aetherischen-oelen/
LOCATION:Kurzzeitladen Aktiv\, Bahnhofstraße 4\, Neukirchen / Erzgebirge\, Sachsen\, 09221\, Deutschland
END:VEVENT
BEGIN:VEVENT
DTSTART;TZID=Europe/Berlin:20230908T113000
DTEND;TZID=Europe/Berlin:20230908T123000
DTSTAMP:20260423T211511
CREATED:20230418T095825Z
LAST-MODIFIED:20240110T162111Z
UID:10001617-1694172600-1694176200@kurzzeitladen.de
SUMMARY:Yoga für Anfänger und Fortgeschrittene
DESCRIPTION:  \nAnmeldung unter: Claudia Rümmler\, Deine Yoga Zeit – Chemnitz\nTelefon: 0162/4976845\nE-Mail: claruem@gmx.de
URL:https://kurzzeitladen.de/event/yoga-fuer-anfaenger-und-fortgeschrittene-3/2023-09-08/
LOCATION:Kurzzeitladen Aktiv\, Bahnhofstraße 4\, Neukirchen / Erzgebirge\, Sachsen\, 09221\, Deutschland
CATEGORIES:Kurzzeitladen Aktiv Neukirchen
END:VEVENT
BEGIN:VEVENT
DTSTART;TZID=Europe/Berlin:20230906T180000
DTEND;TZID=Europe/Berlin:20230906T200000
DTSTAMP:20260423T211512
CREATED:20230731T131612Z
LAST-MODIFIED:20230831T125637Z
UID:10001882-1694023200-1694030400@kurzzeitladen.de
SUMMARY:Kreativ-Malabend mit Elisabeth Kunz
DESCRIPTION:Kreativ-Malabend\nmit Elisabeth Kunz \n18:00 – 20:00 Uhr\nErw. 10 €\nKi. 7€\nmax. 10 Personen \nWo: Kurzzeitladen Aktiv\nBahnhofstraße 4\n09221 Neukirchen \nWas: mit Farben spielen\nAquarellieren\nKartengestalltung\nSkizzieren\nUrban sketching \nWomit: Stifte\, Leim\, Schere\nPapier\, Pinsel\,Farben\nStempel\, Tinte\,\nTusche \n… stelle ich für meine malbegeisterten Teilnehmer gern zur Verfügung. \nKaffee und Tee sind im Preis inbegriffen. \nAnmeldung erforderlich bei:\nElisabeth Kunz\n▶ Tel. 01734758075\n▶ Über Instagram und Facebook: Elli_Kunz_Kunst
URL:https://kurzzeitladen.de/event/kreativ-malabend-mit-elisabeth-kunz-4/2023-09-06/
LOCATION:Kurzzeitladen Aktiv\, Bahnhofstraße 4\, Neukirchen / Erzgebirge\, Sachsen\, 09221\, Deutschland
END:VEVENT
BEGIN:VEVENT
DTSTART;TZID=Europe/Berlin:20230901T113000
DTEND;TZID=Europe/Berlin:20230901T123000
DTSTAMP:20260423T211512
CREATED:20230418T095825Z
LAST-MODIFIED:20240110T162111Z
UID:10001616-1693567800-1693571400@kurzzeitladen.de
SUMMARY:Yoga für Anfänger und Fortgeschrittene
DESCRIPTION:  \nAnmeldung unter: Claudia Rümmler\, Deine Yoga Zeit – Chemnitz\nTelefon: 0162/4976845\nE-Mail: claruem@gmx.de
URL:https://kurzzeitladen.de/event/yoga-fuer-anfaenger-und-fortgeschrittene-3/2023-09-01/
LOCATION:Kurzzeitladen Aktiv\, Bahnhofstraße 4\, Neukirchen / Erzgebirge\, Sachsen\, 09221\, Deutschland
CATEGORIES:Kurzzeitladen Aktiv Neukirchen
END:VEVENT
BEGIN:VEVENT
DTSTART;TZID=Europe/Berlin:20230825T113000
DTEND;TZID=Europe/Berlin:20230825T123000
DTSTAMP:20260423T211512
CREATED:20230418T095825Z
LAST-MODIFIED:20240110T162111Z
UID:10001615-1692963000-1692966600@kurzzeitladen.de
SUMMARY:Yoga für Anfänger und Fortgeschrittene
DESCRIPTION:  \nAnmeldung unter: Claudia Rümmler\, Deine Yoga Zeit – Chemnitz\nTelefon: 0162/4976845\nE-Mail: claruem@gmx.de
URL:https://kurzzeitladen.de/event/yoga-fuer-anfaenger-und-fortgeschrittene-3/2023-08-25/
LOCATION:Kurzzeitladen Aktiv\, Bahnhofstraße 4\, Neukirchen / Erzgebirge\, Sachsen\, 09221\, Deutschland
CATEGORIES:Kurzzeitladen Aktiv Neukirchen
END:VEVENT
BEGIN:VEVENT
DTSTART;TZID=Europe/Berlin:20230818T113000
DTEND;TZID=Europe/Berlin:20230818T123000
DTSTAMP:20260423T211512
CREATED:20230418T095825Z
LAST-MODIFIED:20240110T162111Z
UID:10001614-1692358200-1692361800@kurzzeitladen.de
SUMMARY:Yoga für Anfänger und Fortgeschrittene
DESCRIPTION:  \nAnmeldung unter: Claudia Rümmler\, Deine Yoga Zeit – Chemnitz\nTelefon: 0162/4976845\nE-Mail: claruem@gmx.de
URL:https://kurzzeitladen.de/event/yoga-fuer-anfaenger-und-fortgeschrittene-3/2023-08-18/
LOCATION:Kurzzeitladen Aktiv\, Bahnhofstraße 4\, Neukirchen / Erzgebirge\, Sachsen\, 09221\, Deutschland
CATEGORIES:Kurzzeitladen Aktiv Neukirchen
END:VEVENT
BEGIN:VEVENT
DTSTART;TZID=Europe/Berlin:20230816T180000
DTEND;TZID=Europe/Berlin:20230816T200000
DTSTAMP:20260423T211512
CREATED:20230731T131612Z
LAST-MODIFIED:20230831T125637Z
UID:10001881-1692208800-1692216000@kurzzeitladen.de
SUMMARY:Kreativ-Malabend mit Elisabeth Kunz
DESCRIPTION:Kreativ-Malabend\nmit Elisabeth Kunz \n18:00 – 20:00 Uhr\nErw. 10 €\nKi. 7€\nmax. 10 Personen \nWo: Kurzzeitladen Aktiv\nBahnhofstraße 4\n09221 Neukirchen \nWas: mit Farben spielen\nAquarellieren\nKartengestalltung\nSkizzieren\nUrban sketching \nWomit: Stifte\, Leim\, Schere\nPapier\, Pinsel\,Farben\nStempel\, Tinte\,\nTusche \n… stelle ich für meine malbegeisterten Teilnehmer gern zur Verfügung. \nKaffee und Tee sind im Preis inbegriffen. \nAnmeldung erforderlich bei:\nElisabeth Kunz\n▶ Tel. 01734758075\n▶ Über Instagram und Facebook: Elli_Kunz_Kunst
URL:https://kurzzeitladen.de/event/kreativ-malabend-mit-elisabeth-kunz-4/2023-08-16/
LOCATION:Kurzzeitladen Aktiv\, Bahnhofstraße 4\, Neukirchen / Erzgebirge\, Sachsen\, 09221\, Deutschland
END:VEVENT
BEGIN:VEVENT
DTSTART;TZID=Europe/Berlin:20230811T113000
DTEND;TZID=Europe/Berlin:20230811T123000
DTSTAMP:20260423T211512
CREATED:20230418T095825Z
LAST-MODIFIED:20240110T162111Z
UID:10001613-1691753400-1691757000@kurzzeitladen.de
SUMMARY:Yoga für Anfänger und Fortgeschrittene
DESCRIPTION:  \nAnmeldung unter: Claudia Rümmler\, Deine Yoga Zeit – Chemnitz\nTelefon: 0162/4976845\nE-Mail: claruem@gmx.de
URL:https://kurzzeitladen.de/event/yoga-fuer-anfaenger-und-fortgeschrittene-3/2023-08-11/
LOCATION:Kurzzeitladen Aktiv\, Bahnhofstraße 4\, Neukirchen / Erzgebirge\, Sachsen\, 09221\, Deutschland
CATEGORIES:Kurzzeitladen Aktiv Neukirchen
END:VEVENT
BEGIN:VEVENT
DTSTART;TZID=Europe/Berlin:20230804T190000
DTEND;TZID=Europe/Berlin:20230804T210000
DTSTAMP:20260423T211512
CREATED:20230705T073011Z
LAST-MODIFIED:20230705T073011Z
UID:10001871-1691175600-1691182800@kurzzeitladen.de
SUMMARY:Einführung in die Welt der ätherischen Öle
DESCRIPTION:
URL:https://kurzzeitladen.de/event/einfuehrung-in-die-welt-der-aetherischen-oele-2/
LOCATION:Kurzzeitladen Aktiv\, Bahnhofstraße 4\, Neukirchen / Erzgebirge\, Sachsen\, 09221\, Deutschland
END:VEVENT
BEGIN:VEVENT
DTSTART;TZID=Europe/Berlin:20230804T113000
DTEND;TZID=Europe/Berlin:20230804T123000
DTSTAMP:20260423T211512
CREATED:20230418T095825Z
LAST-MODIFIED:20240110T162111Z
UID:10001612-1691148600-1691152200@kurzzeitladen.de
SUMMARY:Yoga für Anfänger und Fortgeschrittene
DESCRIPTION:  \nAnmeldung unter: Claudia Rümmler\, Deine Yoga Zeit – Chemnitz\nTelefon: 0162/4976845\nE-Mail: claruem@gmx.de
URL:https://kurzzeitladen.de/event/yoga-fuer-anfaenger-und-fortgeschrittene-3/2023-08-04/
LOCATION:Kurzzeitladen Aktiv\, Bahnhofstraße 4\, Neukirchen / Erzgebirge\, Sachsen\, 09221\, Deutschland
CATEGORIES:Kurzzeitladen Aktiv Neukirchen
END:VEVENT
BEGIN:VEVENT
DTSTART;TZID=Europe/Berlin:20230802T180000
DTEND;TZID=Europe/Berlin:20230802T200000
DTSTAMP:20260423T211512
CREATED:20230710T091024Z
LAST-MODIFIED:20230710T091024Z
UID:10001874-1690999200-1691006400@kurzzeitladen.de
SUMMARY:Kreativ-Malabend mit Elisabeth Kunz
DESCRIPTION:Kreativ-Malabend\nmit Elisabeth Kunz \nWann: Mittwoch 02.08.2023\n18:00 – 20:00 Uhr\nErw. 10 €\nKi. 7€\nmax. 10 Personen \nWo: Kurzzeitladen Aktiv\nBahnhofstraße 4\n09221 Neukirchen \nWas: mit Farben spielen\nAquarellieren\nKartengestalltung\nSkizzieren\nUrban sketching \nWomit: Stifte\, Leim\, Schere\nPapier\, Pinsel\,Farben\nStempel\, Tinte\,\nTusche \n… stelle ich für meine malbegeisterten Teilnehmer gern zur Verfügung. \nKaffee und Tee sind im Preis inbegriffen. \nAnmeldung erforderlich bei:\nElisabeth Kunz\n▶ Tel. 01734758075\n▶ Über Instagram und Facebook: Elli_Kunz_Kunst
URL:https://kurzzeitladen.de/event/kreativ-malabend-mit-elisabeth-kunz-3/
LOCATION:Kurzzeitladen Aktiv\, Bahnhofstraße 4\, Neukirchen / Erzgebirge\, Sachsen\, 09221\, Deutschland
END:VEVENT
BEGIN:VEVENT
DTSTART;TZID=Europe/Berlin:20230728T190000
DTEND;TZID=Europe/Berlin:20230728T210000
DTSTAMP:20260423T211512
CREATED:20230705T073238Z
LAST-MODIFIED:20230710T090311Z
UID:10001872-1690570800-1690578000@kurzzeitladen.de
SUMMARY:Sommer\, Sonne\, Urlaubszeit mit Ringana
DESCRIPTION:Eine Präsentation von frischer\, nachhaltiger Naturkosmetik und mehr… weil Natur unschlagbar ist.\nDatum: Freitag\, 28.7.2023\nOrt: Kurzzeitladen Aktiv\, Bahnhofstraße 4\, Neukirchen Erzgebirge\nZeit: Ist 19.00 Uhr \nEs begrüßen Euch die\nFrischepartnerinnen: \nJacqueline Ocana Garcia\nTel: 0176 96250094\nMail: J.Ocana@gmx.de \nund \nViola Einert-Krug\nTel: 0152 29264304\nMail: veinertkrug@gmail.com \nUm Anmeldung wird gebeten.
URL:https://kurzzeitladen.de/event/sommer-sonne-urlaubszeit-mit-ringana/
LOCATION:Kurzzeitladen Aktiv\, Bahnhofstraße 4\, Neukirchen / Erzgebirge\, Sachsen\, 09221\, Deutschland
END:VEVENT
BEGIN:VEVENT
DTSTART;TZID=Europe/Berlin:20230728T113000
DTEND;TZID=Europe/Berlin:20230728T123000
DTSTAMP:20260423T211512
CREATED:20230418T095825Z
LAST-MODIFIED:20240110T162111Z
UID:10001611-1690543800-1690547400@kurzzeitladen.de
SUMMARY:Yoga für Anfänger und Fortgeschrittene
DESCRIPTION:  \nAnmeldung unter: Claudia Rümmler\, Deine Yoga Zeit – Chemnitz\nTelefon: 0162/4976845\nE-Mail: claruem@gmx.de
URL:https://kurzzeitladen.de/event/yoga-fuer-anfaenger-und-fortgeschrittene-3/2023-07-28/
LOCATION:Kurzzeitladen Aktiv\, Bahnhofstraße 4\, Neukirchen / Erzgebirge\, Sachsen\, 09221\, Deutschland
CATEGORIES:Kurzzeitladen Aktiv Neukirchen
END:VEVENT
BEGIN:VEVENT
DTSTART;TZID=Europe/Berlin:20230726T180000
DTEND;TZID=Europe/Berlin:20230726T200000
DTSTAMP:20260423T211512
CREATED:20230710T090938Z
LAST-MODIFIED:20230710T090938Z
UID:10001873-1690394400-1690401600@kurzzeitladen.de
SUMMARY:Kreativ-Malabend mit Elisabeth Kunz
DESCRIPTION:Kreativ-Malabend\nmit Elisabeth Kunz \nWann: Mittwoch 26.07.2023\n18:00 – 20:00 Uhr\nErw. 10 €\nKi. 7€\nmax. 10 Personen \nWo: Kurzzeitladen Aktiv\nBahnhofstraße 4\n09221 Neukirchen \nWas: mit Farben spielen\nAquarellieren\nKartengestalltung\nSkizzieren\nUrban sketching \nWomit: Stifte\, Leim\, Schere\nPapier\, Pinsel\,Farben\nStempel\, Tinte\,\nTusche \n… stelle ich für meine malbegeisterten Teilnehmer gern zur Verfügung. \nKaffee und Tee sind im Preis inbegriffen. \nAnmeldung erforderlich bei:\nElisabeth Kunz\n▶ Tel. 01734758075\n▶ Über Instagram und Facebook: Elli_Kunz_Kunst
URL:https://kurzzeitladen.de/event/kreativ-malabend-mit-elisabeth-kunz-2/
LOCATION:Kurzzeitladen Aktiv\, Bahnhofstraße 4\, Neukirchen / Erzgebirge\, Sachsen\, 09221\, Deutschland
END:VEVENT
BEGIN:VEVENT
DTSTART;TZID=Europe/Berlin:20230721T113000
DTEND;TZID=Europe/Berlin:20230721T123000
DTSTAMP:20260423T211512
CREATED:20230418T095825Z
LAST-MODIFIED:20240110T162111Z
UID:10001610-1689939000-1689942600@kurzzeitladen.de
SUMMARY:Yoga für Anfänger und Fortgeschrittene
DESCRIPTION:  \nAnmeldung unter: Claudia Rümmler\, Deine Yoga Zeit – Chemnitz\nTelefon: 0162/4976845\nE-Mail: claruem@gmx.de
URL:https://kurzzeitladen.de/event/yoga-fuer-anfaenger-und-fortgeschrittene-3/2023-07-21/
LOCATION:Kurzzeitladen Aktiv\, Bahnhofstraße 4\, Neukirchen / Erzgebirge\, Sachsen\, 09221\, Deutschland
CATEGORIES:Kurzzeitladen Aktiv Neukirchen
END:VEVENT
BEGIN:VEVENT
DTSTART;TZID=Europe/Berlin:20230714T113000
DTEND;TZID=Europe/Berlin:20230714T123000
DTSTAMP:20260423T211512
CREATED:20230418T095825Z
LAST-MODIFIED:20240110T162111Z
UID:10001609-1689334200-1689337800@kurzzeitladen.de
SUMMARY:Yoga für Anfänger und Fortgeschrittene
DESCRIPTION:  \nAnmeldung unter: Claudia Rümmler\, Deine Yoga Zeit – Chemnitz\nTelefon: 0162/4976845\nE-Mail: claruem@gmx.de
URL:https://kurzzeitladen.de/event/yoga-fuer-anfaenger-und-fortgeschrittene-3/2023-07-14/
LOCATION:Kurzzeitladen Aktiv\, Bahnhofstraße 4\, Neukirchen / Erzgebirge\, Sachsen\, 09221\, Deutschland
CATEGORIES:Kurzzeitladen Aktiv Neukirchen
END:VEVENT
BEGIN:VEVENT
DTSTART;TZID=Europe/Berlin:20230707T113000
DTEND;TZID=Europe/Berlin:20230707T123000
DTSTAMP:20260423T211512
CREATED:20230418T095825Z
LAST-MODIFIED:20240110T162111Z
UID:10001608-1688729400-1688733000@kurzzeitladen.de
SUMMARY:Yoga für Anfänger und Fortgeschrittene
DESCRIPTION:  \nAnmeldung unter: Claudia Rümmler\, Deine Yoga Zeit – Chemnitz\nTelefon: 0162/4976845\nE-Mail: claruem@gmx.de
URL:https://kurzzeitladen.de/event/yoga-fuer-anfaenger-und-fortgeschrittene-3/2023-07-07/
LOCATION:Kurzzeitladen Aktiv\, Bahnhofstraße 4\, Neukirchen / Erzgebirge\, Sachsen\, 09221\, Deutschland
CATEGORIES:Kurzzeitladen Aktiv Neukirchen
END:VEVENT
END:VCALENDAR