BEGIN:VCALENDAR
VERSION:2.0
PRODID:-//Kurzzeitladen - ECPv6.15.17.1//NONSGML v1.0//EN
CALSCALE:GREGORIAN
METHOD:PUBLISH
X-ORIGINAL-URL:https://kurzzeitladen.de
X-WR-CALDESC:Veranstaltungen für Kurzzeitladen
REFRESH-INTERVAL;VALUE=DURATION:PT1H
X-Robots-Tag:noindex
X-PUBLISHED-TTL:PT1H
BEGIN:VTIMEZONE
TZID:Europe/Berlin
BEGIN:DAYLIGHT
TZOFFSETFROM:+0100
TZOFFSETTO:+0200
TZNAME:CEST
DTSTART:20220327T010000
END:DAYLIGHT
BEGIN:STANDARD
TZOFFSETFROM:+0200
TZOFFSETTO:+0100
TZNAME:CET
DTSTART:20221030T010000
END:STANDARD
BEGIN:DAYLIGHT
TZOFFSETFROM:+0100
TZOFFSETTO:+0200
TZNAME:CEST
DTSTART:20230326T010000
END:DAYLIGHT
BEGIN:STANDARD
TZOFFSETFROM:+0200
TZOFFSETTO:+0100
TZNAME:CET
DTSTART:20231029T010000
END:STANDARD
BEGIN:DAYLIGHT
TZOFFSETFROM:+0100
TZOFFSETTO:+0200
TZNAME:CEST
DTSTART:20240331T010000
END:DAYLIGHT
BEGIN:STANDARD
TZOFFSETFROM:+0200
TZOFFSETTO:+0100
TZNAME:CET
DTSTART:20241027T010000
END:STANDARD
END:VTIMEZONE
BEGIN:VEVENT
DTSTART;TZID=Europe/Berlin:20230602T113000
DTEND;TZID=Europe/Berlin:20230602T123000
DTSTAMP:20260424T020106
CREATED:20230418T095825Z
LAST-MODIFIED:20240110T162111Z
UID:10001603-1685705400-1685709000@kurzzeitladen.de
SUMMARY:Yoga für Anfänger und Fortgeschrittene
DESCRIPTION:  \nAnmeldung unter: Claudia Rümmler\, Deine Yoga Zeit – Chemnitz\nTelefon: 0162/4976845\nE-Mail: claruem@gmx.de
URL:https://kurzzeitladen.de/event/yoga-fuer-anfaenger-und-fortgeschrittene-3/2023-06-02/
LOCATION:Kurzzeitladen Aktiv\, Bahnhofstraße 4\, Neukirchen / Erzgebirge\, Sachsen\, 09221\, Deutschland
CATEGORIES:Kurzzeitladen Aktiv Neukirchen
END:VEVENT
BEGIN:VEVENT
DTSTART;TZID=Europe/Berlin:20230526T113000
DTEND;TZID=Europe/Berlin:20230526T123000
DTSTAMP:20260424T020106
CREATED:20230418T095825Z
LAST-MODIFIED:20240110T162111Z
UID:10001602-1685100600-1685104200@kurzzeitladen.de
SUMMARY:Yoga für Anfänger und Fortgeschrittene
DESCRIPTION:  \nAnmeldung unter: Claudia Rümmler\, Deine Yoga Zeit – Chemnitz\nTelefon: 0162/4976845\nE-Mail: claruem@gmx.de
URL:https://kurzzeitladen.de/event/yoga-fuer-anfaenger-und-fortgeschrittene-3/2023-05-26/
LOCATION:Kurzzeitladen Aktiv\, Bahnhofstraße 4\, Neukirchen / Erzgebirge\, Sachsen\, 09221\, Deutschland
CATEGORIES:Kurzzeitladen Aktiv Neukirchen
END:VEVENT
BEGIN:VEVENT
DTSTART;TZID=Europe/Berlin:20230519T113000
DTEND;TZID=Europe/Berlin:20230519T123000
DTSTAMP:20260424T020106
CREATED:20230418T095825Z
LAST-MODIFIED:20240110T162111Z
UID:10001601-1684495800-1684499400@kurzzeitladen.de
SUMMARY:Yoga für Anfänger und Fortgeschrittene
DESCRIPTION:  \nAnmeldung unter: Claudia Rümmler\, Deine Yoga Zeit – Chemnitz\nTelefon: 0162/4976845\nE-Mail: claruem@gmx.de
URL:https://kurzzeitladen.de/event/yoga-fuer-anfaenger-und-fortgeschrittene-3/2023-05-19/
LOCATION:Kurzzeitladen Aktiv\, Bahnhofstraße 4\, Neukirchen / Erzgebirge\, Sachsen\, 09221\, Deutschland
CATEGORIES:Kurzzeitladen Aktiv Neukirchen
END:VEVENT
BEGIN:VEVENT
DTSTART;TZID=Europe/Berlin:20230512T113000
DTEND;TZID=Europe/Berlin:20230512T123000
DTSTAMP:20260424T020106
CREATED:20230418T095825Z
LAST-MODIFIED:20240110T162111Z
UID:10001600-1683891000-1683894600@kurzzeitladen.de
SUMMARY:Yoga für Anfänger und Fortgeschrittene
DESCRIPTION:  \nAnmeldung unter: Claudia Rümmler\, Deine Yoga Zeit – Chemnitz\nTelefon: 0162/4976845\nE-Mail: claruem@gmx.de
URL:https://kurzzeitladen.de/event/yoga-fuer-anfaenger-und-fortgeschrittene-3/2023-05-12/
LOCATION:Kurzzeitladen Aktiv\, Bahnhofstraße 4\, Neukirchen / Erzgebirge\, Sachsen\, 09221\, Deutschland
CATEGORIES:Kurzzeitladen Aktiv Neukirchen
END:VEVENT
BEGIN:VEVENT
DTSTART;TZID=Europe/Berlin:20230505T113000
DTEND;TZID=Europe/Berlin:20230505T123000
DTSTAMP:20260424T020106
CREATED:20230418T095825Z
LAST-MODIFIED:20240110T162111Z
UID:10001599-1683286200-1683289800@kurzzeitladen.de
SUMMARY:Yoga für Anfänger und Fortgeschrittene
DESCRIPTION:  \nAnmeldung unter: Claudia Rümmler\, Deine Yoga Zeit – Chemnitz\nTelefon: 0162/4976845\nE-Mail: claruem@gmx.de
URL:https://kurzzeitladen.de/event/yoga-fuer-anfaenger-und-fortgeschrittene-3/2023-05-05/
LOCATION:Kurzzeitladen Aktiv\, Bahnhofstraße 4\, Neukirchen / Erzgebirge\, Sachsen\, 09221\, Deutschland
CATEGORIES:Kurzzeitladen Aktiv Neukirchen
END:VEVENT
BEGIN:VEVENT
DTSTART;TZID=Europe/Berlin:20230428T180000
DTEND;TZID=Europe/Berlin:20230428T210000
DTSTAMP:20260424T020106
CREATED:20230411T141141Z
LAST-MODIFIED:20230418T100621Z
UID:10000788-1682704800-1682715600@kurzzeitladen.de
SUMMARY:Systemische (Familien-) Aufstellung in der Gruppe
DESCRIPTION:Du hast ein Lebensthema\, mit welchem du an deine Grenzen gekommen bist und weißt nicht weiter oder du brauchst Rat\, um Sichtweisen zu ändern und wie du das machen könntest?\nGemeinsam schauen wir hin und finden deinen Lösungsweg. Wenn die Ordnung wiederhergestellt ist\, können sich die Dinge bereinigen. Dein Lebensweg ist dann frei. Frei von der Altlast der Vergangenheit. Du kannst in deine Zukunft gehen\, indem du im Hier und Jetzt dir DEIN LEBEN erschaffst\, das wirklich deinem Lebensweg entspricht. \n \nAnmeldung bei Susann Uhlig unter:\n017634130669\nlivingyoga-erz.de \nWeitere Infos unter:\nhttps://livingyoga-erz.de/yoga-als-lebensweg-systemisches-stellen/ \n  \n 
URL:https://kurzzeitladen.de/event/systemische-familien-aufstellung-in-der-gruppe/
LOCATION:Kurzzeitladen Aktiv\, Bahnhofstraße 4\, Neukirchen / Erzgebirge\, Sachsen\, 09221\, Deutschland
END:VEVENT
BEGIN:VEVENT
DTSTART;TZID=Europe/Berlin:20230428T113000
DTEND;TZID=Europe/Berlin:20230428T123000
DTSTAMP:20260424T020106
CREATED:20230418T095825Z
LAST-MODIFIED:20240110T162111Z
UID:10001598-1682681400-1682685000@kurzzeitladen.de
SUMMARY:Yoga für Anfänger und Fortgeschrittene
DESCRIPTION:  \nAnmeldung unter: Claudia Rümmler\, Deine Yoga Zeit – Chemnitz\nTelefon: 0162/4976845\nE-Mail: claruem@gmx.de
URL:https://kurzzeitladen.de/event/yoga-fuer-anfaenger-und-fortgeschrittene-3/2023-04-28/
LOCATION:Kurzzeitladen Aktiv\, Bahnhofstraße 4\, Neukirchen / Erzgebirge\, Sachsen\, 09221\, Deutschland
CATEGORIES:Kurzzeitladen Aktiv Neukirchen
END:VEVENT
BEGIN:VEVENT
DTSTART;TZID=Europe/Berlin:20230424T163000
DTEND;TZID=Europe/Berlin:20230424T183000
DTSTAMP:20260424T020106
CREATED:20230403T122618Z
LAST-MODIFIED:20230418T091823Z
UID:10000787-1682353800-1682361000@kurzzeitladen.de
SUMMARY:Aquarell Workshop Florale Motive (bereits ausgebucht)
DESCRIPTION:
URL:https://kurzzeitladen.de/event/aquarell-workshop-florale-motive-bereits-ausgebucht/
LOCATION:Kurzzeitladen Aktiv\, Bahnhofstraße 4\, Neukirchen / Erzgebirge\, Sachsen\, 09221\, Deutschland
END:VEVENT
BEGIN:VEVENT
DTSTART;TZID=Europe/Berlin:20230421T113000
DTEND;TZID=Europe/Berlin:20230421T123000
DTSTAMP:20260424T020106
CREATED:20230418T095825Z
LAST-MODIFIED:20240110T162111Z
UID:10001597-1682076600-1682080200@kurzzeitladen.de
SUMMARY:Yoga für Anfänger und Fortgeschrittene
DESCRIPTION:  \nAnmeldung unter: Claudia Rümmler\, Deine Yoga Zeit – Chemnitz\nTelefon: 0162/4976845\nE-Mail: claruem@gmx.de
URL:https://kurzzeitladen.de/event/yoga-fuer-anfaenger-und-fortgeschrittene-3/2023-04-21/
LOCATION:Kurzzeitladen Aktiv\, Bahnhofstraße 4\, Neukirchen / Erzgebirge\, Sachsen\, 09221\, Deutschland
CATEGORIES:Kurzzeitladen Aktiv Neukirchen
END:VEVENT
BEGIN:VEVENT
DTSTART;TZID=Europe/Berlin:20230419T163000
DTEND;TZID=Europe/Berlin:20230419T183000
DTSTAMP:20260424T020106
CREATED:20230403T104058Z
LAST-MODIFIED:20230418T095558Z
UID:10000786-1681921800-1681929000@kurzzeitladen.de
SUMMARY:Aquarell Workshop Florale Motive
DESCRIPTION:
URL:https://kurzzeitladen.de/event/aquarell-workshop-florale-motive/
LOCATION:Kurzzeitladen Aktiv\, Bahnhofstraße 4\, Neukirchen / Erzgebirge\, Sachsen\, 09221\, Deutschland
END:VEVENT
BEGIN:VEVENT
DTSTART;TZID=Europe/Berlin:20230414T113000
DTEND;TZID=Europe/Berlin:20230414T123000
DTSTAMP:20260424T020106
CREATED:20230418T095825Z
LAST-MODIFIED:20240110T162111Z
UID:10001596-1681471800-1681475400@kurzzeitladen.de
SUMMARY:Yoga für Anfänger und Fortgeschrittene
DESCRIPTION:  \nAnmeldung unter: Claudia Rümmler\, Deine Yoga Zeit – Chemnitz\nTelefon: 0162/4976845\nE-Mail: claruem@gmx.de
URL:https://kurzzeitladen.de/event/yoga-fuer-anfaenger-und-fortgeschrittene-3/2023-04-14/
LOCATION:Kurzzeitladen Aktiv\, Bahnhofstraße 4\, Neukirchen / Erzgebirge\, Sachsen\, 09221\, Deutschland
CATEGORIES:Kurzzeitladen Aktiv Neukirchen
END:VEVENT
BEGIN:VEVENT
DTSTART;TZID=Europe/Berlin:20230407T113000
DTEND;TZID=Europe/Berlin:20230407T123000
DTSTAMP:20260424T020106
CREATED:20230418T095825Z
LAST-MODIFIED:20240110T162111Z
UID:10001595-1680867000-1680870600@kurzzeitladen.de
SUMMARY:Yoga für Anfänger und Fortgeschrittene
DESCRIPTION:  \nAnmeldung unter: Claudia Rümmler\, Deine Yoga Zeit – Chemnitz\nTelefon: 0162/4976845\nE-Mail: claruem@gmx.de
URL:https://kurzzeitladen.de/event/yoga-fuer-anfaenger-und-fortgeschrittene-3/2023-04-07/
LOCATION:Kurzzeitladen Aktiv\, Bahnhofstraße 4\, Neukirchen / Erzgebirge\, Sachsen\, 09221\, Deutschland
CATEGORIES:Kurzzeitladen Aktiv Neukirchen
END:VEVENT
BEGIN:VEVENT
DTSTART;TZID=Europe/Berlin:20230331T113000
DTEND;TZID=Europe/Berlin:20230331T123000
DTSTAMP:20260424T020106
CREATED:20230418T095825Z
LAST-MODIFIED:20240110T162111Z
UID:10001594-1680262200-1680265800@kurzzeitladen.de
SUMMARY:Yoga für Anfänger und Fortgeschrittene
DESCRIPTION:  \nAnmeldung unter: Claudia Rümmler\, Deine Yoga Zeit – Chemnitz\nTelefon: 0162/4976845\nE-Mail: claruem@gmx.de
URL:https://kurzzeitladen.de/event/yoga-fuer-anfaenger-und-fortgeschrittene-3/2023-03-31/
LOCATION:Kurzzeitladen Aktiv\, Bahnhofstraße 4\, Neukirchen / Erzgebirge\, Sachsen\, 09221\, Deutschland
CATEGORIES:Kurzzeitladen Aktiv Neukirchen
END:VEVENT
BEGIN:VEVENT
DTSTART;TZID=Europe/Berlin:20230327T180000
DTEND;TZID=Europe/Berlin:20230327T190000
DTSTAMP:20260424T020106
CREATED:20230326T174553Z
LAST-MODIFIED:20230326T175133Z
UID:10000785-1679940000-1679943600@kurzzeitladen.de
SUMMARY:Eröffnungsveranstaltung Kurzzeitladen Aktiv
DESCRIPTION:
URL:https://kurzzeitladen.de/event/eroeffnungsveranstaltung-kurzzeitladen-aktiv/
LOCATION:Kurzzeitladen Aktiv\, Bahnhofstraße 4\, Neukirchen / Erzgebirge\, Sachsen\, 09221\, Deutschland
END:VEVENT
END:VCALENDAR