BEGIN:VCALENDAR
VERSION:2.0
PRODID:-//Kurzzeitladen - ECPv6.15.17.1//NONSGML v1.0//EN
CALSCALE:GREGORIAN
METHOD:PUBLISH
X-ORIGINAL-URL:https://kurzzeitladen.de
X-WR-CALDESC:Veranstaltungen für Kurzzeitladen
REFRESH-INTERVAL;VALUE=DURATION:PT1H
X-Robots-Tag:noindex
X-PUBLISHED-TTL:PT1H
BEGIN:VTIMEZONE
TZID:Europe/Berlin
BEGIN:DAYLIGHT
TZOFFSETFROM:+0100
TZOFFSETTO:+0200
TZNAME:CEST
DTSTART:20220327T010000
END:DAYLIGHT
BEGIN:STANDARD
TZOFFSETFROM:+0200
TZOFFSETTO:+0100
TZNAME:CET
DTSTART:20221030T010000
END:STANDARD
BEGIN:DAYLIGHT
TZOFFSETFROM:+0100
TZOFFSETTO:+0200
TZNAME:CEST
DTSTART:20230326T010000
END:DAYLIGHT
BEGIN:STANDARD
TZOFFSETFROM:+0200
TZOFFSETTO:+0100
TZNAME:CET
DTSTART:20231029T010000
END:STANDARD
BEGIN:DAYLIGHT
TZOFFSETFROM:+0100
TZOFFSETTO:+0200
TZNAME:CEST
DTSTART:20240331T010000
END:DAYLIGHT
BEGIN:STANDARD
TZOFFSETFROM:+0200
TZOFFSETTO:+0100
TZNAME:CET
DTSTART:20241027T010000
END:STANDARD
BEGIN:DAYLIGHT
TZOFFSETFROM:+0100
TZOFFSETTO:+0200
TZNAME:CEST
DTSTART:20250330T010000
END:DAYLIGHT
BEGIN:STANDARD
TZOFFSETFROM:+0200
TZOFFSETTO:+0100
TZNAME:CET
DTSTART:20251026T010000
END:STANDARD
END:VTIMEZONE
BEGIN:VEVENT
DTSTART;TZID=Europe/Berlin:20240506T183000
DTEND;TZID=Europe/Berlin:20240506T203000
DTSTAMP:20260423T143844
CREATED:20240316T142125Z
LAST-MODIFIED:20240316T142125Z
UID:10002212-1715020200-1715027400@kurzzeitladen.de
SUMMARY:Vortrag Hundefutter - Gesunder Hund!
DESCRIPTION:
URL:https://kurzzeitladen.de/event/vortrag-hundefutter-gesunder-hund/
LOCATION:Kurzzeitladen Aktiv\, Bahnhofstraße 4\, Neukirchen / Erzgebirge\, Sachsen\, 09221\, Deutschland
CATEGORIES:Kurzzeitladen Aktiv Neukirchen
END:VEVENT
BEGIN:VEVENT
DTSTART;TZID=Europe/Berlin:20240503T113000
DTEND;TZID=Europe/Berlin:20240503T123000
DTSTAMP:20260423T143844
CREATED:20230418T095825Z
LAST-MODIFIED:20240110T162111Z
UID:10001651-1714735800-1714739400@kurzzeitladen.de
SUMMARY:Yoga für Anfänger und Fortgeschrittene
DESCRIPTION:  \nAnmeldung unter: Claudia Rümmler\, Deine Yoga Zeit – Chemnitz\nTelefon: 0162/4976845\nE-Mail: claruem@gmx.de
URL:https://kurzzeitladen.de/event/yoga-fuer-anfaenger-und-fortgeschrittene-3/2024-05-03/
LOCATION:Kurzzeitladen Aktiv\, Bahnhofstraße 4\, Neukirchen / Erzgebirge\, Sachsen\, 09221\, Deutschland
CATEGORIES:Kurzzeitladen Aktiv Neukirchen
END:VEVENT
BEGIN:VEVENT
DTSTART;TZID=Europe/Berlin:20240426T113000
DTEND;TZID=Europe/Berlin:20240426T123000
DTSTAMP:20260423T143844
CREATED:20230418T095825Z
LAST-MODIFIED:20240110T162111Z
UID:10001650-1714131000-1714134600@kurzzeitladen.de
SUMMARY:Yoga für Anfänger und Fortgeschrittene
DESCRIPTION:  \nAnmeldung unter: Claudia Rümmler\, Deine Yoga Zeit – Chemnitz\nTelefon: 0162/4976845\nE-Mail: claruem@gmx.de
URL:https://kurzzeitladen.de/event/yoga-fuer-anfaenger-und-fortgeschrittene-3/2024-04-26/
LOCATION:Kurzzeitladen Aktiv\, Bahnhofstraße 4\, Neukirchen / Erzgebirge\, Sachsen\, 09221\, Deutschland
CATEGORIES:Kurzzeitladen Aktiv Neukirchen
END:VEVENT
BEGIN:VEVENT
DTSTART;TZID=Europe/Berlin:20240419T113000
DTEND;TZID=Europe/Berlin:20240419T123000
DTSTAMP:20260423T143844
CREATED:20230418T095825Z
LAST-MODIFIED:20240110T162111Z
UID:10001649-1713526200-1713529800@kurzzeitladen.de
SUMMARY:Yoga für Anfänger und Fortgeschrittene
DESCRIPTION:  \nAnmeldung unter: Claudia Rümmler\, Deine Yoga Zeit – Chemnitz\nTelefon: 0162/4976845\nE-Mail: claruem@gmx.de
URL:https://kurzzeitladen.de/event/yoga-fuer-anfaenger-und-fortgeschrittene-3/2024-04-19/
LOCATION:Kurzzeitladen Aktiv\, Bahnhofstraße 4\, Neukirchen / Erzgebirge\, Sachsen\, 09221\, Deutschland
CATEGORIES:Kurzzeitladen Aktiv Neukirchen
END:VEVENT
BEGIN:VEVENT
DTSTART;TZID=Europe/Berlin:20240412T113000
DTEND;TZID=Europe/Berlin:20240412T123000
DTSTAMP:20260423T143844
CREATED:20230418T095825Z
LAST-MODIFIED:20240110T162111Z
UID:10001648-1712921400-1712925000@kurzzeitladen.de
SUMMARY:Yoga für Anfänger und Fortgeschrittene
DESCRIPTION:  \nAnmeldung unter: Claudia Rümmler\, Deine Yoga Zeit – Chemnitz\nTelefon: 0162/4976845\nE-Mail: claruem@gmx.de
URL:https://kurzzeitladen.de/event/yoga-fuer-anfaenger-und-fortgeschrittene-3/2024-04-12/
LOCATION:Kurzzeitladen Aktiv\, Bahnhofstraße 4\, Neukirchen / Erzgebirge\, Sachsen\, 09221\, Deutschland
CATEGORIES:Kurzzeitladen Aktiv Neukirchen
END:VEVENT
BEGIN:VEVENT
DTSTART;TZID=Europe/Berlin:20240405T113000
DTEND;TZID=Europe/Berlin:20240405T123000
DTSTAMP:20260423T143845
CREATED:20230418T095825Z
LAST-MODIFIED:20240110T162111Z
UID:10001647-1712316600-1712320200@kurzzeitladen.de
SUMMARY:Yoga für Anfänger und Fortgeschrittene
DESCRIPTION:  \nAnmeldung unter: Claudia Rümmler\, Deine Yoga Zeit – Chemnitz\nTelefon: 0162/4976845\nE-Mail: claruem@gmx.de
URL:https://kurzzeitladen.de/event/yoga-fuer-anfaenger-und-fortgeschrittene-3/2024-04-05/
LOCATION:Kurzzeitladen Aktiv\, Bahnhofstraße 4\, Neukirchen / Erzgebirge\, Sachsen\, 09221\, Deutschland
CATEGORIES:Kurzzeitladen Aktiv Neukirchen
END:VEVENT
BEGIN:VEVENT
DTSTART;TZID=Europe/Berlin:20240329T113000
DTEND;TZID=Europe/Berlin:20240329T123000
DTSTAMP:20260423T143845
CREATED:20230418T095825Z
LAST-MODIFIED:20240110T162111Z
UID:10001646-1711711800-1711715400@kurzzeitladen.de
SUMMARY:Yoga für Anfänger und Fortgeschrittene
DESCRIPTION:  \nAnmeldung unter: Claudia Rümmler\, Deine Yoga Zeit – Chemnitz\nTelefon: 0162/4976845\nE-Mail: claruem@gmx.de
URL:https://kurzzeitladen.de/event/yoga-fuer-anfaenger-und-fortgeschrittene-3/2024-03-29/
LOCATION:Kurzzeitladen Aktiv\, Bahnhofstraße 4\, Neukirchen / Erzgebirge\, Sachsen\, 09221\, Deutschland
CATEGORIES:Kurzzeitladen Aktiv Neukirchen
END:VEVENT
BEGIN:VEVENT
DTSTART;TZID=Europe/Berlin:20240327T180000
DTEND;TZID=Europe/Berlin:20240327T200000
DTSTAMP:20260423T143845
CREATED:20240111T184610Z
LAST-MODIFIED:20240111T184610Z
UID:10002190-1711562400-1711569600@kurzzeitladen.de
SUMMARY:Kreativ-Malabend mit Elisabeth Kunz zum Blumen und Insekten
DESCRIPTION:Kreativ-Malabend\nmit Elisabeth Kunz \n18:00 – 20:00 Uhr\nErw. 10 €\nKi. 7€\nmax. 10 Personen \nWo: Kurzzeitladen Aktiv\nBahnhofstraße 4\n09221 Neukirchen \nWas: mit Farben spielen\nAquarellieren\nKartengestalltung\nSkizzieren\nUrban sketching \nWomit: Stifte\, Leim\, Schere\nPapier\, Pinsel\,Farben\nStempel\, Tinte\,\nTusche \n… stelle ich für meine malbegeisterten Teilnehmer gern zur Verfügung. \nKaffee und Tee sind im Preis inbegriffen. \nAnmeldung erforderlich bei:\nElisabeth Kunz\n▶ Tel. 01734758075\n▶ Über Instagram und Facebook: Elli_Kunz_Kunst
URL:https://kurzzeitladen.de/event/kreativ-malabend-mit-elisabeth-kunz-zum-blumen-und-insekten/
LOCATION:Kurzzeitladen Aktiv\, Bahnhofstraße 4\, Neukirchen / Erzgebirge\, Sachsen\, 09221\, Deutschland
CATEGORIES:Kurzzeitladen Aktiv Neukirchen
END:VEVENT
BEGIN:VEVENT
DTSTART;TZID=Europe/Berlin:20240322T113000
DTEND;TZID=Europe/Berlin:20240322T123000
DTSTAMP:20260423T143845
CREATED:20230418T095825Z
LAST-MODIFIED:20240110T162111Z
UID:10001645-1711107000-1711110600@kurzzeitladen.de
SUMMARY:Yoga für Anfänger und Fortgeschrittene
DESCRIPTION:  \nAnmeldung unter: Claudia Rümmler\, Deine Yoga Zeit – Chemnitz\nTelefon: 0162/4976845\nE-Mail: claruem@gmx.de
URL:https://kurzzeitladen.de/event/yoga-fuer-anfaenger-und-fortgeschrittene-3/2024-03-22/
LOCATION:Kurzzeitladen Aktiv\, Bahnhofstraße 4\, Neukirchen / Erzgebirge\, Sachsen\, 09221\, Deutschland
CATEGORIES:Kurzzeitladen Aktiv Neukirchen
END:VEVENT
BEGIN:VEVENT
DTSTART;TZID=Europe/Berlin:20240315T113000
DTEND;TZID=Europe/Berlin:20240315T123000
DTSTAMP:20260423T143845
CREATED:20230418T095825Z
LAST-MODIFIED:20240110T162111Z
UID:10001644-1710502200-1710505800@kurzzeitladen.de
SUMMARY:Yoga für Anfänger und Fortgeschrittene
DESCRIPTION:  \nAnmeldung unter: Claudia Rümmler\, Deine Yoga Zeit – Chemnitz\nTelefon: 0162/4976845\nE-Mail: claruem@gmx.de
URL:https://kurzzeitladen.de/event/yoga-fuer-anfaenger-und-fortgeschrittene-3/2024-03-15/
LOCATION:Kurzzeitladen Aktiv\, Bahnhofstraße 4\, Neukirchen / Erzgebirge\, Sachsen\, 09221\, Deutschland
CATEGORIES:Kurzzeitladen Aktiv Neukirchen
END:VEVENT
BEGIN:VEVENT
DTSTART;TZID=Europe/Berlin:20240313T180000
DTEND;TZID=Europe/Berlin:20240313T200000
DTSTAMP:20260423T143845
CREATED:20240111T184533Z
LAST-MODIFIED:20240111T184533Z
UID:10002189-1710352800-1710360000@kurzzeitladen.de
SUMMARY:Kreativ-Malabend mit Elisabeth Kunz zum Thema Sketching
DESCRIPTION:Kreativ-Malabend\nmit Elisabeth Kunz \n18:00 – 20:00 Uhr\nErw. 10 €\nKi. 7€\nmax. 10 Personen \nWo: Kurzzeitladen Aktiv\nBahnhofstraße 4\n09221 Neukirchen \nWas: mit Farben spielen\nAquarellieren\nKartengestalltung\nSkizzieren\nUrban sketching \nWomit: Stifte\, Leim\, Schere\nPapier\, Pinsel\,Farben\nStempel\, Tinte\,\nTusche \n… stelle ich für meine malbegeisterten Teilnehmer gern zur Verfügung. \nKaffee und Tee sind im Preis inbegriffen. \nAnmeldung erforderlich bei:\nElisabeth Kunz\n▶ Tel. 01734758075\n▶ Über Instagram und Facebook: Elli_Kunz_Kunst
URL:https://kurzzeitladen.de/event/kreativ-malabend-mit-elisabeth-kunz-zum-thema-sketching/
LOCATION:Kurzzeitladen Aktiv\, Bahnhofstraße 4\, Neukirchen / Erzgebirge\, Sachsen\, 09221\, Deutschland
CATEGORIES:Kurzzeitladen Aktiv Neukirchen
END:VEVENT
BEGIN:VEVENT
DTSTART;TZID=Europe/Berlin:20240311T180000
DTEND;TZID=Europe/Berlin:20240311T200000
DTSTAMP:20260423T143845
CREATED:20240227T151312Z
LAST-MODIFIED:20240227T151312Z
UID:10002205-1710180000-1710187200@kurzzeitladen.de
SUMMARY:Kunstwerkstatt Handlettering mit Annett Günther
DESCRIPTION:Wir lernen die Grundlagen des Handletterings kennen und gestalten u.a. Letterings auf Karten\, die man zum Beispiel zu Ostern verschicken und verschenken kann. Dabei nutzen wir Fineliner\, Bleistifte\, Brushpens\, Gelliner\, Acrylstifte\, Aquarellfarben und verschiedene Papiere. \nIch bin Heilpädagogin\, Künstlerin\, Kunsttherapeutin\, Naturliebhaberin und Rückkehrerin ins Erzgebirge. Ich male seit ich ein Kind bin\, probiere gerne unterschiedlichste Techniken aus und lasse gerne andere an meinen Erfahrungen teilhaben. \n\nTeilnahme ab 12 Jahren\nTeilnahmegebühr:\nOhne Material 15 €\, du bringst dein eigenes Material mit\nMit Material 25 €\, du bekommst das Material von mir gestellt\nGetränke sind im Preis inbegriffen\n\nAnmeldung bei Annett Günther:\nHandy: 01556 6134563\nMail: annettgue.art@gmail.com\nInstagram: annettgue
URL:https://kurzzeitladen.de/event/kunstwerkstatt-handlettering-mit-annett-guenther/
LOCATION:Kurzzeitladen Aktiv\, Bahnhofstraße 4\, Neukirchen / Erzgebirge\, Sachsen\, 09221\, Deutschland
CATEGORIES:Kurzzeitladen Aktiv Neukirchen
END:VEVENT
BEGIN:VEVENT
DTSTART;TZID=Europe/Berlin:20240308T113000
DTEND;TZID=Europe/Berlin:20240308T123000
DTSTAMP:20260423T143845
CREATED:20230418T095825Z
LAST-MODIFIED:20240110T162111Z
UID:10001643-1709897400-1709901000@kurzzeitladen.de
SUMMARY:Yoga für Anfänger und Fortgeschrittene
DESCRIPTION:  \nAnmeldung unter: Claudia Rümmler\, Deine Yoga Zeit – Chemnitz\nTelefon: 0162/4976845\nE-Mail: claruem@gmx.de
URL:https://kurzzeitladen.de/event/yoga-fuer-anfaenger-und-fortgeschrittene-3/2024-03-08/
LOCATION:Kurzzeitladen Aktiv\, Bahnhofstraße 4\, Neukirchen / Erzgebirge\, Sachsen\, 09221\, Deutschland
CATEGORIES:Kurzzeitladen Aktiv Neukirchen
END:VEVENT
BEGIN:VEVENT
DTSTART;TZID=Europe/Berlin:20240306T190000
DTEND;TZID=Europe/Berlin:20240306T210000
DTSTAMP:20260423T143845
CREATED:20240222T160946Z
LAST-MODIFIED:20240227T123256Z
UID:10002204-1709751600-1709758800@kurzzeitladen.de
SUMMARY:Schnelle Hilfe für dein Pferd
DESCRIPTION:
URL:https://kurzzeitladen.de/event/schnelle-hilfe-fuer-dein-pferd/
LOCATION:Kurzzeitladen Aktiv\, Bahnhofstraße 4\, Neukirchen / Erzgebirge\, Sachsen\, 09221\, Deutschland
CATEGORIES:Kurzzeitladen Aktiv Neukirchen
END:VEVENT
BEGIN:VEVENT
DTSTART;TZID=Europe/Berlin:20240301T113000
DTEND;TZID=Europe/Berlin:20240301T123000
DTSTAMP:20260423T143845
CREATED:20230418T095825Z
LAST-MODIFIED:20240110T162111Z
UID:10001642-1709292600-1709296200@kurzzeitladen.de
SUMMARY:Yoga für Anfänger und Fortgeschrittene
DESCRIPTION:  \nAnmeldung unter: Claudia Rümmler\, Deine Yoga Zeit – Chemnitz\nTelefon: 0162/4976845\nE-Mail: claruem@gmx.de
URL:https://kurzzeitladen.de/event/yoga-fuer-anfaenger-und-fortgeschrittene-3/2024-03-01/
LOCATION:Kurzzeitladen Aktiv\, Bahnhofstraße 4\, Neukirchen / Erzgebirge\, Sachsen\, 09221\, Deutschland
CATEGORIES:Kurzzeitladen Aktiv Neukirchen
END:VEVENT
BEGIN:VEVENT
DTSTART;TZID=Europe/Berlin:20240223T113000
DTEND;TZID=Europe/Berlin:20240223T123000
DTSTAMP:20260423T143845
CREATED:20230418T095825Z
LAST-MODIFIED:20240110T162111Z
UID:10001641-1708687800-1708691400@kurzzeitladen.de
SUMMARY:Yoga für Anfänger und Fortgeschrittene
DESCRIPTION:  \nAnmeldung unter: Claudia Rümmler\, Deine Yoga Zeit – Chemnitz\nTelefon: 0162/4976845\nE-Mail: claruem@gmx.de
URL:https://kurzzeitladen.de/event/yoga-fuer-anfaenger-und-fortgeschrittene-3/2024-02-23/
LOCATION:Kurzzeitladen Aktiv\, Bahnhofstraße 4\, Neukirchen / Erzgebirge\, Sachsen\, 09221\, Deutschland
CATEGORIES:Kurzzeitladen Aktiv Neukirchen
END:VEVENT
BEGIN:VEVENT
DTSTART;TZID=Europe/Berlin:20240221T180000
DTEND;TZID=Europe/Berlin:20240221T200000
DTSTAMP:20260423T143845
CREATED:20240111T184458Z
LAST-MODIFIED:20240111T184458Z
UID:10002188-1708538400-1708545600@kurzzeitladen.de
SUMMARY:Kreativ-Malabend mit Elisabeth Kunz zum Abstrakt
DESCRIPTION:Kreativ-Malabend\nmit Elisabeth Kunz \n18:00 – 20:00 Uhr\nErw. 10 €\nKi. 7€\nmax. 10 Personen \nWo: Kurzzeitladen Aktiv\nBahnhofstraße 4\n09221 Neukirchen \nWas: mit Farben spielen\nAquarellieren\nKartengestalltung\nSkizzieren\nUrban sketching \nWomit: Stifte\, Leim\, Schere\nPapier\, Pinsel\,Farben\nStempel\, Tinte\,\nTusche \n… stelle ich für meine malbegeisterten Teilnehmer gern zur Verfügung. \nKaffee und Tee sind im Preis inbegriffen. \nAnmeldung erforderlich bei:\nElisabeth Kunz\n▶ Tel. 01734758075\n▶ Über Instagram und Facebook: Elli_Kunz_Kunst
URL:https://kurzzeitladen.de/event/kreativ-malabend-mit-elisabeth-kunz-zum-abstrakt/
LOCATION:Kurzzeitladen Aktiv\, Bahnhofstraße 4\, Neukirchen / Erzgebirge\, Sachsen\, 09221\, Deutschland
CATEGORIES:Kurzzeitladen Aktiv Neukirchen
END:VEVENT
BEGIN:VEVENT
DTSTART;TZID=Europe/Berlin:20240216T113000
DTEND;TZID=Europe/Berlin:20240216T123000
DTSTAMP:20260423T143845
CREATED:20230418T095825Z
LAST-MODIFIED:20240110T162111Z
UID:10001640-1708083000-1708086600@kurzzeitladen.de
SUMMARY:Yoga für Anfänger und Fortgeschrittene
DESCRIPTION:  \nAnmeldung unter: Claudia Rümmler\, Deine Yoga Zeit – Chemnitz\nTelefon: 0162/4976845\nE-Mail: claruem@gmx.de
URL:https://kurzzeitladen.de/event/yoga-fuer-anfaenger-und-fortgeschrittene-3/2024-02-16/
LOCATION:Kurzzeitladen Aktiv\, Bahnhofstraße 4\, Neukirchen / Erzgebirge\, Sachsen\, 09221\, Deutschland
CATEGORIES:Kurzzeitladen Aktiv Neukirchen
END:VEVENT
BEGIN:VEVENT
DTSTART;TZID=Europe/Berlin:20240209T113000
DTEND;TZID=Europe/Berlin:20240209T123000
DTSTAMP:20260423T143845
CREATED:20230418T095825Z
LAST-MODIFIED:20240110T162111Z
UID:10001639-1707478200-1707481800@kurzzeitladen.de
SUMMARY:Yoga für Anfänger und Fortgeschrittene
DESCRIPTION:  \nAnmeldung unter: Claudia Rümmler\, Deine Yoga Zeit – Chemnitz\nTelefon: 0162/4976845\nE-Mail: claruem@gmx.de
URL:https://kurzzeitladen.de/event/yoga-fuer-anfaenger-und-fortgeschrittene-3/2024-02-09/
LOCATION:Kurzzeitladen Aktiv\, Bahnhofstraße 4\, Neukirchen / Erzgebirge\, Sachsen\, 09221\, Deutschland
CATEGORIES:Kurzzeitladen Aktiv Neukirchen
END:VEVENT
BEGIN:VEVENT
DTSTART;TZID=Europe/Berlin:20240202T170000
DTEND;TZID=Europe/Berlin:20240202T180000
DTSTAMP:20260423T143845
CREATED:20240127T143053Z
LAST-MODIFIED:20240127T143053Z
UID:10002202-1706893200-1706896800@kurzzeitladen.de
SUMMARY:Frischekosmetik - Kennenlernen & Ausprobieren
DESCRIPTION:Mit Anwendung der Ringana Produkte vor Ort.\nNimm kostenfrei daran teil und melde dich bitte an unter:\n017622543584 \nWir freuen uns auf Dich\nClaudia & Angelika
URL:https://kurzzeitladen.de/event/frischekosmetik-kennenlernen-ausprobieren/
LOCATION:Kurzzeitladen Aktiv\, Bahnhofstraße 4\, Neukirchen / Erzgebirge\, Sachsen\, 09221\, Deutschland
CATEGORIES:Kurzzeitladen Aktiv Neukirchen
END:VEVENT
BEGIN:VEVENT
DTSTART;TZID=Europe/Berlin:20240202T113000
DTEND;TZID=Europe/Berlin:20240202T123000
DTSTAMP:20260423T143845
CREATED:20230418T095825Z
LAST-MODIFIED:20240110T162111Z
UID:10001638-1706873400-1706877000@kurzzeitladen.de
SUMMARY:Yoga für Anfänger und Fortgeschrittene
DESCRIPTION:  \nAnmeldung unter: Claudia Rümmler\, Deine Yoga Zeit – Chemnitz\nTelefon: 0162/4976845\nE-Mail: claruem@gmx.de
URL:https://kurzzeitladen.de/event/yoga-fuer-anfaenger-und-fortgeschrittene-3/2024-02-02/
LOCATION:Kurzzeitladen Aktiv\, Bahnhofstraße 4\, Neukirchen / Erzgebirge\, Sachsen\, 09221\, Deutschland
CATEGORIES:Kurzzeitladen Aktiv Neukirchen
END:VEVENT
BEGIN:VEVENT
DTSTART;TZID=Europe/Berlin:20240131T180000
DTEND;TZID=Europe/Berlin:20240131T200000
DTSTAMP:20260423T143845
CREATED:20240111T184405Z
LAST-MODIFIED:20240111T184405Z
UID:10002187-1706724000-1706731200@kurzzeitladen.de
SUMMARY:Kreativ-Malabend mit Elisabeth Kunz zum "Das liebevolle Federvieh"
DESCRIPTION:Kreativ-Malabend\nmit Elisabeth Kunz \n18:00 – 20:00 Uhr\nErw. 10 €\nKi. 7€\nmax. 10 Personen \nWo: Kurzzeitladen Aktiv\nBahnhofstraße 4\n09221 Neukirchen \nWas: mit Farben spielen\nAquarellieren\nKartengestalltung\nSkizzieren\nUrban sketching \nWomit: Stifte\, Leim\, Schere\nPapier\, Pinsel\,Farben\nStempel\, Tinte\,\nTusche \n… stelle ich für meine malbegeisterten Teilnehmer gern zur Verfügung. \nKaffee und Tee sind im Preis inbegriffen. \nAnmeldung erforderlich bei:\nElisabeth Kunz\n▶ Tel. 01734758075\n▶ Über Instagram und Facebook: Elli_Kunz_Kunst
URL:https://kurzzeitladen.de/event/kreativ-malabend-mit-elisabeth-kunz-zum-das-liebevolle-federvieh/
LOCATION:Kurzzeitladen Aktiv\, Bahnhofstraße 4\, Neukirchen / Erzgebirge\, Sachsen\, 09221\, Deutschland
CATEGORIES:Kurzzeitladen Aktiv Neukirchen
END:VEVENT
BEGIN:VEVENT
DTSTART;TZID=Europe/Berlin:20240127T103000
DTEND;TZID=Europe/Berlin:20240127T113000
DTSTAMP:20260423T143845
CREATED:20240110T135225Z
LAST-MODIFIED:20240118T150334Z
UID:10001923-1706351400-1706355000@kurzzeitladen.de
SUMMARY:Gesundheitsvortrag zum Thema Darmgesundheit
DESCRIPTION:Veranstaltet von Jacqueline Ocana Garcia und André Hahn \nAnmeldung bei Jacqueline Ocana Garcia unter +49 176 96250094
URL:https://kurzzeitladen.de/event/gesundheitsvortrag-zum-thema-darmgesundheit-2/
LOCATION:Kurzzeitladen Aktiv\, Bahnhofstraße 4\, Neukirchen / Erzgebirge\, Sachsen\, 09221\, Deutschland
CATEGORIES:Kurzzeitladen Aktiv Neukirchen
END:VEVENT
BEGIN:VEVENT
DTSTART;TZID=Europe/Berlin:20240126T113000
DTEND;TZID=Europe/Berlin:20240126T123000
DTSTAMP:20260423T143845
CREATED:20230418T095825Z
LAST-MODIFIED:20240110T162111Z
UID:10001637-1706268600-1706272200@kurzzeitladen.de
SUMMARY:Yoga für Anfänger und Fortgeschrittene
DESCRIPTION:  \nAnmeldung unter: Claudia Rümmler\, Deine Yoga Zeit – Chemnitz\nTelefon: 0162/4976845\nE-Mail: claruem@gmx.de
URL:https://kurzzeitladen.de/event/yoga-fuer-anfaenger-und-fortgeschrittene-3/2024-01-26/
LOCATION:Kurzzeitladen Aktiv\, Bahnhofstraße 4\, Neukirchen / Erzgebirge\, Sachsen\, 09221\, Deutschland
CATEGORIES:Kurzzeitladen Aktiv Neukirchen
END:VEVENT
BEGIN:VEVENT
DTSTART;TZID=Europe/Berlin:20240122T180000
DTEND;TZID=Europe/Berlin:20240122T190000
DTSTAMP:20260423T143845
CREATED:20231206T094939Z
LAST-MODIFIED:20240118T150409Z
UID:10001921-1705946400-1705950000@kurzzeitladen.de
SUMMARY:Gesundheitsvortrag zum Thema Darmgesundheit
DESCRIPTION:Veranstaltet von Jacqueline Ocana Garcia und André Hahn \nAnmeldung bei Jacqueline Ocana Garcia unter +49 176 96250094
URL:https://kurzzeitladen.de/event/gesundheitsvortrag-zum-thema-darmgesundheit/
LOCATION:Kurzzeitladen Aktiv\, Bahnhofstraße 4\, Neukirchen / Erzgebirge\, Sachsen\, 09221\, Deutschland
CATEGORIES:Kurzzeitladen Aktiv Neukirchen
END:VEVENT
BEGIN:VEVENT
DTSTART;TZID=Europe/Berlin:20240119T113000
DTEND;TZID=Europe/Berlin:20240119T123000
DTSTAMP:20260423T143845
CREATED:20230418T095825Z
LAST-MODIFIED:20240110T162111Z
UID:10001636-1705663800-1705667400@kurzzeitladen.de
SUMMARY:Yoga für Anfänger und Fortgeschrittene
DESCRIPTION:  \nAnmeldung unter: Claudia Rümmler\, Deine Yoga Zeit – Chemnitz\nTelefon: 0162/4976845\nE-Mail: claruem@gmx.de
URL:https://kurzzeitladen.de/event/yoga-fuer-anfaenger-und-fortgeschrittene-3/2024-01-19/
LOCATION:Kurzzeitladen Aktiv\, Bahnhofstraße 4\, Neukirchen / Erzgebirge\, Sachsen\, 09221\, Deutschland
CATEGORIES:Kurzzeitladen Aktiv Neukirchen
END:VEVENT
BEGIN:VEVENT
DTSTART;TZID=Europe/Berlin:20240117T180000
DTEND;TZID=Europe/Berlin:20240117T200000
DTSTAMP:20260423T143845
CREATED:20240111T184304Z
LAST-MODIFIED:20240111T184304Z
UID:10002186-1705514400-1705521600@kurzzeitladen.de
SUMMARY:Kreativ-Malabend mit Elisabeth Kunz zum Thema Häuser / Gebäude
DESCRIPTION:Kreativ-Malabend\nmit Elisabeth Kunz \n18:00 – 20:00 Uhr\nErw. 10 €\nKi. 7€\nmax. 10 Personen \nWo: Kurzzeitladen Aktiv\nBahnhofstraße 4\n09221 Neukirchen \nWas: mit Farben spielen\nAquarellieren\nKartengestalltung\nSkizzieren\nUrban sketching \nWomit: Stifte\, Leim\, Schere\nPapier\, Pinsel\,Farben\nStempel\, Tinte\,\nTusche \n… stelle ich für meine malbegeisterten Teilnehmer gern zur Verfügung. \nKaffee und Tee sind im Preis inbegriffen. \nAnmeldung erforderlich bei:\nElisabeth Kunz\n▶ Tel. 01734758075\n▶ Über Instagram und Facebook: Elli_Kunz_Kunst
URL:https://kurzzeitladen.de/event/kreativ-malabend-mit-elisabeth-kunz-zum-thema-haeuser-gebaeude/
LOCATION:Kurzzeitladen Aktiv\, Bahnhofstraße 4\, Neukirchen / Erzgebirge\, Sachsen\, 09221\, Deutschland
CATEGORIES:Kurzzeitladen Aktiv Neukirchen
END:VEVENT
BEGIN:VEVENT
DTSTART;TZID=Europe/Berlin:20240112T113000
DTEND;TZID=Europe/Berlin:20240112T123000
DTSTAMP:20260423T143845
CREATED:20230418T095825Z
LAST-MODIFIED:20240110T162111Z
UID:10001635-1705059000-1705062600@kurzzeitladen.de
SUMMARY:Yoga für Anfänger und Fortgeschrittene
DESCRIPTION:  \nAnmeldung unter: Claudia Rümmler\, Deine Yoga Zeit – Chemnitz\nTelefon: 0162/4976845\nE-Mail: claruem@gmx.de
URL:https://kurzzeitladen.de/event/yoga-fuer-anfaenger-und-fortgeschrittene-3/2024-01-12/
LOCATION:Kurzzeitladen Aktiv\, Bahnhofstraße 4\, Neukirchen / Erzgebirge\, Sachsen\, 09221\, Deutschland
CATEGORIES:Kurzzeitladen Aktiv Neukirchen
END:VEVENT
BEGIN:VEVENT
DTSTART;TZID=Europe/Berlin:20240105T113000
DTEND;TZID=Europe/Berlin:20240105T123000
DTSTAMP:20260423T143845
CREATED:20230418T095825Z
LAST-MODIFIED:20240110T162111Z
UID:10001634-1704454200-1704457800@kurzzeitladen.de
SUMMARY:Yoga für Anfänger und Fortgeschrittene
DESCRIPTION:  \nAnmeldung unter: Claudia Rümmler\, Deine Yoga Zeit – Chemnitz\nTelefon: 0162/4976845\nE-Mail: claruem@gmx.de
URL:https://kurzzeitladen.de/event/yoga-fuer-anfaenger-und-fortgeschrittene-3/2024-01-05/
LOCATION:Kurzzeitladen Aktiv\, Bahnhofstraße 4\, Neukirchen / Erzgebirge\, Sachsen\, 09221\, Deutschland
CATEGORIES:Kurzzeitladen Aktiv Neukirchen
END:VEVENT
BEGIN:VEVENT
DTSTART;TZID=Europe/Berlin:20231229T113000
DTEND;TZID=Europe/Berlin:20231229T123000
DTSTAMP:20260423T143845
CREATED:20230418T095825Z
LAST-MODIFIED:20240110T162111Z
UID:10001633-1703849400-1703853000@kurzzeitladen.de
SUMMARY:Yoga für Anfänger und Fortgeschrittene
DESCRIPTION:  \nAnmeldung unter: Claudia Rümmler\, Deine Yoga Zeit – Chemnitz\nTelefon: 0162/4976845\nE-Mail: claruem@gmx.de
URL:https://kurzzeitladen.de/event/yoga-fuer-anfaenger-und-fortgeschrittene-3/2023-12-29/
LOCATION:Kurzzeitladen Aktiv\, Bahnhofstraße 4\, Neukirchen / Erzgebirge\, Sachsen\, 09221\, Deutschland
CATEGORIES:Kurzzeitladen Aktiv Neukirchen
END:VEVENT
END:VCALENDAR