BEGIN:VCALENDAR
VERSION:2.0
PRODID:-//Kurzzeitladen - ECPv6.15.17.1//NONSGML v1.0//EN
CALSCALE:GREGORIAN
METHOD:PUBLISH
X-WR-CALNAME:Kurzzeitladen
X-ORIGINAL-URL:https://kurzzeitladen.de
X-WR-CALDESC:Veranstaltungen für Kurzzeitladen
REFRESH-INTERVAL;VALUE=DURATION:PT1H
X-Robots-Tag:noindex
X-PUBLISHED-TTL:PT1H
BEGIN:VTIMEZONE
TZID:Europe/Berlin
BEGIN:DAYLIGHT
TZOFFSETFROM:+0100
TZOFFSETTO:+0200
TZNAME:CEST
DTSTART:20250330T010000
END:DAYLIGHT
BEGIN:STANDARD
TZOFFSETFROM:+0200
TZOFFSETTO:+0100
TZNAME:CET
DTSTART:20251026T010000
END:STANDARD
BEGIN:DAYLIGHT
TZOFFSETFROM:+0100
TZOFFSETTO:+0200
TZNAME:CEST
DTSTART:20260329T010000
END:DAYLIGHT
BEGIN:STANDARD
TZOFFSETFROM:+0200
TZOFFSETTO:+0100
TZNAME:CET
DTSTART:20261025T010000
END:STANDARD
BEGIN:DAYLIGHT
TZOFFSETFROM:+0100
TZOFFSETTO:+0200
TZNAME:CEST
DTSTART:20270328T010000
END:DAYLIGHT
BEGIN:STANDARD
TZOFFSETFROM:+0200
TZOFFSETTO:+0100
TZNAME:CET
DTSTART:20271031T010000
END:STANDARD
END:VTIMEZONE
BEGIN:VEVENT
DTSTART;TZID=Europe/Berlin:20260602T093000
DTEND;TZID=Europe/Berlin:20260602T170000
DTSTAMP:20260421T105051
CREATED:20260228T100228Z
LAST-MODIFIED:20260228T101256Z
UID:10006916-1780392600-1780419600@kurzzeitladen.de
SUMMARY:Verkaufsaktion Kurzzeitladen Zwönitz
DESCRIPTION:
URL:https://kurzzeitladen.de/event/verkaufsaktion-kurzzeitladen-zwoenitz-5/2026-06-02/
LOCATION:Kurzzeitladen Zwönitz\, Lange Gasse 14\, Zwönitz\, Sachsen\, 09297\, Deutschland
CATEGORIES:Kurzzeitladen Zwönitz
END:VEVENT
BEGIN:VEVENT
DTSTART;TZID=Europe/Berlin:20260604T093000
DTEND;TZID=Europe/Berlin:20260604T170000
DTSTAMP:20260421T105051
CREATED:20260228T100427Z
LAST-MODIFIED:20260228T101111Z
UID:10006656-1780565400-1780592400@kurzzeitladen.de
SUMMARY:Verkaufsaktion Kurzzeitladen Zwönitz
DESCRIPTION:
URL:https://kurzzeitladen.de/event/verkaufsaktion-kurzzeitladen-zwoenitz-6/2026-06-04/
LOCATION:Kurzzeitladen Zwönitz\, Lange Gasse 14\, Zwönitz\, Sachsen\, 09297\, Deutschland
CATEGORIES:Kurzzeitladen Zwönitz
END:VEVENT
BEGIN:VEVENT
DTSTART;TZID=Europe/Berlin:20260605T093000
DTEND;TZID=Europe/Berlin:20260605T170000
DTSTAMP:20260421T105051
CREATED:20260228T100613Z
LAST-MODIFIED:20260228T101020Z
UID:10006396-1780651800-1780678800@kurzzeitladen.de
SUMMARY:Verkaufsaktion Kurzzeitladen Zwönitz
DESCRIPTION:
URL:https://kurzzeitladen.de/event/verkaufsaktion-kurzzeitladen-zwoenitz-7/2026-06-05/
LOCATION:Kurzzeitladen Zwönitz\, Lange Gasse 14\, Zwönitz\, Sachsen\, 09297\, Deutschland
CATEGORIES:Kurzzeitladen Zwönitz
END:VEVENT
BEGIN:VEVENT
DTSTART;TZID=Europe/Berlin:20260606T090000
DTEND;TZID=Europe/Berlin:20260606T120000
DTSTAMP:20260421T105051
CREATED:20260228T100830Z
LAST-MODIFIED:20260228T100921Z
UID:10006137-1780736400-1780747200@kurzzeitladen.de
SUMMARY:Verkaufsaktion Kurzzeitladen Zwönitz
DESCRIPTION:
URL:https://kurzzeitladen.de/event/verkaufsaktion-kurzzeitladen-zwoenitz-3-2/2026-06-06/
LOCATION:Kurzzeitladen Zwönitz\, Lange Gasse 14\, Zwönitz\, Sachsen\, 09297\, Deutschland
CATEGORIES:Kurzzeitladen Zwönitz
END:VEVENT
BEGIN:VEVENT
DTSTART;TZID=Europe/Berlin:20260609T093000
DTEND;TZID=Europe/Berlin:20260609T170000
DTSTAMP:20260421T105051
CREATED:20260228T100228Z
LAST-MODIFIED:20260228T101256Z
UID:10006917-1780997400-1781024400@kurzzeitladen.de
SUMMARY:Verkaufsaktion Kurzzeitladen Zwönitz
DESCRIPTION:
URL:https://kurzzeitladen.de/event/verkaufsaktion-kurzzeitladen-zwoenitz-5/2026-06-09/
LOCATION:Kurzzeitladen Zwönitz\, Lange Gasse 14\, Zwönitz\, Sachsen\, 09297\, Deutschland
CATEGORIES:Kurzzeitladen Zwönitz
END:VEVENT
BEGIN:VEVENT
DTSTART;TZID=Europe/Berlin:20260611T093000
DTEND;TZID=Europe/Berlin:20260611T170000
DTSTAMP:20260421T105051
CREATED:20260228T100427Z
LAST-MODIFIED:20260228T101111Z
UID:10006657-1781170200-1781197200@kurzzeitladen.de
SUMMARY:Verkaufsaktion Kurzzeitladen Zwönitz
DESCRIPTION:
URL:https://kurzzeitladen.de/event/verkaufsaktion-kurzzeitladen-zwoenitz-6/2026-06-11/
LOCATION:Kurzzeitladen Zwönitz\, Lange Gasse 14\, Zwönitz\, Sachsen\, 09297\, Deutschland
CATEGORIES:Kurzzeitladen Zwönitz
END:VEVENT
BEGIN:VEVENT
DTSTART;TZID=Europe/Berlin:20260612T093000
DTEND;TZID=Europe/Berlin:20260612T170000
DTSTAMP:20260421T105051
CREATED:20260228T100613Z
LAST-MODIFIED:20260228T101020Z
UID:10006397-1781256600-1781283600@kurzzeitladen.de
SUMMARY:Verkaufsaktion Kurzzeitladen Zwönitz
DESCRIPTION:
URL:https://kurzzeitladen.de/event/verkaufsaktion-kurzzeitladen-zwoenitz-7/2026-06-12/
LOCATION:Kurzzeitladen Zwönitz\, Lange Gasse 14\, Zwönitz\, Sachsen\, 09297\, Deutschland
CATEGORIES:Kurzzeitladen Zwönitz
END:VEVENT
BEGIN:VEVENT
DTSTART;TZID=Europe/Berlin:20260613T090000
DTEND;TZID=Europe/Berlin:20260613T120000
DTSTAMP:20260421T105051
CREATED:20260228T100830Z
LAST-MODIFIED:20260228T100921Z
UID:10006138-1781341200-1781352000@kurzzeitladen.de
SUMMARY:Verkaufsaktion Kurzzeitladen Zwönitz
DESCRIPTION:
URL:https://kurzzeitladen.de/event/verkaufsaktion-kurzzeitladen-zwoenitz-3-2/2026-06-13/
LOCATION:Kurzzeitladen Zwönitz\, Lange Gasse 14\, Zwönitz\, Sachsen\, 09297\, Deutschland
CATEGORIES:Kurzzeitladen Zwönitz
END:VEVENT
BEGIN:VEVENT
DTSTART;TZID=Europe/Berlin:20260616T093000
DTEND;TZID=Europe/Berlin:20260616T170000
DTSTAMP:20260421T105051
CREATED:20260228T100228Z
LAST-MODIFIED:20260228T101256Z
UID:10006918-1781602200-1781629200@kurzzeitladen.de
SUMMARY:Verkaufsaktion Kurzzeitladen Zwönitz
DESCRIPTION:
URL:https://kurzzeitladen.de/event/verkaufsaktion-kurzzeitladen-zwoenitz-5/2026-06-16/
LOCATION:Kurzzeitladen Zwönitz\, Lange Gasse 14\, Zwönitz\, Sachsen\, 09297\, Deutschland
CATEGORIES:Kurzzeitladen Zwönitz
END:VEVENT
BEGIN:VEVENT
DTSTART;TZID=Europe/Berlin:20260618T093000
DTEND;TZID=Europe/Berlin:20260618T170000
DTSTAMP:20260421T105051
CREATED:20260228T100427Z
LAST-MODIFIED:20260228T101111Z
UID:10006658-1781775000-1781802000@kurzzeitladen.de
SUMMARY:Verkaufsaktion Kurzzeitladen Zwönitz
DESCRIPTION:
URL:https://kurzzeitladen.de/event/verkaufsaktion-kurzzeitladen-zwoenitz-6/2026-06-18/
LOCATION:Kurzzeitladen Zwönitz\, Lange Gasse 14\, Zwönitz\, Sachsen\, 09297\, Deutschland
CATEGORIES:Kurzzeitladen Zwönitz
END:VEVENT
BEGIN:VEVENT
DTSTART;TZID=Europe/Berlin:20260619T093000
DTEND;TZID=Europe/Berlin:20260619T170000
DTSTAMP:20260421T105051
CREATED:20260228T100613Z
LAST-MODIFIED:20260228T101020Z
UID:10006398-1781861400-1781888400@kurzzeitladen.de
SUMMARY:Verkaufsaktion Kurzzeitladen Zwönitz
DESCRIPTION:
URL:https://kurzzeitladen.de/event/verkaufsaktion-kurzzeitladen-zwoenitz-7/2026-06-19/
LOCATION:Kurzzeitladen Zwönitz\, Lange Gasse 14\, Zwönitz\, Sachsen\, 09297\, Deutschland
CATEGORIES:Kurzzeitladen Zwönitz
END:VEVENT
BEGIN:VEVENT
DTSTART;TZID=Europe/Berlin:20260620T090000
DTEND;TZID=Europe/Berlin:20260620T120000
DTSTAMP:20260421T105051
CREATED:20260228T100830Z
LAST-MODIFIED:20260228T100921Z
UID:10006139-1781946000-1781956800@kurzzeitladen.de
SUMMARY:Verkaufsaktion Kurzzeitladen Zwönitz
DESCRIPTION:
URL:https://kurzzeitladen.de/event/verkaufsaktion-kurzzeitladen-zwoenitz-3-2/2026-06-20/
LOCATION:Kurzzeitladen Zwönitz\, Lange Gasse 14\, Zwönitz\, Sachsen\, 09297\, Deutschland
CATEGORIES:Kurzzeitladen Zwönitz
END:VEVENT
BEGIN:VEVENT
DTSTART;TZID=Europe/Berlin:20260623T093000
DTEND;TZID=Europe/Berlin:20260623T170000
DTSTAMP:20260421T105051
CREATED:20260228T100228Z
LAST-MODIFIED:20260228T101256Z
UID:10006919-1782207000-1782234000@kurzzeitladen.de
SUMMARY:Verkaufsaktion Kurzzeitladen Zwönitz
DESCRIPTION:
URL:https://kurzzeitladen.de/event/verkaufsaktion-kurzzeitladen-zwoenitz-5/2026-06-23/
LOCATION:Kurzzeitladen Zwönitz\, Lange Gasse 14\, Zwönitz\, Sachsen\, 09297\, Deutschland
CATEGORIES:Kurzzeitladen Zwönitz
END:VEVENT
BEGIN:VEVENT
DTSTART;TZID=Europe/Berlin:20260625T093000
DTEND;TZID=Europe/Berlin:20260625T170000
DTSTAMP:20260421T105051
CREATED:20260228T100427Z
LAST-MODIFIED:20260228T101111Z
UID:10006659-1782379800-1782406800@kurzzeitladen.de
SUMMARY:Verkaufsaktion Kurzzeitladen Zwönitz
DESCRIPTION:
URL:https://kurzzeitladen.de/event/verkaufsaktion-kurzzeitladen-zwoenitz-6/2026-06-25/
LOCATION:Kurzzeitladen Zwönitz\, Lange Gasse 14\, Zwönitz\, Sachsen\, 09297\, Deutschland
CATEGORIES:Kurzzeitladen Zwönitz
END:VEVENT
BEGIN:VEVENT
DTSTART;TZID=Europe/Berlin:20260626T093000
DTEND;TZID=Europe/Berlin:20260626T170000
DTSTAMP:20260421T105051
CREATED:20260228T100613Z
LAST-MODIFIED:20260228T101020Z
UID:10006399-1782466200-1782493200@kurzzeitladen.de
SUMMARY:Verkaufsaktion Kurzzeitladen Zwönitz
DESCRIPTION:
URL:https://kurzzeitladen.de/event/verkaufsaktion-kurzzeitladen-zwoenitz-7/2026-06-26/
LOCATION:Kurzzeitladen Zwönitz\, Lange Gasse 14\, Zwönitz\, Sachsen\, 09297\, Deutschland
CATEGORIES:Kurzzeitladen Zwönitz
END:VEVENT
BEGIN:VEVENT
DTSTART;TZID=Europe/Berlin:20260627T090000
DTEND;TZID=Europe/Berlin:20260627T120000
DTSTAMP:20260421T105051
CREATED:20260228T100830Z
LAST-MODIFIED:20260228T100921Z
UID:10006140-1782550800-1782561600@kurzzeitladen.de
SUMMARY:Verkaufsaktion Kurzzeitladen Zwönitz
DESCRIPTION:
URL:https://kurzzeitladen.de/event/verkaufsaktion-kurzzeitladen-zwoenitz-3-2/2026-06-27/
LOCATION:Kurzzeitladen Zwönitz\, Lange Gasse 14\, Zwönitz\, Sachsen\, 09297\, Deutschland
CATEGORIES:Kurzzeitladen Zwönitz
END:VEVENT
BEGIN:VEVENT
DTSTART;TZID=Europe/Berlin:20260630T093000
DTEND;TZID=Europe/Berlin:20260630T170000
DTSTAMP:20260421T105051
CREATED:20260228T100228Z
LAST-MODIFIED:20260228T101256Z
UID:10006920-1782811800-1782838800@kurzzeitladen.de
SUMMARY:Verkaufsaktion Kurzzeitladen Zwönitz
DESCRIPTION:
URL:https://kurzzeitladen.de/event/verkaufsaktion-kurzzeitladen-zwoenitz-5/2026-06-30/
LOCATION:Kurzzeitladen Zwönitz\, Lange Gasse 14\, Zwönitz\, Sachsen\, 09297\, Deutschland
CATEGORIES:Kurzzeitladen Zwönitz
END:VEVENT
BEGIN:VEVENT
DTSTART;TZID=Europe/Berlin:20260702T093000
DTEND;TZID=Europe/Berlin:20260702T170000
DTSTAMP:20260421T105051
CREATED:20260228T100427Z
LAST-MODIFIED:20260228T101111Z
UID:10006660-1782984600-1783011600@kurzzeitladen.de
SUMMARY:Verkaufsaktion Kurzzeitladen Zwönitz
DESCRIPTION:
URL:https://kurzzeitladen.de/event/verkaufsaktion-kurzzeitladen-zwoenitz-6/2026-07-02/
LOCATION:Kurzzeitladen Zwönitz\, Lange Gasse 14\, Zwönitz\, Sachsen\, 09297\, Deutschland
CATEGORIES:Kurzzeitladen Zwönitz
END:VEVENT
BEGIN:VEVENT
DTSTART;TZID=Europe/Berlin:20260703T093000
DTEND;TZID=Europe/Berlin:20260703T170000
DTSTAMP:20260421T105051
CREATED:20260228T100613Z
LAST-MODIFIED:20260228T101020Z
UID:10006400-1783071000-1783098000@kurzzeitladen.de
SUMMARY:Verkaufsaktion Kurzzeitladen Zwönitz
DESCRIPTION:
URL:https://kurzzeitladen.de/event/verkaufsaktion-kurzzeitladen-zwoenitz-7/2026-07-03/
LOCATION:Kurzzeitladen Zwönitz\, Lange Gasse 14\, Zwönitz\, Sachsen\, 09297\, Deutschland
CATEGORIES:Kurzzeitladen Zwönitz
END:VEVENT
BEGIN:VEVENT
DTSTART;TZID=Europe/Berlin:20260704T090000
DTEND;TZID=Europe/Berlin:20260704T120000
DTSTAMP:20260421T105051
CREATED:20260228T100830Z
LAST-MODIFIED:20260228T100921Z
UID:10006141-1783155600-1783166400@kurzzeitladen.de
SUMMARY:Verkaufsaktion Kurzzeitladen Zwönitz
DESCRIPTION:
URL:https://kurzzeitladen.de/event/verkaufsaktion-kurzzeitladen-zwoenitz-3-2/2026-07-04/
LOCATION:Kurzzeitladen Zwönitz\, Lange Gasse 14\, Zwönitz\, Sachsen\, 09297\, Deutschland
CATEGORIES:Kurzzeitladen Zwönitz
END:VEVENT
BEGIN:VEVENT
DTSTART;TZID=Europe/Berlin:20260707T093000
DTEND;TZID=Europe/Berlin:20260707T170000
DTSTAMP:20260421T105051
CREATED:20260228T100228Z
LAST-MODIFIED:20260228T101256Z
UID:10006921-1783416600-1783443600@kurzzeitladen.de
SUMMARY:Verkaufsaktion Kurzzeitladen Zwönitz
DESCRIPTION:
URL:https://kurzzeitladen.de/event/verkaufsaktion-kurzzeitladen-zwoenitz-5/2026-07-07/
LOCATION:Kurzzeitladen Zwönitz\, Lange Gasse 14\, Zwönitz\, Sachsen\, 09297\, Deutschland
CATEGORIES:Kurzzeitladen Zwönitz
END:VEVENT
BEGIN:VEVENT
DTSTART;TZID=Europe/Berlin:20260709T093000
DTEND;TZID=Europe/Berlin:20260709T170000
DTSTAMP:20260421T105052
CREATED:20260228T100427Z
LAST-MODIFIED:20260228T101111Z
UID:10006661-1783589400-1783616400@kurzzeitladen.de
SUMMARY:Verkaufsaktion Kurzzeitladen Zwönitz
DESCRIPTION:
URL:https://kurzzeitladen.de/event/verkaufsaktion-kurzzeitladen-zwoenitz-6/2026-07-09/
LOCATION:Kurzzeitladen Zwönitz\, Lange Gasse 14\, Zwönitz\, Sachsen\, 09297\, Deutschland
CATEGORIES:Kurzzeitladen Zwönitz
END:VEVENT
BEGIN:VEVENT
DTSTART;TZID=Europe/Berlin:20260710T093000
DTEND;TZID=Europe/Berlin:20260710T170000
DTSTAMP:20260421T105052
CREATED:20260228T100613Z
LAST-MODIFIED:20260228T101020Z
UID:10006401-1783675800-1783702800@kurzzeitladen.de
SUMMARY:Verkaufsaktion Kurzzeitladen Zwönitz
DESCRIPTION:
URL:https://kurzzeitladen.de/event/verkaufsaktion-kurzzeitladen-zwoenitz-7/2026-07-10/
LOCATION:Kurzzeitladen Zwönitz\, Lange Gasse 14\, Zwönitz\, Sachsen\, 09297\, Deutschland
CATEGORIES:Kurzzeitladen Zwönitz
END:VEVENT
BEGIN:VEVENT
DTSTART;TZID=Europe/Berlin:20260711T090000
DTEND;TZID=Europe/Berlin:20260711T120000
DTSTAMP:20260421T105052
CREATED:20260228T100830Z
LAST-MODIFIED:20260228T100921Z
UID:10006142-1783760400-1783771200@kurzzeitladen.de
SUMMARY:Verkaufsaktion Kurzzeitladen Zwönitz
DESCRIPTION:
URL:https://kurzzeitladen.de/event/verkaufsaktion-kurzzeitladen-zwoenitz-3-2/2026-07-11/
LOCATION:Kurzzeitladen Zwönitz\, Lange Gasse 14\, Zwönitz\, Sachsen\, 09297\, Deutschland
CATEGORIES:Kurzzeitladen Zwönitz
END:VEVENT
BEGIN:VEVENT
DTSTART;TZID=Europe/Berlin:20260714T093000
DTEND;TZID=Europe/Berlin:20260714T170000
DTSTAMP:20260421T105052
CREATED:20260228T100228Z
LAST-MODIFIED:20260228T101256Z
UID:10006922-1784021400-1784048400@kurzzeitladen.de
SUMMARY:Verkaufsaktion Kurzzeitladen Zwönitz
DESCRIPTION:
URL:https://kurzzeitladen.de/event/verkaufsaktion-kurzzeitladen-zwoenitz-5/2026-07-14/
LOCATION:Kurzzeitladen Zwönitz\, Lange Gasse 14\, Zwönitz\, Sachsen\, 09297\, Deutschland
CATEGORIES:Kurzzeitladen Zwönitz
END:VEVENT
BEGIN:VEVENT
DTSTART;TZID=Europe/Berlin:20260716T093000
DTEND;TZID=Europe/Berlin:20260716T170000
DTSTAMP:20260421T105052
CREATED:20260228T100427Z
LAST-MODIFIED:20260228T101111Z
UID:10006662-1784194200-1784221200@kurzzeitladen.de
SUMMARY:Verkaufsaktion Kurzzeitladen Zwönitz
DESCRIPTION:
URL:https://kurzzeitladen.de/event/verkaufsaktion-kurzzeitladen-zwoenitz-6/2026-07-16/
LOCATION:Kurzzeitladen Zwönitz\, Lange Gasse 14\, Zwönitz\, Sachsen\, 09297\, Deutschland
CATEGORIES:Kurzzeitladen Zwönitz
END:VEVENT
BEGIN:VEVENT
DTSTART;TZID=Europe/Berlin:20260717T093000
DTEND;TZID=Europe/Berlin:20260717T170000
DTSTAMP:20260421T105052
CREATED:20260228T100613Z
LAST-MODIFIED:20260228T101020Z
UID:10006402-1784280600-1784307600@kurzzeitladen.de
SUMMARY:Verkaufsaktion Kurzzeitladen Zwönitz
DESCRIPTION:
URL:https://kurzzeitladen.de/event/verkaufsaktion-kurzzeitladen-zwoenitz-7/2026-07-17/
LOCATION:Kurzzeitladen Zwönitz\, Lange Gasse 14\, Zwönitz\, Sachsen\, 09297\, Deutschland
CATEGORIES:Kurzzeitladen Zwönitz
END:VEVENT
BEGIN:VEVENT
DTSTART;TZID=Europe/Berlin:20260718T090000
DTEND;TZID=Europe/Berlin:20260718T120000
DTSTAMP:20260421T105052
CREATED:20260228T100830Z
LAST-MODIFIED:20260228T100921Z
UID:10006143-1784365200-1784376000@kurzzeitladen.de
SUMMARY:Verkaufsaktion Kurzzeitladen Zwönitz
DESCRIPTION:
URL:https://kurzzeitladen.de/event/verkaufsaktion-kurzzeitladen-zwoenitz-3-2/2026-07-18/
LOCATION:Kurzzeitladen Zwönitz\, Lange Gasse 14\, Zwönitz\, Sachsen\, 09297\, Deutschland
CATEGORIES:Kurzzeitladen Zwönitz
END:VEVENT
BEGIN:VEVENT
DTSTART;TZID=Europe/Berlin:20260721T093000
DTEND;TZID=Europe/Berlin:20260721T170000
DTSTAMP:20260421T105052
CREATED:20260228T100228Z
LAST-MODIFIED:20260228T101256Z
UID:10006923-1784626200-1784653200@kurzzeitladen.de
SUMMARY:Verkaufsaktion Kurzzeitladen Zwönitz
DESCRIPTION:
URL:https://kurzzeitladen.de/event/verkaufsaktion-kurzzeitladen-zwoenitz-5/2026-07-21/
LOCATION:Kurzzeitladen Zwönitz\, Lange Gasse 14\, Zwönitz\, Sachsen\, 09297\, Deutschland
CATEGORIES:Kurzzeitladen Zwönitz
END:VEVENT
BEGIN:VEVENT
DTSTART;TZID=Europe/Berlin:20260723T093000
DTEND;TZID=Europe/Berlin:20260723T170000
DTSTAMP:20260421T105052
CREATED:20260228T100427Z
LAST-MODIFIED:20260228T101111Z
UID:10006663-1784799000-1784826000@kurzzeitladen.de
SUMMARY:Verkaufsaktion Kurzzeitladen Zwönitz
DESCRIPTION:
URL:https://kurzzeitladen.de/event/verkaufsaktion-kurzzeitladen-zwoenitz-6/2026-07-23/
LOCATION:Kurzzeitladen Zwönitz\, Lange Gasse 14\, Zwönitz\, Sachsen\, 09297\, Deutschland
CATEGORIES:Kurzzeitladen Zwönitz
END:VEVENT
END:VCALENDAR